Workbook
Name _Jen1: 'B1 Housing Units'!#REF!
Name _Jen1: 'B1 Housing Units'!#REF!
Name _Jen1: 'B1 Housing Units'!#REF!
Name _Jen1: 'B1 Housing Units'!#REF!
Name _Jen1: 'B1 Housing Units'!#REF!
Name _Jen1: 'B1 Housing Units'!#REF!
Name _Jen2: 'B1 Housing Units'!#REF!
Name _Jen2: 'B1 Housing Units'!#REF!
Name _Jen2: 'B1 Housing Units'!#REF!
Name _Jen2: 'B1 Housing Units'!#REF!
Name _Jen2: 'B1 Housing Units'!#REF!
Name _Jen2: 'B1 Housing Units'!#REF!
Name _Key1: #REF!
Name _Key1: 'B1 Housing Units'!#REF!
Name _Key1: 'B1 Housing Units'!#REF!
Name _Key1: 'B1 Housing Units'!#REF!
Name _Key1: 'B1 Housing Units'!#REF!
Name _Key1: 'B1 Housing Units'!#REF!
Name _Key1: 'B1 Housing Units'!#REF!
Name _Key1: 'B1 Housing Units'!#REF!
Name _Key1: 'B1 Housing Units'!#REF!
Name _Order1: 255
Name _Sort: #REF!
Name _Sort: 'B1 Housing Units'!#REF!
Name _Sort: 'B1 Housing Units'!#REF!
Name _Sort: 'B1 Housing Units'!#REF!
Name _Sort: 'B1 Housing Units'!#REF!
Name _Sort: 'B1 Housing Units'!#REF!
Name _Sort: 'B1 Housing Units'!#REF!
Name _Sort: 'B1 Housing Units'!#REF!
Name _Sort: 'B1 Housing Units'!#REF!
Name alltxt: [1]ALLINFO!$A$2:$P$6382
Name alltxt: [1]ALLINFO!$A$2:$P$6382
Name d: 'B1 Housing Units'!#REF!
Name d: 'B1 Housing Units'!#REF!
Name d: 'B1 Housing Units'!#REF!
Name d: 'B1 Housing Units'!#REF!
Name nokey: 'B1 Housing Units'!#REF!
Name nokey: 'B1 Housing Units'!#REF!
Name nokey: 'B1 Housing Units'!#REF!
Name nokey: 'B1 Housing Units'!#REF!
Name nokey: 'B1 Housing Units'!#REF!
Name nokey: 'B1 Housing Units'!#REF!
Name nokey: 'B1 Housing Units'!#REF!
Name nokey: 'B1 Housing Units'!#REF!
Name nokey: 'B1 Housing Units'!#REF!
Name test: #REF!
Name test: #REF!
Name test: #REF!
Name test: #REF!
Name test: #REF!
Name test: #REF!
Name test: #REF!
Name test: #REF!
Name test: #REF!
Name update: #REF!,#REF!,#REF!,#REF!,#REF!
Name update: #REF!,#REF!,#REF!,#REF!,#REF!
Name update: #REF!,#REF!,#REF!,#REF!,#REF!
Name update: #REF!,#REF!,#REF!,#REF!,#REF!
Name update: #REF!,#REF!,#REF!,#REF!,#REF!

Sheet DIRECTIONS
A1: When filling in data, be sure not to override any existing formulas.
A4: 2017 CEDS Update
A5: TAB - B4 Purchase Prices-State
A6: Use 2016 FULL YEAR data once available.

Sheet OEP RAW Data
A1: ENTER DATA in ROSE SHADED AREA BELOW | C1: OEP updates its housing data by giving the NET CHANGE in units. In order to get the Housing Estimates (Table B-1), you have to add the # of permit in this table to the previous year's housing stock in Table B-1. Enter raw data in rose shaded area, below.
A4: Total Housing for Towns within Rockinham County RAW DATA
D5: Residential Permits, net change of units
A6: town | B6: county | C6: 2000 Census | D6: 2000 | E6: 2001 | F6: 2002 | G6: 2003 | H6: 2004 | I6: 2005 | J6: 2006 | K6: 2007 | L6: 2008 | M6: 2009 | N6: 2010 Census | O6: 2010 | P6: 2011
A7: Atkinson | B7: RC | C7: 2431 | D7: 76 | E7: 88 | F7: 25 | G7: 24 | H7: 6 | I7: 18 | J7: 6 | K7: 8 | L7: 3 | M7: 3 | N7: 2788 | O7: 6755 | P7: 6741
A8: Auburn | B8: RC | C8: 1622 | D8: 42 | E8: 32 | F8: 29 | G8: 44 | H8: 44 | I8: 0 | J8: 11 | K8: 10 | L8: 6 | M8: 5 | N8: 1814 | O8: 4956 | P8: 4974
A9: Brentwood | B9: RC | C9: 920 | D9: 61 | E9: 88 | F9: 69 | G9: 44 | H9: 39 | I9: 17 | J9: 29 | K9: 13 | L9: 14 | M9: 18 | N9: 1350 | O9: 4489 | P9: 4497
A10: Candia | B10: RC | C10: 1384 | D10: 33 | E10: 33 | F10: 7 | G10: 12 | H10: 7 | I10: 13 | J10: 18 | K10: 5 | L10: 7 | M10: -1 | N10: 1494 | O10: 3911 | P10: 3913
A11: Chester | B11: RC | C11: 1247 | D11: 91 | E11: 79 | F11: 47 | G11: 29 | H11: 34 | I11: 10 | J11: 18 | K11: 8 | L11: 5 | M11: 5 | N11: 1596 | O11: 4771 | P11: 4762
A12: Danville | B12: RC | C12: 1479 | D12: 25 | E12: 31 | F12: 53 | G12: 33 | H12: 41 | I12: 4 | J12: 5 | K12: 16 | L12: 0 | M12: 9 | N12: 1684 | O12: 4389 | P12: 4424
A13: Deerfield | B13: RC | C13: 1406 | D13: 81 | E13: 58 | F13: 30 | G13: 18 | H13: 51 | I13: 43 | J13: 28 | K13: 19 | L13: 11 | M13: 9 | N13: 1743 | O13: 4282 | P13: 4308
A14: Derry | B14: RC | C14: 12735 | D14: 105 | E14: 45 | F14: 55 | G14: 66 | H14: 91 | I14: 77 | J14: 65 | K14: 33 | L14: 68 | M14: 7 | N14: 13277 | O14: 33129 | P14: 33008
A15: East Kingston | B15: RC | C15: 648 | D15: 12 | E15: 13 | F15: 36 | G15: 34 | H15: 52 | I15: 36 | J15: 22 | K15: 18 | L15: 7 | M15: 5 | N15: 907 | O15: 2358 | P15: 2363
A16: Epping | B16: RC | C16: 2215 | D16: 99 | E16: 16 | F16: 40 | G16: 26 | H16: 43 | I16: 60 | J16: 26 | K16: 40 | L16: 61 | M16: 45 | N16: 2723 | O16: 6415 | P16: 5601
A17: Exeter | B17: RC | C17: 6107 | D17: 40 | E17: 26 | F17: 102 | G17: 73 | H17: 72 | I17: 83 | J17: 60 | K17: 55 | L17: 126 | M17: 7 | N17: 6496 | O17: 14314 | P17: 14354
A18: Fremont | B18: RC | C18: 1201 | D18: 61 | E18: 26 | F18: 30 | G18: 54 | H18: 52 | I18: 55 | J18: 10 | K18: 18 | L18: 11 | M18: 8 | N18: 1573 | O18: 4285 | P18: 4316
... A48: Windham | B48: RC | C48: 3906 | D48: 259 | E48: 166 | F48: 103 | G48: 114 | H48: 117 | I48: 72 | J48: 84 | K48: 94 | L48: 50 | M48: 35 | N48: 5164 | O48: 13600 | P48: 13756
A49: Hillsborough County Totals: | C49: 149961 | D49: 1868 | E49: 1768 | F49: 2429 | G49: 2206 | H49: 2142 | I49: 1790 | J49: 1358 | K49: 1048 | L49: 685 | M49: 486 | N49: 166053 | O49: =SUM(O23,O26,O28:O29,O38) -> 157712 | P49: =SUM(P23,P26,P28:P29,P38) -> 157503
A50: Rockingham County Totals: | C50: =SUM(C7:C22,C24:C25,C27,C30:C37,C39:C48) -> 113023 | D50: 2064 | E50: 1576 | F50: 1579 | G50: 2071 | H50: 2019 | I50: 1583 | J50: 944 | K50: 733 | L50: 669 | M50: 432 | N50: 126709 | O50: 295123 | P50: 295608
A51: State of NH Totals: | C51: 546524 | D51: 7544 | E51: 7079 | F51: 8898 | G51: 9263 | H51: 9070 | I51: 7702 | J51: 5728 | K51: 4373 | L51: 3078 | M51: 2160 | N51: 614754 | O51: 1317208 | P51: 1318000
A53: Organize by Region
A55: =A15 -> East Kingston | C55: =C15 -> 648 | D55: =D15 -> 12 | E55: =E15 -> 13 | F55: =F15 -> 36 | G55: =G15 -> 34 | H55: =H15 -> 52 | I55: =I15 -> 36 | J55: =J15 -> 22 | ... P55: =P15 -> 2363
A56: =A17 -> Exeter | C56: =C17 -> 6107 | D56: =D17 -> 40 | E56: =E17 -> 26 | F56: =F17 -> 102 | G56: =G17 -> 73 | H56: =H17 -> 72 | I56: =I17 -> 83 | J56: =J17 -> 60 | ... P56: =P17 -> 14354
A57: =A19 -> Greenland | C57: =C19 -> 1244 | D57: =D19 -> 28 | E57: =E19 -> 18 | F57: =F19 -> 22 | G57: =G19 -> 15 | H57: =H19 -> 8 | I57: =I19 -> 15 | J57: =J19 -> 14 | ... P57: =P19 -> 3586
A58: =A21 -> Hampton | C58: =C21 -> 9349 | D58: =D21 -> 52 | E58: =E21 -> 43 | F58: =F21 -> 122 | G58: =G21 -> 106 | H58: =H21 -> 108 | I58: =I21 -> 54 | J58: =J21 -> 36 | ... P58: =P21 -> 14868
A59: =A22 -> Hampton Falls | C59: =C22 -> 729 | D59: =D22 -> 13 | E59: =E22 -> 11 | F59: =F22 -> 18 | G59: =G22 -> 11 | H59: =H22 -> 18 | I59: =I22 -> 16 | J59: =J22 -> 23 | ... P59: =P22 -> 2235
A60: =A24 -> Kensington | C60: =C24 -> 672 | D60: =D24 -> 12 | E60: =E24 -> 22 | F60: =F24 -> 10 | G60: =G24 -> 20 | H60: =H24 -> 10 | I60: =I24 -> 15 | J60: =J24 -> 8 | ... P60: =P24 -> 2121
A61: =A30 -> New Castle | C61: =C30 -> 488 | D61: =D30 -> 3 | E61: =E30 -> 2 | F61: =F30 -> 5 | G61: =G30 -> 12 | H61: =H30 -> 1 | I61: =I30 -> 1 | J61: =J30 -> 4 | ... P61: =P30 -> 967
A62: =A31 -> Newfields | C62: =C31 -> 532 | D62: =D31 -> 8 | E62: =E31 -> 8 | F62: =F31 -> 10 | G62: =G31 -> 8 | H62: =H31 -> 2 | I62: =I31 -> 8 | J62: =J31 -> 11 | ... P62: =P31 -> 1678
A63: =A32 -> Newington | C63: =C32 -> 305 | D63: =D32 -> 4 | E63: =E32 -> 3 | F63: =F32 -> 0 | G63: =G32 -> 1 | H63: =H32 -> 7 | I63: =I32 -> 1 | J63: =J32 -> 0 | ... P63: =P32 -> 753
A64: =A33 -> Newmarket | C64: =C33 -> 3457 | D64: =D33 -> 81 | E64: =E33 -> 117 | F64: =F33 -> 130 | G64: =G33 -> 179 | H64: =H33 -> 112 | I64: =I33 -> 86 | J64: =J33 -> 19 | ... P64: =P33 -> 8950
A65: =A35 -> North Hampton | C65: =C35 -> 1782 | D65: =D35 -> 57 | E65: =E35 -> 20 | F65: =F35 -> 17 | G65: =G35 -> 13 | H65: =H35 -> 15 | I65: =I35 -> 5 | J65: =J35 -> 8 | ... P65: =P35 -> 4324
A66: =A40 -> Portsmouth | C66: =C40 -> 10186 | D66: =D40 -> 38 | E66: =E40 -> 30 | F66: =F40 -> 41 | G66: =G40 -> 68 | H66: =H40 -> 55 | I66: =I40 -> 77 | J66: =J40 -> 21 | ... P66: =P40 -> 21206
A67: =A42 -> Rye | C67: =C42 -> 2645 | D67: =D42 -> 17 | E67: =E42 -> 8 | F67: =F42 -> 13 | G67: =G42 -> 6 | H67: =H42 -> 15 | I67: =I42 -> 11 | J67: =J42 -> 0 | ... P67: =P42 -> 5324
A68: =A45 -> Seabrook | C68: =C45 -> 4066 | D68: =D45 -> 93 | E68: =E45 -> 88 | F68: =F45 -> 48 | G68: =G45 -> 27 | H68: =H45 -> 36 | I68: =I45 -> 95 | J68: =J45 -> 0 | ... P68: =P45 -> 8697
A69: =A46 -> South Hampton | C69: =C46 -> 308 | D69: =D46 -> 5 | E69: =E46 -> 4 | F69: =F46 -> 4 | G69: =G46 -> 2 | H69: =H46 -> 6 | I69: =I46 -> 3 | J69: =J46 -> 2 | ... P69: =P46 -> 813
A70: =A47 -> Stratham | C70: =C47 -> 2371 | D70: =D47 -> 52 | E70: =E47 -> 39 | F70: =F47 -> 56 | G70: =G47 -> 79 | H70: =H47 -> 95 | I70: =I47 -> 50 | J70: =J47 -> 32 | ... P70: =P47 -> 7245
A71: CEDS Eastern Towns Totals: | C71: =SUM(C55:C70) -> 44889 | D71: =SUM(D55:D70) -> 515 | E71: =SUM(E55:E70) -> 452 | F71: =SUM(F55:F70) -> 634 | G71: =SUM(G55:G70) -> 654 | H71: =SUM(H55:H70) -> 612 | I71: =SUM(I55:I70) -> 556 | J71: =SUM(J55:J70) -> 260 | ... P71: =SUM(P55:P70) -> 99484
A72: =A7 -> Atkinson | C72: =C7 -> 2431 | D72: =D7 -> 76 | E72: =E7 -> 88 | F72: =F7 -> 25 | G72: =G7 -> 24 | H72: =H7 -> 6 | I72: =I7 -> 18 | J72: =J7 -> 6 | ... P72: =P7 -> 6741
A73: =A8 -> Auburn | C73: =C8 -> 1622 | D73: =D8 -> 42 | E73: =E8 -> 32 | F73: =F8 -> 29 | G73: =G8 -> 44 | H73: =H8 -> 44 | I73: =I8 -> 0 | J73: =J8 -> 11 | ... P73: =P8 -> 4974
A74: =A9 -> Brentwood | C74: =C9 -> 920 | D74: =D9 -> 61 | E74: =E9 -> 88 | F74: =F9 -> 69 | G74: =G9 -> 44 | H74: =H9 -> 39 | I74: =I9 -> 17 | J74: =J9 -> 29 | ... P74: =P9 -> 4497
A75: =A10 -> Candia | C75: =C10 -> 1384 | D75: =D10 -> 33 | E75: =E10 -> 33 | F75: =F10 -> 7 | G75: =G10 -> 12 | H75: =H10 -> 7 | I75: =I10 -> 13 | J75: =J10 -> 18 | ... P75: =P10 -> 3913
A76: =A11 -> Chester | C76: =C11 -> 1247 | D76: =D11 -> 91 | E76: =E11 -> 79 | F76: =F11 -> 47 | G76: =G11 -> 29 | H76: =H11 -> 34 | I76: =I11 -> 10 | J76: =J11 -> 18 | ... P76: =P11 -> 4762
A77: =A12 -> Danville | C77: =C12 -> 1479 | D77: =D12 -> 25 | E77: =E12 -> 31 | F77: =F12 -> 53 | G77: =G12 -> 33 | H77: =H12 -> 41 | I77: =I12 -> 4 | J77: =J12 -> 5 | ... P77: =P12 -> 4424
A78: =A13 -> Deerfield | C78: =C13 -> 1406 | D78: =D13 -> 81 | E78: =E13 -> 58 | F78: =F13 -> 30 | G78: =G13 -> 18 | H78: =H13 -> 51 | I78: =I13 -> 43 | J78: =J13 -> 28 | ... P78: =P13 -> 4308
A79: =A16 -> Epping | C79: =C16 -> 2215 | D79: =D16 -> 99 | E79: =E16 -> 16 | F79: =F16 -> 40 | G79: =G16 -> 26 | H79: =H16 -> 43 | I79: =I16 -> 60 | J79: =J16 -> 26 | ... P79: =P16 -> 5601
A80: =A18 -> Fremont | C80: =C18 -> 1201 | D80: =D18 -> 61 | E80: =E18 -> 26 | F80: =F18 -> 30 | G80: =G18 -> 54 | H80: =H18 -> 52 | I80: =I18 -> 55 | J80: =J18 -> 10 | ... P80: =P18 -> 4316
A81: =A20 -> Hampstead | C81: =C20 -> 3276 | D81: =D20 -> 30 | E81: =E20 -> 14 | F81: =F20 -> 43 | G81: =G20 -> 71 | H81: =H20 -> 34 | I81: =I20 -> 92 | J81: =J20 -> 66 | ... P81: =P20 -> 8526
A82: =A25 -> Kingston | C82: =C25 -> 2265 | D82: =D25 -> 85 | E82: =E25 -> 7 | F82: =F25 -> 18 | G82: =G25 -> 40 | H82: =H25 -> 24 | I82: =I25 -> 26 | J82: =J25 -> 20 | ... P82: =P25 -> 6010
A83: =A34 -> Newton | C83: =C34 -> 1552 | D83: =D34 -> 52 | E83: =E34 -> 11 | F83: =F34 -> 8 | G83: =G34 -> 7 | H83: =H34 -> 10 | I83: =I34 -> 40 | J83: =J34 -> 11 | ... P83: =P34 -> 4661
A84: =A36 -> Northwood | C84: =C36 -> 1905 | D84: =D36 -> 28 | E84: =E36 -> 17 | F84: =F36 -> 31 | G84: =G36 -> 65 | H84: =H36 -> 70 | I84: =I36 -> 69 | J84: =J36 -> 29 | ... P84: =P36 -> 4235
A85: =A37 -> Nottingham | C85: =C37 -> 1592 | D85: =D37 -> 42 | E85: =E37 -> 41 | F85: =F37 -> 55 | G85: =G37 -> 74 | H85: =H37 -> 103 | I85: =I37 -> 51 | J85: =J37 -> 35 | ... P85: =P37 -> 4813
A86: =A39 -> Plaistow | C86: =C39 -> 2927 | D86: =D39 -> 17 | E86: =E39 -> 16 | F86: =F39 -> 25 | G86: =G39 -> 5 | H86: =H39 -> 0 | I86: =I39 -> 6 | J86: =J39 -> 3 | ... P86: =P39 -> 7584
A87: =A41 -> Raymond | C87: =C41 -> 3710 | D87: =D41 -> 81 | E87: =E41 -> 51 | F87: =F41 -> 74 | G87: =G41 -> 81 | H87: =H41 -> 141 | I87: =I41 -> 125 | J87: =J41 -> 42 | ... P87: =P41 -> 10185
A88: =A44 -> Sandown | C88: =C44 -> 1777 | D88: =D44 -> 17 | E88: =E44 -> 61 | F88: =F44 -> 70 | G88: =G44 -> 53 | H88: =H44 -> 73 | I88: =I44 -> 43 | J88: =J44 -> 29 | ... P88: =P44 -> 6076
A89: CEDS Central Towns Totals: | C89: =SUM(C72:C88) -> 32909 | D89: =SUM(D72:D88) -> 921 | E89: =SUM(E72:E88) -> 669 | F89: =SUM(F72:F88) -> 654 | G89: =SUM(G72:G88) -> 680 | H89: =SUM(H72:H88) -> 772 | I89: =SUM(I72:I88) -> 672 | J89: =SUM(J72:J88) -> 386 | ... P89: =SUM(P72:P88) -> 95626
A90: =A14 -> Derry | C90: =C14 -> 12735 | D90: =D14 -> 105 | E90: =E14 -> 45 | F90: =F14 -> 55 | G90: =G14 -> 66 | H90: =H14 -> 91 | I90: =I14 -> 77 | J90: =J14 -> 65 | ... P90: =P14 -> 33008
A91: =A23 -> Hudson | B91: =B23 -> HC | C91: =C23 -> 8165 | D91: =D23 -> 48 | E91: =E23 -> 118 | F91: =F23 -> 214 | G91: =G23 -> 177 | H91: =H23 -> 140 | ... P91: =P23 -> 24514
A92: =A26 -> Litchfield | B92: =B26 -> HC | C92: =C26 -> 2389 | D92: =D26 -> 71 | E92: =E26 -> 17 | F92: =F26 -> 64 | G92: =G26 -> 66 | H92: =H26 -> 66 | ... P92: =P26 -> 8275
A93: =A27 -> Londonderry | C93: =C27 -> 7718 | D93: =D27 -> 146 | E93: =E27 -> 108 | F93: =F27 -> 40 | G93: =G27 -> 133 | H93: =H27 -> 175 | I93: =I27 -> 85 | J93: =J27 -> 91 | ... P93: =P27 -> 24132
A94: =A28 -> Merrimack | B94: =B28 -> HC | C94: =C28 -> 8959 | D94: =D28 -> 185 | E94: =E28 -> 239 | F94: =F28 -> 72 | G94: =G28 -> 97 | H94: =H28 -> 97 | ... P94: =P28 -> 25454
A95: =A29 -> Nashua | B95: =B29 -> HC | C95: =C29 -> 35387 | D95: =D29 -> 195 | E95: =E29 -> 155 | F95: =F29 -> 114 | G95: =G29 -> 338 | H95: =H29 -> 173 | ... P95: =P29 -> 86366
A96: =A38 -> Pelham | B96: =B38 -> HC | C96: =C38 -> 3740 | D96: =D38 -> 112 | E96: =E38 -> 115 | F96: =F38 -> 158 | G96: =G38 -> 119 | H96: =H38 -> 83 | ... P96: =P38 -> 12894
A97: =A43 -> Salem | C97: =C43 -> 10866 | D97: =D43 -> 118 | E97: =E43 -> 136 | F97: =F43 -> 93 | G97: =G43 -> 424 | H97: =H43 -> 252 | I97: =I43 -> 121 | J97: =J43 -> 58 | ... P97: =P43 -> 28702
A98: =A48 -> Windham | C98: =C48 -> 3906 | D98: =D48 -> 259 | E98: =E48 -> 166 | F98: =F48 -> 103 | G98: =G48 -> 114 | H98: =H48 -> 117 | I98: =I48 -> 72 | J98: =J48 -> 84 | ... P98: =P48 -> 13756
A99: CEDS Western Towns Totals: | C99: =SUM(C90:C98) -> 93865 | D99: =SUM(D90:D98) -> 1239 | E99: =SUM(E90:E98) -> 1099 | F99: =SUM(F90:F98) -> 913 | G99: =SUM(G90:G98) -> 1534 | H99: =SUM(H90:H98) -> 1194 | I99: =SUM(I90:I98) -> 929 | J99: =SUM(J90:J98) -> 724 | ... P99: =SUM(P90:P98) -> 257101
A100: REDC CEDS Region Totals: | C100: =SUM(C99,C89,C71) -> 171663 | D100: =SUM(D99,D89,D71) -> 2675 | E100: =SUM(E99,E89,E71) -> 2220 | F100: =SUM(F99,F89,F71) -> 2201 | G100: =SUM(G99,G89,G71) -> 2868 | H100: =SUM(H99,H89,H71) -> 2578 | I100: =SUM(I99,I89,I71) -> 2157 | J100: =SUM(J99,J89,J71) -> 1370 | ... P100: =SUM(P99,P89,P71) -> 452211
A101: =A49 -> Hillsborough County Totals: | C101: =C49 -> 149961 | D101: =D49 -> 1868 | E101: =E49 -> 1768 | F101: =F49 -> 2429 | G101: =G49 -> 2206 | H101: =H49 -> 2142 | I101: =I49 -> 1790 | J101: =J49 -> 1358 | ... P101: =P49 -> 157503
A102: =A50 -> Rockingham County Totals: | C102: =C50 -> 113023 | D102: =D50 -> 2064 | E102: =E50 -> 1576 | F102: =F50 -> 1579 | G102: =G50 -> 2071 | H102: =H50 -> 2019 | I102: =I50 -> 1583 | J102: =J50 -> 944 | ... P102: =P50 -> 295608
A103: =A51 -> State of NH Totals: | C103: =C51 -> 546524 | D103: =D51 -> 7544 | E103: =E51 -> 7079 | F103: =F51 -> 8898 | G103: =G51 -> 9263 | H103: =H51 -> 9070 | I103: =I51 -> 7702 | J103: =J51 -> 5728 | ... P103: =P51 -> 1318000

Sheet B1 Housing Units
A1: Table B-1 Housing Units -- Census Counts and Housing Estimates | AF1: 2012 CEDS Update | AT1: USED IN 2009 CEDS UPDATE
B2: Hide these columns for final reporting. | G2: Housing Units | K2: Avg. Annual Growth Rate | N2: Avg P/unit, Census Housing | P2: Avg. Persons/Unit (NH OEP) | W2: NHOEP Housing Estimates | AK2: POPULATION FROM OEP ** COPY AND PASTE FROM TABLE A-population | AT2: Recent Unit Growth | AW2: 2-year annualized growth
B3: SORT FUNCTIONS | G3: (US Census counts--all units) | AK3: 1980 | AL3: 1990 | AM3: 2000 | AN3: 2006 | AO3: 2007 | AP3: 2008 | AQ3: 2009 | AR3: 2010 | AT3: 2000-2007 | AW3: 2005-2007
A4: TOWN/AREA | B4: muni | C4: county | D4: NECTA | E4: cedssub | F4: rpa | G4: 1980 | H4: 1990 | I4: 2000 | J4: 2010 | K4: '80-'90 | L4: '90-'00 | M4: '00-'10 | N4: 1980 | O4: 1990 | P4: 2000 | Q4: 2006 | R4: 2007 | S4: 2008 | T4: 2009 | U4: 2010 | V4: 2011 | W4: 2000 | X4: 2001 | Y4: 2002 | Z4: 2003 | AA4: 2004 | AB4: 2005 | AC4: 2006 | AD4: 2007 | AE4: 2008 | AF4: 2009 | AG4: 2010 | AH4: 2011 | AT4: Units | AU4: Avg. An. Gr.
A5: ='OEP RAW Data'!A55 -> East Kingston | B5: 1 | C5: RC | D5: 23 | E5: E | F5: RPC | G5: 362 | H5: 494 | I5: ='OEP RAW Data'!C55 -> 648 | J5: ='OEP RAW Data'!N55 -> 907 | K5: =(H5/G5)^(1/(1990-1980))-1 -> 0.031577445 | L5: =(I5/H5)^(1/(2000-1990))-1 -> 0.027507039 | M5: =(J5/I5)^(1/(2010-2000))-1 -> 0.034196892 | N5: =AK5/G5 -> 3.1353591 | O5: =AL5/H5 -> 2.7368421 | P5: =AM5/W5 -> 2.7030303 | Q5: =AN5/AC5 -> 2.5568581 | R5: =AO5/AD5 -> 2.5510907 | S5: =AP5/AE5 -> 2.5694761 | T5: =AQ5/AF5 -> 2.583239 | W5: ='OEP RAW Data'!C55+'OEP RAW Data'!D55 -> 660 | X5: =W5+'OEP RAW Data'!E55 -> 673 | Y5: =X5+'OEP RAW Data'!F55 -> 709 | Z5: =Y5+'OEP RAW Data'!G55 -> 743 | AA5: =Z5+'OEP RAW Data'!H55 -> 795 | AB5: =AA5+'OEP RAW Data'!I55 -> 831 | AC5: =AB5+'OEP RAW Data'!J55 -> 853 | AD5: =AC5+'OEP RAW Data'!K55 -> 871 | AE5: =AD5+'OEP RAW Data'!L55 -> 878 | AF5: =AE5+'OEP RAW Data'!M55 -> 883 | AK5: 1135 | AL5: 1352 | AM5: 1784 | AN5: 2181 | AO5: 2222 | AP5: 2256 | AQ5: 2281 | AT5: =AD5-W5 -> 211 | AU5: =(AD5/W5)^(1/7)-1 -> 0.040424577 | AW5: =(AD5/AB5)^(1/2)-1 -> 0.023784537
A6: ='OEP RAW Data'!A56 -> Exeter | B6: 1 | C6: RC | D6: 23 | E6: E | F6: RPC | G6: 4406 | H6: 5346 | I6: ='OEP RAW Data'!C56 -> 6107 | J6: ='OEP RAW Data'!N56 -> 6496 | K6: =(H6/G6)^(1/(1990-1980))-1 -> 0.01952633 | L6: =(I6/H6)^(1/(2000-1990))-1 -> 0.013397659 | M6: =(J6/I6)^(1/(2010-2000))-1 -> 0.0061942001 | N6: =AK6/G6 -> 2.5020427 | O6: =AL6/H6 -> 2.3346427 | P6: =AM6/W6 -> 2.2869693 | Q6: =AN6/AC6 -> 2.2146884 | R6: =AO6/AD6 -> 2.1959807 | S6: =AP6/AE6 -> 2.1496145 | T6: =AQ6/AF6 -> 2.1888609 | W6: ='OEP RAW Data'!C56+'OEP RAW Data'!D56 -> 6147 | X6: =W6+'OEP RAW Data'!E56 -> 6173 | Y6: =X6+'OEP RAW Data'!F56 -> 6275 | Z6: =Y6+'OEP RAW Data'!G56 -> 6348 | AA6: =Z6+'OEP RAW Data'!H56 -> 6420 | AB6: =AA6+'OEP RAW Data'!I56 -> 6503 | AC6: =AB6+'OEP RAW Data'!J56 -> 6563 | AD6: =AC6+'OEP RAW Data'!K56 -> 6618 | AE6: =AD6+'OEP RAW Data'!L56 -> 6744 | AF6: =AE6+'OEP RAW Data'!M56 -> 6751 | AK6: 11024 | AL6: 12481 | AM6: 14058 | AN6: 14535 | AO6: 14533 | AP6: 14497 | AQ6: 14777 | AT6: =AD6-W6 -> 471 | AU6: =(AD6/W6)^(1/7)-1 -> 0.010602823 | AW6: =(AD6/AB6)^(1/2)-1 -> 0.0088033236
A7: ='OEP RAW Data'!A57 -> Greenland | B7: 1 | C7: RC | D7: 24 | E7: E | F7: RPC | G7: 728 | H7: 1082 | I7: ='OEP RAW Data'!C57 -> 1244 | J7: ='OEP RAW Data'!N57 -> 1443 | K7: =(H7/G7)^(1/(1990-1980))-1 -> 0.040422147 | L7: =(I7/H7)^(1/(2000-1990))-1 -> 0.014049866 | M7: =(J7/I7)^(1/(2010-2000))-1 -> 0.014949877 | N7: =AK7/G7 -> 2.9244505 | O7: =AL7/H7 -> 2.5582255 | P7: =AM7/W7 -> 2.5220126 | Q7: =AN7/AC7 -> 2.4802053 | R7: =AO7/AD7 -> 2.4496741 | S7: =AP7/AE7 -> 2.4414932 | T7: =AQ7/AF7 -> 2.4417614 | W7: ='OEP RAW Data'!C57+'OEP RAW Data'!D57 -> 1272 | X7: =W7+'OEP RAW Data'!E57 -> 1290 | Y7: =X7+'OEP RAW Data'!F57 -> 1312 | Z7: =Y7+'OEP RAW Data'!G57 -> 1327 | AA7: =Z7+'OEP RAW Data'!H57 -> 1335 | AB7: =AA7+'OEP RAW Data'!I57 -> 1350 | AC7: =AB7+'OEP RAW Data'!J57 -> 1364 | AD7: =AC7+'OEP RAW Data'!K57 -> 1381 | AE7: =AD7+'OEP RAW Data'!L57 -> 1393 | AF7: =AE7+'OEP RAW Data'!M57 -> 1408 | AK7: 2129 | AL7: 2768 | AM7: 3208 | AN7: 3383 | AO7: 3383 | AP7: 3401 | AQ7: 3438 | AT7: =AD7-W7 -> 109 | AU7: =(AD7/W7)^(1/7)-1 -> 0.011814592 | AW7: =(AD7/AB7)^(1/2)-1 -> 0.011416315
A8: ='OEP RAW Data'!A58 -> Hampton | B8: 1 | C8: RC | D8: 24 | E8: E | F8: RPC | G8: 4437 | H8: 8599 | I8: ='OEP RAW Data'!C58 -> 9349 | J8: ='OEP RAW Data'!N58 -> 9921 | K8: =(H8/G8)^(1/(1990-1980))-1 -> 0.068404853 | L8: =(I8/H8)^(1/(2000-1990))-1 -> 0.0083974089 | M8: =(J8/I8)^(1/(2010-2000))-1 -> 0.0059561011 | N8: =AK8/G8 -> 2.3648862 | O8: =AL8/H8 -> 1.4278404 | P8: =AM8/W8 -> 1.5888735 | Q8: =AN8/AC8 -> 1.547923 | R8: =AO8/AD8 -> 1.538033 | S8: =AP8/AE8 -> 1.6202122 | T8: =AQ8/AF8 -> 1.5207345 | W8: ='OEP RAW Data'!C58+'OEP RAW Data'!D58 -> 9401 | X8: =W8+'OEP RAW Data'!E58 -> 9444 | Y8: =X8+'OEP RAW Data'!F58 -> 9566 | Z8: =Y8+'OEP RAW Data'!G58 -> 9672 | AA8: =Z8+'OEP RAW Data'!H58 -> 9780 | AB8: =AA8+'OEP RAW Data'!I58 -> 9834 | AC8: =AB8+'OEP RAW Data'!J58 -> 9870 | AD8: =AC8+'OEP RAW Data'!K58 -> 9873 | AE8: =AD8+'OEP RAW Data'!L58 -> 9895 | AF8: =AE8+'OEP RAW Data'!M58 -> 9911 | AK8: 10493 | AL8: 12278 | AM8: 14937 | AN8: 15278 | AO8: 15185 | AP8: 16032 | AQ8: 15072 | AT8: =AD8-W8 -> 472 | AU8: =(AD8/W8)^(1/7)-1 -> 0.0070227866 | AW8: =(AD8/AB8)^(1/2)-1 -> 0.0019809543
A9: ='OEP RAW Data'!A59 -> Hampton Falls | B9: 1 | C9: RC | D9: 23 | E9: E | F9: RPC | G9: 483 | H9: 591 | I9: ='OEP RAW Data'!C59 -> 729 | J9: ='OEP RAW Data'!N59 -> 900 | K9: =(H9/G9)^(1/(1990-1980))-1 -> 0.020384928 | L9: =(I9/H9)^(1/(2000-1990))-1 -> 0.021207521 | M9: =(J9/I9)^(1/(2010-2000))-1 -> 0.021295688 | N9: =AK9/G9 -> 2.8405797 | O9: =AL9/H9 -> 2.5431472 | P9: =AM9/W9 -> 2.5336927 | Q9: =AN9/AC9 -> 2.4457688 | R9: =AO9/AD9 -> 2.4557261 | S9: =AP9/AE9 -> 2.4471831 | T9: =AQ9/AF9 -> 2.4584795 | W9: ='OEP RAW Data'!C59+'OEP RAW Data'!D59 -> 742 | X9: =W9+'OEP RAW Data'!E59 -> 753 | Y9: =X9+'OEP RAW Data'!F59 -> 771 | Z9: =Y9+'OEP RAW Data'!G59 -> 782 | AA9: =Z9+'OEP RAW Data'!H59 -> 800 | AB9: =AA9+'OEP RAW Data'!I59 -> 816 | AC9: =AB9+'OEP RAW Data'!J59 -> 839 | AD9: =AC9+'OEP RAW Data'!K59 -> 847 | AE9: =AD9+'OEP RAW Data'!L59 -> 852 | AF9: =AE9+'OEP RAW Data'!M59 -> 855 | AK9: 1372 | AL9: 1503 | AM9: 1880 | AN9: 2052 | AO9: 2080 | AP9: 2085 | AQ9: 2102 | AT9: =AD9-W9 -> 105 | AU9: =(AD9/W9)^(1/7)-1 -> 0.019087226 | AW9: =(AD9/AB9)^(1/2)-1 -> 0.018818039
A10: ='OEP RAW Data'!A60 -> Kensington | B10: 1 | C10: RC | D10: 23 | E10: E | F10: RPC | G10: 450 | H10: 585 | I10: ='OEP RAW Data'!C60 -> 672 | J10: ='OEP RAW Data'!N60 -> 806 | K10: =(H10/G10)^(1/(1990-1980))-1 -> 0.026583631 | L10: =(I10/H10)^(1/(2000-1990))-1 -> 0.013961209 | M10: =(J10/I10)^(1/(2010-2000))-1 -> 0.018348849 | N10: =AK10/G10 -> 2.9377778 | O10: =AL10/H10 -> 2.7880342 | P10: =AM10/W10 -> 2.7675439 | Q10: =AN10/AC10 -> 2.716515 | R10: =AO10/AD10 -> 2.6911197 | S10: =AP10/AE10 -> 2.6897436 | T10: =AQ10/AF10 -> 2.7051282 | W10: ='OEP RAW Data'!C60+'OEP RAW Data'!D60 -> 684 | X10: =W10+'OEP RAW Data'!E60 -> 706 | Y10: =X10+'OEP RAW Data'!F60 -> 716 | Z10: =Y10+'OEP RAW Data'!G60 -> 736 | AA10: =Z10+'OEP RAW Data'!H60 -> 746 | AB10: =AA10+'OEP RAW Data'!I60 -> 761 | AC10: =AB10+'OEP RAW Data'!J60 -> 769 | AD10: =AC10+'OEP RAW Data'!K60 -> 777 | AE10: =AD10+'OEP RAW Data'!L60 -> 780 | AF10: =AE10+'OEP RAW Data'!M60 -> 780 | AK10: 1322 | AL10: 1631 | AM10: 1893 | AN10: 2089 | AO10: 2091 | AP10: 2098 | AQ10: 2110 | AT10: =AD10-W10 -> 93 | AU10: =(AD10/W10)^(1/7)-1 -> 0.018378622 | AW10: =(AD10/AB10)^(1/2)-1 -> 0.010457801
A11: ='OEP RAW Data'!A61 -> New Castle | B11: 1 | C11: RC | D11: 24 | E11: E | F11: RPC | G11: 357 | H11: 399 | I11: ='OEP RAW Data'!C61 -> 488 | J11: ='OEP RAW Data'!N61 -> 537 | K11: =(H11/G11)^(1/(1990-1980))-1 -> 0.011184649 | L11: =(I11/H11)^(1/(2000-1990))-1 -> 0.020339484 | M11: =(J11/I11)^(1/(2010-2000))-1 -> 0.0096141911 | N11: =AK11/G11 -> 2.6218487 | O11: =AL11/H11 -> 2.1052632 | P11: =AM11/W11 -> 2.0570265 | Q11: =AN11/AC11 -> 1.9844961 | R11: =AO11/AD11 -> 1.972973 | S11: =AP11/AE11 -> 1.9614644 | T11: =AQ11/AF11 -> 1.9635317 | W11: ='OEP RAW Data'!C61+'OEP RAW Data'!D61 -> 491 | X11: =W11+'OEP RAW Data'!E61 -> 493 | Y11: =X11+'OEP RAW Data'!F61 -> 498 | Z11: =Y11+'OEP RAW Data'!G61 -> 510 | AA11: =Z11+'OEP RAW Data'!H61 -> 511 | AB11: =AA11+'OEP RAW Data'!I61 -> 512 | AC11: =AB11+'OEP RAW Data'!J61 -> 516 | AD11: =AC11+'OEP RAW Data'!K61 -> 518 | AE11: =AD11+'OEP RAW Data'!L61 -> 519 | AF11: =AE11+'OEP RAW Data'!M61 -> 521 | AK11: 936 | AL11: 840 | AM11: 1010 | AN11: 1024 | AO11: 1022 | AP11: 1018 | AQ11: 1023 | AT11: =AD11-W11 -> 27 | AU11: =(AD11/W11)^(1/7)-1 -> 0.0076766174 | AW11: =(AD11/AB11)^(1/2)-1 -> 0.0058423087
A12: ='OEP RAW Data'!A62 -> Newfields | B12: 1 | C12: RC | D12: 23 | E12: E | F12: RPC | G12: 301 | H12: 324 | I12: ='OEP RAW Data'!C62 -> 532 | J12: ='OEP RAW Data'!N62 -> 591 | K12: =(H12/G12)^(1/(1990-1980))-1 -> 0.007390501 | L12: =(I12/H12)^(1/(2000-1990))-1 -> 0.050840161 | M12: =(J12/I12)^(1/(2010-2000))-1 -> 0.010572754 | N12: =AK12/G12 -> 2.7142857 | O12: =AL12/H12 -> 2.7407407 | P12: =AM12/W12 -> 2.8722222 | Q12: =AN12/AC12 -> 2.7836457 | R12: =AO12/AD12 -> 2.7777778 | S12: =AP12/AE12 -> 2.7755444 | T12: =AQ12/AF12 -> 2.7833333 | W12: ='OEP RAW Data'!C62+'OEP RAW Data'!D62 -> 540 | X12: =W12+'OEP RAW Data'!E62 -> 548 | Y12: =X12+'OEP RAW Data'!F62 -> 558 | Z12: =Y12+'OEP RAW Data'!G62 -> 566 | AA12: =Z12+'OEP RAW Data'!H62 -> 568 | AB12: =AA12+'OEP RAW Data'!I62 -> 576 | AC12: =AB12+'OEP RAW Data'!J62 -> 587 | AD12: =AC12+'OEP RAW Data'!K62 -> 594 | AE12: =AD12+'OEP RAW Data'!L62 -> 597 | AF12: =AE12+'OEP RAW Data'!M62 -> 600 | AK12: 817 | AL12: 888 | AM12: 1551 | AN12: 1634 | AO12: 1650 | AP12: 1657 | AQ12: 1670 | AT12: =AD12-W12 -> 54 | AU12: =(AD12/W12)^(1/7)-1 -> 0.013708856 | AW12: =(AD12/AB12)^(1/2)-1 -> 0.015504801
A13: ='OEP RAW Data'!A63 -> Newington | B13: 1 | C13: RC | D13: 16 | E13: E | F13: RPC | G13: 257 | H13: 320 | I13: ='OEP RAW Data'!C63 -> 305 | J13: ='OEP RAW Data'!N63 -> 322 | K13: =(H13/G13)^(1/(1990-1980))-1 -> 0.022166599 | L13: =(I13/H13)^(1/(2000-1990))-1 -> -0.0047894159 | M13: =(J13/I13)^(1/(2010-2000))-1 -> 0.0054387133 | N13: =AK13/G13 -> 2.7859922 | O13: =AL13/H13 -> 3.09375 | P13: =AM13/W13 -> 2.5080906 | Q13: =AN13/AC13 -> 2.4766355 | R13: =AO13/AD13 -> 2.4365325 | S13: =AP13/AE13 -> 2.4290123 | T13: =AQ13/AF13 -> 2.4489164 | W13: ='OEP RAW Data'!C63+'OEP RAW Data'!D63 -> 309 | X13: =W13+'OEP RAW Data'!E63 -> 312 | Y13: =X13+'OEP RAW Data'!F63 -> 312 | Z13: =Y13+'OEP RAW Data'!G63 -> 313 | AA13: =Z13+'OEP RAW Data'!H63 -> 320 | AB13: =AA13+'OEP RAW Data'!I63 -> 321 | AC13: =AB13+'OEP RAW Data'!J63 -> 321 | AD13: =AC13+'OEP RAW Data'!K63 -> 323 | AE13: =AD13+'OEP RAW Data'!L63 -> 324 | AF13: =AE13+'OEP RAW Data'!M63 -> 323 | AK13: 716 | AL13: 990 | AM13: 775 | AN13: 795 | AO13: 787 | AP13: 787 | AQ13: 791 | AT13: =AD13-W13 -> 14 | AU13: =(AD13/W13)^(1/7)-1 -> 0.0063502272 | AW13: =(AD13/AB13)^(1/2)-1 -> 0.0031104274
A14: ='OEP RAW Data'!A64 -> Newmarket | B14: 1 | C14: RC | D14: U | E14: E | F14: SRPC | G14: 1832 | H14: 3285 | I14: ='OEP RAW Data'!C64 -> 3457 | J14: ='OEP RAW Data'!N64 -> 4139 | K14: =(H14/G14)^(1/(1990-1980))-1 -> 0.060134555 | L14: =(I14/H14)^(1/(2000-1990))-1 -> 0.0051164957 | M14: =(J14/I14)^(1/(2010-2000))-1 -> 0.018168378 | N14: =AK14/G14 -> 2.3417031 | O14: =AL14/H14 -> 2.178691 | P14: =AM14/W14 -> 2.2687959 | Q14: =AN14/AC14 -> 2.2379813 | R14: =AO14/AD14 -> 2.2276967 | S14: =AP14/AE14 -> 2.2075472 | T14: =AQ14/AF14 -> 2.214371 | W14: ='OEP RAW Data'!C64+'OEP RAW Data'!D64 -> 3538 | X14: =W14+'OEP RAW Data'!E64 -> 3655 | Y14: =X14+'OEP RAW Data'!F64 -> 3785 | Z14: =Y14+'OEP RAW Data'!G64 -> 3964 | AA14: =Z14+'OEP RAW Data'!H64 -> 4076 | AB14: =AA14+'OEP RAW Data'!I64 -> 4162 | AC14: =AB14+'OEP RAW Data'!J64 -> 4181 | AD14: =AC14+'OEP RAW Data'!K64 -> 4181 | AE14: =AD14+'OEP RAW Data'!L64 -> 4187 | AF14: =AE14+'OEP RAW Data'!M64 -> 4189 | AK14: 4290 | AL14: 7157 | AM14: 8027 | AN14: 9357 | AO14: 9314 | AP14: 9243 | AQ14: 9276 | AT14: =AD14-W14 -> 643 | AU14: =(AD14/W14)^(1/7)-1 -> 0.024142371 | AW14: =(AD14/AB14)^(1/2)-1 -> 0.0022799574
A15: ='OEP RAW Data'!A65 -> North Hampton | B15: 1 | C15: RC | D15: 24 | E15: E | F15: RPC | G15: 1255 | H15: 1495 | I15: ='OEP RAW Data'!C65 -> 1782 | J15: ='OEP RAW Data'!N65 -> 1914 | K15: =(H15/G15)^(1/(1990-1980))-1 -> 0.017653069 | L15: =(I15/H15)^(1/(2000-1990))-1 -> 0.017716113 | M15: =(J15/I15)^(1/(2010-2000))-1 -> 0.0071714892 | N15: =AK15/G15 -> 2.7290837 | O15: =AL15/H15 -> 2.4327759 | P15: =AM15/W15 -> 2.3159326 | Q15: =AN15/AC15 -> 2.3281168 | R15: =AO15/AD15 -> 2.3 | S15: =AP15/AE15 -> 2.2859351 | T15: =AQ15/AF15 -> 2.2898105 | W15: ='OEP RAW Data'!C65+'OEP RAW Data'!D65 -> 1839 | X15: =W15+'OEP RAW Data'!E65 -> 1859 | Y15: =X15+'OEP RAW Data'!F65 -> 1876 | Z15: =Y15+'OEP RAW Data'!G65 -> 1889 | AA15: =Z15+'OEP RAW Data'!H65 -> 1904 | AB15: =AA15+'OEP RAW Data'!I65 -> 1909 | AC15: =AB15+'OEP RAW Data'!J65 -> 1917 | AD15: =AC15+'OEP RAW Data'!K65 -> 1930 | AE15: =AD15+'OEP RAW Data'!L65 -> 1941 | AF15: =AE15+'OEP RAW Data'!M65 -> 1953 | AK15: 3425 | AL15: 3637 | AM15: 4259 | AN15: 4463 | AO15: 4439 | AP15: 4437 | AQ15: 4472 | AT15: =AD15-W15 -> 91 | AU15: =(AD15/W15)^(1/7)-1 -> 0.0069235804 | AW15: =(AD15/AB15)^(1/2)-1 -> 0.0054852181
A16: ='OEP RAW Data'!A66 -> Portsmouth | B16: 1 | C16: RC | D16: 24 | E16: E | F16: RPC | G16: 8634 | H16: 11369 | I16: ='OEP RAW Data'!C66 -> 10186 | J16: ='OEP RAW Data'!N66 -> 10625 | K16: =(H16/G16)^(1/(1990-1980))-1 -> 0.02790037 | L16: =(I16/H16)^(1/(2000-1990))-1 -> -0.010927469 | M16: =(J16/I16)^(1/(2010-2000))-1 -> 0.0042284635 | N16: =AK16/G16 -> 3.0407691 | O16: =AL16/H16 -> 2.2803237 | P16: =AM16/W16 -> 2.0328638 | Q16: =AN16/AC16 -> 1.9789844 | R16: =AO16/AD16 -> 1.9539249 | S16: =AP16/AE16 -> 1.9365798 | T16: =AQ16/AF16 -> 1.9498113 | W16: ='OEP RAW Data'!C66+'OEP RAW Data'!D66 -> 10224 | X16: =W16+'OEP RAW Data'!E66 -> 10254 | Y16: =X16+'OEP RAW Data'!F66 -> 10295 | Z16: =Y16+'OEP RAW Data'!G66 -> 10363 | AA16: =Z16+'OEP RAW Data'!H66 -> 10418 | AB16: =AA16+'OEP RAW Data'!I66 -> 10495 | AC16: =AB16+'OEP RAW Data'!J66 -> 10516 | AD16: =AC16+'OEP RAW Data'!K66 -> 10548 | AE16: =AD16+'OEP RAW Data'!L66 -> 10596 | AF16: =AE16+'OEP RAW Data'!M66 -> 10600 | AK16: 26254 | AL16: 25925 | AM16: 20784 | AN16: 20811 | AO16: 20610 | AP16: 20520 | AQ16: 20668 | AT16: =AD16-W16 -> 324 | AU16: =(AD16/W16)^(1/7)-1 -> 0.0044668569 | AW16: =(AD16/AB16)^(1/2)-1 -> 0.0025218321
A17: ='OEP RAW Data'!A67 -> Rye | B17: 1 | C17: RC | D17: 24 | E17: E | F17: RPC | G17: 1812 | H17: 2443 | I17: ='OEP RAW Data'!C67 -> 2645 | J17: ='OEP RAW Data'!N67 -> 2852 | K17: =(H17/G17)^(1/(1990-1980))-1 -> 0.030330432 | L17: =(I17/H17)^(1/(2000-1990))-1 -> 0.007976068 | M17: =(J17/I17)^(1/(2010-2000))-1 -> 0.0075634028 | N17: =AK17/G17 -> 2.4878587 | O17: =AL17/H17 -> 1.8878428 | P17: =AM17/W17 -> 1.9466566 | Q17: =AN17/AC17 -> 1.9222836 | R17: =AO17/AD17 -> 1.9060081 | S17: =AP17/AE17 -> 1.889216 | T17: =AQ17/AF17 -> 1.8951435 | W17: ='OEP RAW Data'!C67+'OEP RAW Data'!D67 -> 2662 | X17: =W17+'OEP RAW Data'!E67 -> 2670 | Y17: =X17+'OEP RAW Data'!F67 -> 2683 | Z17: =Y17+'OEP RAW Data'!G67 -> 2689 | AA17: =Z17+'OEP RAW Data'!H67 -> 2704 | AB17: =AA17+'OEP RAW Data'!I67 -> 2715 | AC17: =AB17+'OEP RAW Data'!J67 -> 2715 | AD17: =AC17+'OEP RAW Data'!K67 -> 2713 | AE17: =AD17+'OEP RAW Data'!L67 -> 2717 | AF17: =AE17+'OEP RAW Data'!M67 -> 2718 | AK17: 4508 | AL17: 4612 | AM17: 5182 | AN17: 5219 | AO17: 5171 | AP17: 5133 | AQ17: 5151 | AT17: =AD17-W17 -> 51 | AU17: =(AD17/W17)^(1/7)-1 -> 0.002714723 | AW17: =(AD17/AB17)^(1/2)-1 -> -0.00036839198
A18: ='OEP RAW Data'!A68 -> Seabrook | B18: 1 | C18: RC | D18: 23 | E18: E | F18: RPC | G18: 2523 | H18: 3469 | I18: ='OEP RAW Data'!C68 -> 4066 | J18: ='OEP RAW Data'!N68 -> 4544 | K18: =(H18/G18)^(1/(1990-1980))-1 -> 0.032354143 | L18: =(I18/H18)^(1/(2000-1990))-1 -> 0.016006081 | M18: =(J18/I18)^(1/(2010-2000))-1 -> 0.011176795 | N18: =AK18/G18 -> 2.3452239 | O18: =AL18/H18 -> 1.8746036 | P18: =AM18/W18 -> 1.9076701 | Q18: =AN18/AC18 -> 1.9027622 | R18: =AO18/AD18 -> 1.8968449 | S18: =AP18/AE18 -> 1.8671578 | T18: =AQ18/AF18 -> 1.8602533 | W18: ='OEP RAW Data'!C68+'OEP RAW Data'!D68 -> 4159 | X18: =W18+'OEP RAW Data'!E68 -> 4247 | Y18: =X18+'OEP RAW Data'!F68 -> 4295 | Z18: =Y18+'OEP RAW Data'!G68 -> 4322 | AA18: =Z18+'OEP RAW Data'!H68 -> 4358 | AB18: =AA18+'OEP RAW Data'!I68 -> 4453 | AC18: =AB18+'OEP RAW Data'!J68 -> 4453 | AD18: =AC18+'OEP RAW Data'!K68 -> 4469 | AE18: =AD18+'OEP RAW Data'!L68 -> 4479 | AF18: =AE18+'OEP RAW Data'!M68 -> 4501 | AK18: 5917 | AL18: 6503 | AM18: 7934 | AN18: 8473 | AO18: 8477 | AP18: 8363 | AQ18: 8373 | AT18: =AD18-W18 -> 310 | AU18: =(AD18/W18)^(1/7)-1 -> 0.010322919 | AW18: =(AD18/AB18)^(1/2)-1 -> 0.0017949308
A19: ='OEP RAW Data'!A69 -> South Hampton | B19: 1 | C19: RC | D19: 23 | E19: E | F19: RPC | G19: 223 | H19: 263 | I19: ='OEP RAW Data'!C69 -> 308 | J19: ='OEP RAW Data'!N69 -> 504 | K19: =(H19/G19)^(1/(1990-1980))-1 -> 0.016635073 | L19: =(I19/H19)^(1/(2000-1990))-1 -> 0.015919969 | M19: =(J19/I19)^(1/(2010-2000))-1 -> 0.050480468 | N19: =AK19/G19 -> 2.9596413 | O19: =AL19/H19 -> 2.8136882 | P19: =AM19/W19 -> 2.6964856 | Q19: =AN19/AC19 -> 2.6586826 | R19: =AO19/AD19 -> 2.6261128 | S19: =AP19/AE19 -> 2.6213018 | T19: =AQ19/AF19 -> 2.6360947 | W19: ='OEP RAW Data'!C69+'OEP RAW Data'!D69 -> 313 | X19: =W19+'OEP RAW Data'!E69 -> 317 | Y19: =X19+'OEP RAW Data'!F69 -> 321 | Z19: =Y19+'OEP RAW Data'!G69 -> 323 | AA19: =Z19+'OEP RAW Data'!H69 -> 329 | AB19: =AA19+'OEP RAW Data'!I69 -> 332 | AC19: =AB19+'OEP RAW Data'!J69 -> 334 | AD19: =AC19+'OEP RAW Data'!K69 -> 337 | AE19: =AD19+'OEP RAW Data'!L69 -> 338 | AF19: =AE19+'OEP RAW Data'!M69 -> 338 | AK19: 660 | AL19: 740 | AM19: 844 | AN19: 888 | AO19: 885 | AP19: 886 | AQ19: 891 | AT19: =AD19-W19 -> 24 | AU19: =(AD19/W19)^(1/7)-1 -> 0.010610141 | AW19: =(AD19/AB19)^(1/2)-1 -> 0.0075019806
A20: ='OEP RAW Data'!A70 -> Stratham | B20: 1 | C20: RC | D20: 24 | E20: E | F20: RPC | G20: 844 | H20: 1917 | I20: ='OEP RAW Data'!C70 -> 2371 | J20: ='OEP RAW Data'!N70 -> 2864 | K20: =(H20/G20)^(1/(1990-1980))-1 -> 0.085495348 | L20: =(I20/H20)^(1/(2000-1990))-1 -> 0.021482532 | M20: =(J20/I20)^(1/(2010-2000))-1 -> 0.019070303 | N20: =AK20/G20 -> 2.9703791 | O20: =AL20/H20 -> 2.5847679 | P20: =AM20/W20 -> 2.6227817 | Q20: =AN20/AC20 -> 2.5883201 | R20: =AO20/AD20 -> 2.5634355 | S20: =AP20/AE20 -> 2.5666075 | T20: =AQ20/AF20 -> 2.5804047 | W20: ='OEP RAW Data'!C70+'OEP RAW Data'!D70 -> 2423 | X20: =W20+'OEP RAW Data'!E70 -> 2462 | Y20: =X20+'OEP RAW Data'!F70 -> 2518 | Z20: =Y20+'OEP RAW Data'!G70 -> 2597 | AA20: =Z20+'OEP RAW Data'!H70 -> 2692 | AB20: =AA20+'OEP RAW Data'!I70 -> 2742 | AC20: =AB20+'OEP RAW Data'!J70 -> 2774 | AD20: =AC20+'OEP RAW Data'!K70 -> 2806 | AE20: =AD20+'OEP RAW Data'!L70 -> 2815 | AF20: =AE20+'OEP RAW Data'!M70 -> 2817 | AK20: 2507 | AL20: 4955 | AM20: 6355 | AN20: 7180 | AO20: 7193 | AP20: 7225 | AQ20: 7269 | AT20: =AD20-W20 -> 383 | AU20: =(AD20/W20)^(1/7)-1 -> 0.021186096 | AW20: =(AD20/AB20)^(1/2)-1 -> 0.011602999
A21: ='OEP RAW Data'!A71 -> CEDS Eastern Towns Totals: | B21: 0 | E21: ET | G21: =SUM(G5:G20) -> 28904 | H21: =SUM(H5:H20) -> 41981 | I21: =SUM(I5:I20) -> 44889 | J21: ='OEP RAW Data'!N71 -> 49365 | K21: =(H21/G21)^(1/(1990-1980))-1 -> 0.038028991 | L21: =(I21/H21)^(1/(2000-1990))-1 -> 0.0067200429 | M21: =(J21/I21)^(1/(2010-2000))-1 -> 0.0095502044 | N21: =AK21/G21 -> 2.6814628 | O21: =AL21/H21 -> 2.1023796 | P21: =AM21/W21 -> 2.080896 | Q21: =AN21/AC21 -> 2.0456642 | R21: =AO21/AD21 -> 2.0301316 | S21: =AP21/AE21 -> 2.0311487 | T21: =AQ21/AF21 -> 2.0217303 | W21: ='OEP RAW Data'!C71+'OEP RAW Data'!D71 -> 45404 | X21: =W21+'OEP RAW Data'!E71 -> 45856 | Y21: =X21+'OEP RAW Data'!F71 -> 46490 | Z21: =Y21+'OEP RAW Data'!G71 -> 47144 | AA21: =Z21+'OEP RAW Data'!H71 -> 47756 | AB21: =AA21+'OEP RAW Data'!I71 -> 48312 | AC21: =AB21+'OEP RAW Data'!J71 -> 48572 | AD21: =AC21+'OEP RAW Data'!K71 -> 48786 | AE21: =AD21+'OEP RAW Data'!L71 -> 49055 | AF21: =AE21+'OEP RAW Data'!M71 -> 49148 | AK21: =SUM(AK5:AK20) -> 77505 | AL21: =SUM(AL5:AL20) -> 88260 | AM21: =SUM(AM5:AM20) -> 94481 | AN21: 99362 | AO21: =SUM(AO5:AO20) -> 99042 | AP21: =SUM(AP5:AP20) -> 99638 | AQ21: 99364 | AT21: =AD21-W21 -> 3382 | AU21: =(AD21/W21)^(1/7)-1 -> 0.01031616 | AW21: =(AD21/AB21)^(1/2)-1 -> 0.0048936397
A22: ='OEP RAW Data'!A72 -> Atkinson | B22: 1 | C22: RC | D22: 23 | E22: C | F22: RPC | G22: 1428 | H22: 1885 | I22: ='OEP RAW Data'!C72 -> 2431 | J22: ='OEP RAW Data'!N72 -> 2788 | K22: =(H22/G22)^(1/(1990-1980))-1 -> 0.028154344 | L22: =(I22/H22)^(1/(2000-1990))-1 -> 0.025763781 | M22: =(J22/I22)^(1/(2010-2000))-1 -> 0.013796485 | N22: =AK22/G22 -> 3.0791317 | O22: =AL22/H22 -> 2.7522546 | P22: =AM22/W22 -> 2.4643 | Q22: =AN22/AC22 -> 2.4367988 | R22: =AO22/AD22 -> 2.4116331 | S22: =AP22/AE22 -> 2.3996276 | T22: =AQ22/AF22 -> 2.405506 | W22: ='OEP RAW Data'!C72+'OEP RAW Data'!D72 -> 2507 | X22: =W22+'OEP RAW Data'!E72 -> 2595 | Y22: =X22+'OEP RAW Data'!F72 -> 2620 | Z22: =Y22+'OEP RAW Data'!G72 -> 2644 | AA22: =Z22+'OEP RAW Data'!H72 -> 2650 | AB22: =AA22+'OEP RAW Data'!I72 -> 2668 | AC22: =AB22+'OEP RAW Data'!J72 -> 2674 | AD22: =AC22+'OEP RAW Data'!K72 -> 2682 | AE22: =AD22+'OEP RAW Data'!L72 -> 2685 | AF22: =AE22+'OEP RAW Data'!M72 -> 2688 | AK22: 4397 | AL22: 5188 | AM22: 6178 | AN22: 6516 | AO22: 6468 | AP22: 6443 | AQ22: 6466 | AT22: =AD22-W22 -> 175 | AU22: =(AD22/W22)^(1/7)-1 -> 0.0096860326 | AW22: =(AD22/AB22)^(1/2)-1 -> 0.0026202553
A23: ='OEP RAW Data'!A73 -> Auburn | B23: 1 | C23: RC | D23: 19 | E23: C | F23: SNHPC | G23: 936 | H23: 1354 | I23: ='OEP RAW Data'!C73 -> 1622 | J23: ='OEP RAW Data'!N73 -> 1814 | K23: =(H23/G23)^(1/(1990-1980))-1 -> 0.037610318 | L23: =(I23/H23)^(1/(2000-1990))-1 -> 0.01822374 | M23: =(J23/I23)^(1/(2010-2000))-1 -> 0.011250253 | N23: =AK23/G23 -> 3.0801282 | O23: =AL23/H23 -> 3.0169867 | P23: =AM23/W23 -> 2.8137019 | Q23: =AN23/AC23 -> 2.8015351 | R23: =AO23/AD23 -> 2.7764449 | S23: =AP23/AE23 -> 2.763587 | T23: =AQ23/AF23 -> 2.7696477 | W23: ='OEP RAW Data'!C73+'OEP RAW Data'!D73 -> 1664 | X23: =W23+'OEP RAW Data'!E73 -> 1696 | Y23: =X23+'OEP RAW Data'!F73 -> 1725 | Z23: =Y23+'OEP RAW Data'!G73 -> 1769 | AA23: =Z23+'OEP RAW Data'!H73 -> 1813 | AB23: =AA23+'OEP RAW Data'!I73 -> 1813 | AC23: =AB23+'OEP RAW Data'!J73 -> 1824 | AD23: =AC23+'OEP RAW Data'!K73 -> 1834 | AE23: =AD23+'OEP RAW Data'!L73 -> 1840 | AF23: =AE23+'OEP RAW Data'!M73 -> 1845 | AK23: 2883 | AL23: 4085 | AM23: 4682 | AN23: 5110 | AO23: 5092 | AP23: 5085 | AQ23: 5110 | AT23: =AD23-W23 -> 170 | AU23: =(AD23/W23)^(1/7)-1 -> 0.013993437 | AW23: =(AD23/AB23)^(1/2)-1 -> 0.0057748315
A24: ='OEP RAW Data'!A74 -> Brentwood | B24: 1 | C24: RC | D24: 23 | E24: C | F24: RPC | G24: 598 | H24: 778 | I24: ='OEP RAW Data'!C74 -> 920 | J24: ='OEP RAW Data'!N74 -> 1350 | K24: =(H24/G24)^(1/(1990-1980))-1 -> 0.026662836 | L24: =(I24/H24)^(1/(2000-1990))-1 -> 0.016906031 | M24: =(J24/I24)^(1/(2010-2000))-1 -> 0.039093419 | N24: =AK24/G24 -> 3.3511706 | O24: =AL24/H24 -> 3.3290488 | P24: =AM24/W24 -> 3.2589195 | Q24: =AN24/AC24 -> 3.2588792 | R24: =AO24/AD24 -> 3.25 | S24: =AP24/AE24 -> 3.2326121 | T24: =AQ24/AF24 -> 3.2614329 | W24: ='OEP RAW Data'!C74+'OEP RAW Data'!D74 -> 981 | X24: =W24+'OEP RAW Data'!E74 -> 1069 | Y24: =X24+'OEP RAW Data'!F74 -> 1138 | Z24: =Y24+'OEP RAW Data'!G74 -> 1182 | AA24: =Z24+'OEP RAW Data'!H74 -> 1221 | AB24: =AA24+'OEP RAW Data'!I74 -> 1238 | AC24: =AB24+'OEP RAW Data'!J74 -> 1267 | AD24: =AC24+'OEP RAW Data'!K74 -> 1280 | AE24: =AD24+'OEP RAW Data'!L74 -> 1294 | AF24: =AE24+'OEP RAW Data'!M74 -> 1312 | AK24: 2004 | AL24: 2590 | AM24: 3197 | AN24: 4129 | AO24: 4160 | AP24: 4183 | AQ24: 4279 | AT24: =AD24-W24 -> 299 | AU24: =(AD24/W24)^(1/7)-1 -> 0.038737598 | AW24: =(AD24/AB24)^(1/2)-1 -> 0.016821364
A25: ='OEP RAW Data'!A75 -> Candia | B25: 1 | C25: RC | D25: 19 | E25: C | F25: SNHPC | G25: 992 | H25: 1192 | I25: ='OEP RAW Data'!C75 -> 1384 | J25: ='OEP RAW Data'!N75 -> 1494 | K25: =(H25/G25)^(1/(1990-1980))-1 -> 0.018536175 | L25: =(I25/H25)^(1/(2000-1990))-1 -> 0.015046606 | M25: =(J25/I25)^(1/(2010-2000))-1 -> 0.007677243 | N25: =AK25/G25 -> 3.0131048 | O25: =AL25/H25 -> 2.9840604 | P25: =AM25/W25 -> 2.7600565 | Q25: =AN25/AC25 -> 2.7146649 | R25: =AO25/AD25 -> 2.7116402 | S25: =AP25/AE25 -> 2.6892693 | T25: =AQ25/AF25 -> 2.7088274 | W25: ='OEP RAW Data'!C75+'OEP RAW Data'!D75 -> 1417 | X25: =W25+'OEP RAW Data'!E75 -> 1450 | Y25: =X25+'OEP RAW Data'!F75 -> 1457 | Z25: =Y25+'OEP RAW Data'!G75 -> 1469 | AA25: =Z25+'OEP RAW Data'!H75 -> 1476 | AB25: =AA25+'OEP RAW Data'!I75 -> 1489 | AC25: =AB25+'OEP RAW Data'!J75 -> 1507 | AD25: =AC25+'OEP RAW Data'!K75 -> 1512 | AE25: =AD25+'OEP RAW Data'!L75 -> 1519 | AF25: =AE25+'OEP RAW Data'!M75 -> 1518 | AK25: 2989 | AL25: 3557 | AM25: 3911 | AN25: 4091 | AO25: 4100 | AP25: 4085 | AQ25: 4112 | AT25: =AD25-W25 -> 95 | AU25: =(AD25/W25)^(1/7)-1 -> 0.0093132894 | AW25: =(AD25/AB25)^(1/2)-1 -> 0.0076937077
A26: ='OEP RAW Data'!A76 -> Chester | B26: 1 | C26: RC | D26: 22 | E26: C | F26: SNHPC | G26: 655 | H26: 924 | I26: ='OEP RAW Data'!C76 -> 1247 | J26: ='OEP RAW Data'!N76 -> 1596 | K26: =(H26/G26)^(1/(1990-1980))-1 -> 0.035006476 | L26: =(I26/H26)^(1/(2000-1990))-1 -> 0.030432263 | M26: =(J26/I26)^(1/(2010-2000))-1 -> 0.024982955 | N26: =AK26/G26 -> 3.0625954 | O26: =AL26/H26 -> 2.9123377 | P26: =AM26/W26 -> 2.8340807 | Q26: =AN26/AC26 -> 2.985209 | R26: =AO26/AD26 -> 2.9539347 | S26: =AP26/AE26 -> 2.9470663 | T26: =AQ26/AF26 -> 2.9396058 | W26: ='OEP RAW Data'!C76+'OEP RAW Data'!D76 -> 1338 | X26: =W26+'OEP RAW Data'!E76 -> 1417 | Y26: =X26+'OEP RAW Data'!F76 -> 1464 | Z26: =Y26+'OEP RAW Data'!G76 -> 1493 | AA26: =Z26+'OEP RAW Data'!H76 -> 1527 | AB26: =AA26+'OEP RAW Data'!I76 -> 1537 | AC26: =AB26+'OEP RAW Data'!J76 -> 1555 | AD26: =AC26+'OEP RAW Data'!K76 -> 1563 | AE26: =AD26+'OEP RAW Data'!L76 -> 1568 | AF26: =AE26+'OEP RAW Data'!M76 -> 1573 | AK26: 2006 | AL26: 2691 | AM26: 3792 | AN26: 4642 | AO26: 4617 | AP26: 4621 | AQ26: 4624 | AT26: =AD26-W26 -> 225 | AU26: =(AD26/W26)^(1/7)-1 -> 0.022452795 | AW26: =(AD26/AB26)^(1/2)-1 -> 0.0084225653
A27: ='OEP RAW Data'!A77 -> Danville | B27: 1 | C27: RC | D27: 23 | E27: C | F27: RPC | G27: 439 | H27: 960 | I27: ='OEP RAW Data'!C77 -> 1479 | J27: ='OEP RAW Data'!N77 -> 1684 | K27: =(H27/G27)^(1/(1990-1980))-1 -> 0.081385822 | L27: =(I27/H27)^(1/(2000-1990))-1 -> 0.044166352 | M27: =(J27/I27)^(1/(2010-2000))-1 -> 0.013065187 | N27: =AK27/G27 -> 3.0022779 | O27: =AL27/H27 -> 2.6395833 | P27: =AM27/W27 -> 2.674867 | Q27: =AN27/AC27 -> 2.6600838 | R27: =AO27/AD27 -> 2.6182573 | S27: =AP27/AE27 -> 2.6241849 | T27: =AQ27/AF27 -> 2.6167453 | W27: ='OEP RAW Data'!C77+'OEP RAW Data'!D77 -> 1504 | X27: =W27+'OEP RAW Data'!E77 -> 1535 | Y27: =X27+'OEP RAW Data'!F77 -> 1588 | Z27: =Y27+'OEP RAW Data'!G77 -> 1621 | AA27: =Z27+'OEP RAW Data'!H77 -> 1662 | AB27: =AA27+'OEP RAW Data'!I77 -> 1666 | AC27: =AB27+'OEP RAW Data'!J77 -> 1671 | AD27: =AC27+'OEP RAW Data'!K77 -> 1687 | AE27: =AD27+'OEP RAW Data'!L77 -> 1687 | AF27: =AE27+'OEP RAW Data'!M77 -> 1696 | AK27: 1318 | AL27: 2534 | AM27: 4023 | AN27: 4445 | AO27: 4417 | AP27: 4427 | AQ27: 4438 | AT27: =AD27-W27 -> 183 | AU27: =(AD27/W27)^(1/7)-1 -> 0.016538642 | AW27: =(AD27/AB27)^(1/2)-1 -> 0.0062827843
A28: ='OEP RAW Data'!A78 -> Deerfield | B28: 1 | C28: RC | D28: U | E28: C | F28: SNHPC | G28: 694 | H28: 1227 | I28: ='OEP RAW Data'!C78 -> 1406 | J28: ='OEP RAW Data'!N78 -> 1743 | K28: =(H28/G28)^(1/(1990-1980))-1 -> 0.058640511 | L28: =(I28/H28)^(1/(2000-1990))-1 -> 0.013710805 | M28: =(J28/I28)^(1/(2010-2000))-1 -> 0.021718381 | N28: =AK28/G28 -> 2.851585 | O28: =AL28/H28 -> 2.5460473 | P28: =AM28/W28 -> 2.4734364 | Q28: =AN28/AC28 -> 2.5154519 | R28: =AO28/AD28 -> 2.5080738 | S28: =AP28/AE28 -> 2.5020057 | T28: =AQ28/AF28 -> 2.5102623 | W28: ='OEP RAW Data'!C78+'OEP RAW Data'!D78 -> 1487 | X28: =W28+'OEP RAW Data'!E78 -> 1545 | Y28: =X28+'OEP RAW Data'!F78 -> 1575 | Z28: =Y28+'OEP RAW Data'!G78 -> 1593 | AA28: =Z28+'OEP RAW Data'!H78 -> 1644 | AB28: =AA28+'OEP RAW Data'!I78 -> 1687 | AC28: =AB28+'OEP RAW Data'!J78 -> 1715 | AD28: =AC28+'OEP RAW Data'!K78 -> 1734 | AE28: =AD28+'OEP RAW Data'!L78 -> 1745 | AF28: =AE28+'OEP RAW Data'!M78 -> 1754 | AK28: 1979 | AL28: 3124 | AM28: 3678 | AN28: 4314 | AO28: 4349 | AP28: 4366 | AQ28: 4403 | AT28: =AD28-W28 -> 247 | AU28: =(AD28/W28)^(1/7)-1 -> 0.022195625 | AW28: =(AD28/AB28)^(1/2)-1 -> 0.013834359
A29: ='OEP RAW Data'!A79 -> Epping | B29: 1 | C29: RC | D29: 23 | E29: C | F29: RPC | G29: 1181 | H29: 2059 | I29: ='OEP RAW Data'!C79 -> 2215 | J29: ='OEP RAW Data'!N79 -> 2723 | K29: =(H29/G29)^(1/(1990-1980))-1 -> 0.057159812 | L29: =(I29/H29)^(1/(2000-1990))-1 -> 0.0073299309 | M29: =(J29/I29)^(1/(2010-2000))-1 -> 0.02086283 | N29: =AK29/G29 -> 2.9297206 | O29: =AL29/H29 -> 2.5070423 | P29: =AM29/W29 -> 2.366465 | Q29: =AN29/AC29 -> 2.3968317 | R29: =AO29/AD29 -> 2.3598441 | S29: =AP29/AE29 -> 2.3244478 | T29: =AQ29/AF29 -> 2.3421939 | W29: ='OEP RAW Data'!C79+'OEP RAW Data'!D79 -> 2314 | X29: =W29+'OEP RAW Data'!E79 -> 2330 | Y29: =X29+'OEP RAW Data'!F79 -> 2370 | Z29: =Y29+'OEP RAW Data'!G79 -> 2396 | AA29: =Z29+'OEP RAW Data'!H79 -> 2439 | AB29: =AA29+'OEP RAW Data'!I79 -> 2499 | AC29: =AB29+'OEP RAW Data'!J79 -> 2525 | AD29: =AC29+'OEP RAW Data'!K79 -> 2565 | AE29: =AD29+'OEP RAW Data'!L79 -> 2626 | AF29: =AE29+'OEP RAW Data'!M79 -> 2671 | AK29: 3460 | AL29: 5162 | AM29: 5476 | AN29: 6052 | AO29: 6053 | AP29: 6104 | AQ29: 6256 | AT29: =AD29-W29 -> 251 | AU29: =(AD29/W29)^(1/7)-1 -> 0.014820297 | AW29: =(AD29/AB29)^(1/2)-1 -> 0.013119225
A30: ='OEP RAW Data'!A80 -> Fremont | B30: 1 | C30: RC | D30: 23 | E30: C | F30: RPC | G30: 461 | H30: 920 | I30: ='OEP RAW Data'!C80 -> 1201 | J30: ='OEP RAW Data'!N80 -> 1573 | K30: =(H30/G30)^(1/(1990-1980))-1 -> 0.071540746 | L30: =(I30/H30)^(1/(2000-1990))-1 -> 0.027012 | M30: =(J30/I30)^(1/(2010-2000))-1 -> 0.027350346 | N30: =AK30/G30 -> 2.8915401 | O30: =AL30/H30 -> 2.8 | P30: =AM30/W30 -> 2.7812995 | Q30: =AN30/AC30 -> 2.7931498 | R30: =AO30/AD30 -> 2.7498341 | S30: =AP30/AE30 -> 2.7397892 | T30: =AQ30/AF30 -> 2.7522936 | W30: ='OEP RAW Data'!C80+'OEP RAW Data'!D80 -> 1262 | X30: =W30+'OEP RAW Data'!E80 -> 1288 | Y30: =X30+'OEP RAW Data'!F80 -> 1318 | Z30: =Y30+'OEP RAW Data'!G80 -> 1372 | AA30: =Z30+'OEP RAW Data'!H80 -> 1424 | AB30: =AA30+'OEP RAW Data'!I80 -> 1479 | AC30: =AB30+'OEP RAW Data'!J80 -> 1489 | AD30: =AC30+'OEP RAW Data'!K80 -> 1507 | AE30: =AD30+'OEP RAW Data'!L80 -> 1518 | AF30: =AE30+'OEP RAW Data'!M80 -> 1526 | AK30: 1333 | AL30: 2576 | AM30: 3510 | AN30: 4159 | AO30: 4144 | AP30: 4159 | AQ30: 4200 | AT30: =AD30-W30 -> 245 | AU30: =(AD30/W30)^(1/7)-1 -> 0.02567011 | AW30: =(AD30/AB30)^(1/2)-1 -> 0.0094214732
A31: ='OEP RAW Data'!A81 -> Hampstead | B31: 1 | C31: RC | D31: 23 | E31: C | F31: RPC | G31: 1319 | H31: 2661 | I31: ='OEP RAW Data'!C81 -> 3276 | J31: ='OEP RAW Data'!N81 -> 3727 | K31: =(H31/G31)^(1/(1990-1980))-1 -> 0.072704266 | L31: =(I31/H31)^(1/(2000-1990))-1 -> 0.021009779 | M31: =(J31/I31)^(1/(2010-2000))-1 -> 0.012981584 | N31: =AK31/G31 -> 2.8695982 | O31: =AL31/H31 -> 2.529876 | P31: =AM31/W31 -> 2.5096794 | Q31: =AN31/AC31 -> 2.3990623 | R31: =AO31/AD31 -> 2.3870527 | S31: =AP31/AE31 -> 2.3746265 | T31: =AQ31/AF31 -> 2.3652501 | W31: ='OEP RAW Data'!C81+'OEP RAW Data'!D81 -> 3306 | X31: =W31+'OEP RAW Data'!E81 -> 3320 | Y31: =X31+'OEP RAW Data'!F81 -> 3363 | Z31: =Y31+'OEP RAW Data'!G81 -> 3434 | AA31: =Z31+'OEP RAW Data'!H81 -> 3468 | AB31: =AA31+'OEP RAW Data'!I81 -> 3560 | AC31: =AB31+'OEP RAW Data'!J81 -> 3626 | AD31: =AC31+'OEP RAW Data'!K81 -> 3661 | AE31: =AD31+'OEP RAW Data'!L81 -> 3681 | AF31: =AE31+'OEP RAW Data'!M81 -> 3718 | AK31: 3785 | AL31: 6732 | AM31: 8297 | AN31: 8699 | AO31: 8739 | AP31: 8741 | AQ31: 8794 | AT31: =AD31-W31 -> 355 | AU31: =(AD31/W31)^(1/7)-1 -> 0.014677723 | AW31: =(AD31/AB31)^(1/2)-1 -> 0.014086183
A32: ='OEP RAW Data'!A82 -> Kingston | B32: 1 | C32: RC | D32: 23 | E32: C | F32: RPC | G32: 1518 | H32: 2115 | I32: ='OEP RAW Data'!C82 -> 2265 | J32: ='OEP RAW Data'!N82 -> 2480 | K32: =(H32/G32)^(1/(1990-1980))-1 -> 0.03372224 | L32: =(I32/H32)^(1/(2000-1990))-1 -> 0.0068755233 | M32: =(J32/I32)^(1/(2010-2000))-1 -> 0.0091096225 | N32: =AK32/G32 -> 2.7081686 | O32: =AL32/H32 -> 2.6434988 | P32: =AM32/W32 -> 2.4944681 | Q32: =AN32/AC32 -> 2.4853119 | R32: =AO32/AD32 -> 2.4762862 | S32: =AP32/AE32 -> 2.4529435 | T32: =AQ32/AF32 -> 2.461262 | W32: ='OEP RAW Data'!C82+'OEP RAW Data'!D82 -> 2350 | X32: =W32+'OEP RAW Data'!E82 -> 2357 | Y32: =X32+'OEP RAW Data'!F82 -> 2375 | Z32: =Y32+'OEP RAW Data'!G82 -> 2415 | AA32: =Z32+'OEP RAW Data'!H82 -> 2439 | AB32: =AA32+'OEP RAW Data'!I82 -> 2465 | AC32: =AB32+'OEP RAW Data'!J82 -> 2485 | AD32: =AC32+'OEP RAW Data'!K82 -> 2488 | AE32: =AD32+'OEP RAW Data'!L82 -> 2497 | AF32: =AE32+'OEP RAW Data'!M82 -> 2504 | AK32: 4111 | AL32: 5591 | AM32: 5862 | AN32: 6176 | AO32: 6161 | AP32: 6125 | AQ32: 6163 | AT32: =AD32-W32 -> 138 | AU32: =(AD32/W32)^(1/7)-1 -> 0.008185296 | AW32: =(AD32/AB32)^(1/2)-1 -> 0.0046544823
A33: ='OEP RAW Data'!A83 -> Newton | B33: 1 | C33: RC | D33: 23 | E33: C | F33: RPC | G33: 1073 | H33: 1251 | I33: ='OEP RAW Data'!C83 -> 1552 | J33: ='OEP RAW Data'!N83 -> 1751 | K33: =(H33/G33)^(1/(1990-1980))-1 -> 0.01546687 | L33: =(I33/H33)^(1/(2000-1990))-1 -> 0.021794218 | M33: =(J33/I33)^(1/(2010-2000))-1 -> 0.01213733 | N33: =AK33/G33 -> 2.8592731 | O33: =AL33/H33 -> 2.7761791 | P33: =AM33/W33 -> 2.6739401 | Q33: =AN33/AC33 -> 2.6848019 | R33: =AO33/AD33 -> 2.6545455 | S33: =AP33/AE33 -> 2.6333527 | T33: =AQ33/AF33 -> 2.6510687 | W33: ='OEP RAW Data'!C83+'OEP RAW Data'!D83 -> 1604 | X33: =W33+'OEP RAW Data'!E83 -> 1615 | Y33: =X33+'OEP RAW Data'!F83 -> 1623 | Z33: =Y33+'OEP RAW Data'!G83 -> 1630 | AA33: =Z33+'OEP RAW Data'!H83 -> 1640 | AB33: =AA33+'OEP RAW Data'!I83 -> 1680 | AC33: =AB33+'OEP RAW Data'!J83 -> 1691 | AD33: =AC33+'OEP RAW Data'!K83 -> 1705 | AE33: =AD33+'OEP RAW Data'!L83 -> 1721 | AF33: =AE33+'OEP RAW Data'!M83 -> 1731 | AK33: 3068 | AL33: 3473 | AM33: 4289 | AN33: 4540 | AO33: 4526 | AP33: 4532 | AQ33: 4589 | AT33: =AD33-W33 -> 101 | AU33: =(AD33/W33)^(1/7)-1 -> 0.0087616752 | AW33: =(AD33/AB33)^(1/2)-1 -> 0.0074129999
A34: ='OEP RAW Data'!A84 -> Northwood | B34: 1 | C34: RC | D34: U | E34: C | F34: SRPC | G34: 874 | H34: 1791 | I34: ='OEP RAW Data'!C84 -> 1905 | J34: ='OEP RAW Data'!N84 -> 2129 | K34: =(H34/G34)^(1/(1990-1980))-1 -> 0.074381237 | L34: =(I34/H34)^(1/(2000-1990))-1 -> 0.0061898671 | M34: =(J34/I34)^(1/(2010-2000))-1 -> 0.011179062 | N34: =AK34/G34 -> 2.4885584 | O34: =AL34/H34 -> 1.7442769 | P34: =AM34/W34 -> 1.8830833 | Q34: =AN34/AC34 -> 1.8288166 | R34: =AO34/AD34 -> 1.7997342 | S34: =AP34/AE34 -> 1.8137688 | T34: =AQ34/AF34 -> 1.8124452 | W34: ='OEP RAW Data'!C84+'OEP RAW Data'!D84 -> 1933 | X34: =W34+'OEP RAW Data'!E84 -> 1950 | Y34: =X34+'OEP RAW Data'!F84 -> 1981 | Z34: =Y34+'OEP RAW Data'!G84 -> 2046 | AA34: =Z34+'OEP RAW Data'!H84 -> 2116 | AB34: =AA34+'OEP RAW Data'!I84 -> 2185 | AC34: =AB34+'OEP RAW Data'!J84 -> 2214 | AD34: =AC34+'OEP RAW Data'!K84 -> 2257 | AE34: =AD34+'OEP RAW Data'!L84 -> 2266 | AF34: =AE34+'OEP RAW Data'!M84 -> 2282 | AK34: 2175 | AL34: 3124 | AM34: 3640 | AN34: 4049 | AO34: 4062 | AP34: 4110 | AQ34: 4136 | AT34: =AD34-W34 -> 324 | AU34: =(AD34/W34)^(1/7)-1 -> 0.022384469 | AW34: =(AD34/AB34)^(1/2)-1 -> 0.016342435
A35: ='OEP RAW Data'!A85 -> Nottingham | B35: 1 | C35: RC | D35: U | E35: C | F35: SRPC | G35: 712 | H35: 1314 | I35: ='OEP RAW Data'!C85 -> 1592 | J35: ='OEP RAW Data'!N85 -> 1986 | K35: =(H35/G35)^(1/(1990-1980))-1 -> 0.063191601 | L35: =(I35/H35)^(1/(2000-1990))-1 -> 0.019376858 | M35: =(J35/I35)^(1/(2010-2000))-1 -> 0.022359456 | N35: =AK35/G35 -> 2.741573 | O35: =AL35/H35 -> 2.2366819 | P35: =AM35/W35 -> 2.2649939 | Q35: =AN35/AC35 -> 2.2227797 | R35: =AO35/AD35 -> 2.2097971 | S35: =AP35/AE35 -> 2.2103194 | T35: =AQ35/AF35 -> 2.2092457 | W35: ='OEP RAW Data'!C85+'OEP RAW Data'!D85 -> 1634 | X35: =W35+'OEP RAW Data'!E85 -> 1675 | Y35: =X35+'OEP RAW Data'!F85 -> 1730 | Z35: =Y35+'OEP RAW Data'!G85 -> 1804 | AA35: =Z35+'OEP RAW Data'!H85 -> 1907 | AB35: =AA35+'OEP RAW Data'!I85 -> 1958 | AC35: =AB35+'OEP RAW Data'!J85 -> 1993 | AD35: =AC35+'OEP RAW Data'!K85 -> 2021 | AE35: =AD35+'OEP RAW Data'!L85 -> 2035 | AF35: =AE35+'OEP RAW Data'!M85 -> 2055 | AK35: 1952 | AL35: 2939 | AM35: 3701 | AN35: 4430 | AO35: 4466 | AP35: 4498 | AQ35: 4540 | AT35: =AD35-W35 -> 387 | AU35: =(AD35/W35)^(1/7)-1 -> 0.030831667 | AW35: =(AD35/AB35)^(1/2)-1 -> 0.015960476
A36: ='OEP RAW Data'!A86 -> Plaistow | B36: 1 | C36: RC | D36: 23 | E36: C | F36: RPC | G36: 1827 | H36: 2691 | I36: ='OEP RAW Data'!C86 -> 2927 | J36: ='OEP RAW Data'!N86 -> 3016 | K36: =(H36/G36)^(1/(1990-1980))-1 -> 0.039483297 | L36: =(I36/H36)^(1/(2000-1990))-1 -> 0.0084419476 | M36: =(J36/I36)^(1/(2010-2000))-1 -> 0.0029998348 | N36: =AK36/G36 -> 3.0700602 | O36: =AL36/H36 -> 2.7186919 | P36: =AM36/W36 -> 2.6314538 | Q36: =AN36/AC36 -> 2.5778593 | R36: =AO36/AD36 -> 2.5546667 | S36: =AP36/AE36 -> 2.5381794 | T36: =AQ36/AF36 -> 2.543 | W36: ='OEP RAW Data'!C86+'OEP RAW Data'!D86 -> 2944 | X36: =W36+'OEP RAW Data'!E86 -> 2960 | Y36: =X36+'OEP RAW Data'!F86 -> 2985 | Z36: =Y36+'OEP RAW Data'!G86 -> 2990 | AA36: =Z36+'OEP RAW Data'!H86 -> 2990 | AB36: =AA36+'OEP RAW Data'!I86 -> 2996 | AC36: =AB36+'OEP RAW Data'!J86 -> 2999 | AD36: =AC36+'OEP RAW Data'!K86 -> 3000 | AE36: =AD36+'OEP RAW Data'!L86 -> 2999 | AF36: =AE36+'OEP RAW Data'!M86 -> 3000 | AK36: 5609 | AL36: 7316 | AM36: 7747 | AN36: 7731 | AO36: 7664 | AP36: 7612 | AQ36: 7629 | AT36: =AD36-W36 -> 56 | AU36: =(AD36/W36)^(1/7)-1 -> 0.002695496 | AW36: =(AD36/AB36)^(1/2)-1 -> 0.00066733407
A37: ='OEP RAW Data'!A87 -> Raymond | B37: 1 | C37: RC | D37: 22 | E37: C | F37: SNHPC | G37: 1985 | H37: 3350 | I37: ='OEP RAW Data'!C87 -> 3710 | J37: ='OEP RAW Data'!N87 -> 4254 | K37: =(H37/G37)^(1/(1990-1980))-1 -> 0.05372778 | L37: =(I37/H37)^(1/(2000-1990))-1 -> 0.010259424 | M37: =(J37/I37)^(1/(2010-2000))-1 -> 0.013776822 | N37: =AK37/G37 -> 2.7471033 | O37: =AL37/H37 -> 2.6008955 | P37: =AM37/W37 -> 2.5518333 | Q37: =AN37/AC37 -> 2.504065 | R37: =AO37/AD37 -> 2.4806808 | S37: =AP37/AE37 -> 2.4686431 | T37: =AQ37/AF37 -> 2.4829932 | W37: ='OEP RAW Data'!C87+'OEP RAW Data'!D87 -> 3791 | X37: =W37+'OEP RAW Data'!E87 -> 3842 | Y37: =X37+'OEP RAW Data'!F87 -> 3916 | Z37: =Y37+'OEP RAW Data'!G87 -> 3997 | AA37: =Z37+'OEP RAW Data'!H87 -> 4138 | AB37: =AA37+'OEP RAW Data'!I87 -> 4263 | AC37: =AB37+'OEP RAW Data'!J87 -> 4305 | AD37: =AC37+'OEP RAW Data'!K87 -> 4348 | AE37: =AD37+'OEP RAW Data'!L87 -> 4385 | AF37: =AE37+'OEP RAW Data'!M87 -> 4410 | AK37: 5453 | AL37: 8713 | AM37: 9674 | AN37: 10780 | AO37: 10786 | AP37: 10825 | AQ37: 10950 | AT37: =AD37-W37 -> 557 | AU37: =(AD37/W37)^(1/7)-1 -> 0.019776753 | AW37: =(AD37/AB37)^(1/2)-1 -> 0.0099202989
A38: ='OEP RAW Data'!A88 -> Sandown | B38: 1 | C38: RC | D38: 23 | E38: C | F38: RPC | G38: 736 | H38: 1488 | I38: ='OEP RAW Data'!C88 -> 1777 | J38: ='OEP RAW Data'!N88 -> 2214 | K38: =(H38/G38)^(1/(1990-1980))-1 -> 0.072932774 | L38: =(I38/H38)^(1/(2000-1990))-1 -> 0.017907817 | M38: =(J38/I38)^(1/(2010-2000))-1 -> 0.022230933 | N38: =AK38/G38 -> 2.794837 | O38: =AL38/H38 -> 2.7284946 | P38: =AM38/W38 -> 2.8667781 | Q38: =AN38/AC38 -> 2.7795572 | R38: =AO38/AD38 -> 2.7529029 | S38: =AP38/AE38 -> 2.7546211 | T38: =AQ38/AF38 -> 2.7439415 | W38: ='OEP RAW Data'!C88+'OEP RAW Data'!D88 -> 1794 | X38: =W38+'OEP RAW Data'!E88 -> 1855 | Y38: =X38+'OEP RAW Data'!F88 -> 1925 | Z38: =Y38+'OEP RAW Data'!G88 -> 1978 | AA38: =Z38+'OEP RAW Data'!H88 -> 2051 | AB38: =AA38+'OEP RAW Data'!I88 -> 2094 | AC38: =AB38+'OEP RAW Data'!J88 -> 2123 | AD38: =AC38+'OEP RAW Data'!K88 -> 2153 | AE38: =AD38+'OEP RAW Data'!L88 -> 2164 | AF38: =AE38+'OEP RAW Data'!M88 -> 2187 | AK38: 2057 | AL38: 4060 | AM38: 5143 | AN38: 5901 | AO38: 5927 | AP38: 5961 | AQ38: 6001 | AT38: =AD38-W38 -> 359 | AU38: =(AD38/W38)^(1/7)-1 -> 0.026401718 | AW38: =(AD38/AB38)^(1/2)-1 -> 0.01399001
A39: ='OEP RAW Data'!A89 -> CEDS Central Towns Totals: | B39: 0 | E39: CT | G39: =SUM(G22:G38) -> 17428 | H39: =SUM(H22:H38) -> 27960 | I39: ='OEP RAW Data'!C89 -> 32909 | J39: ='OEP RAW Data'!N89 -> 38322 | K39: =(H39/G39)^(1/(1990-1980))-1 -> 0.048404706 | L39: =(I39/H39)^(1/(2000-1990))-1 -> 0.016430648 | M39: =(J39/I39)^(1/(2010-2000))-1 -> 0.01534433 | N39: =AK39/G39 -> 2.9021689 | O39: =AL39/H39 -> 2.6271459 | P39: =AM39/W39 -> 2.56577 | Q39: =AN39/AC39 -> 2.5426546 | R39: =AO39/AD39 -> 2.5194357 | S39: =AP39/AE39 -> 2.5078996 | T39: =AQ39/AF39 -> 2.5133871 | W39: ='OEP RAW Data'!C89+'OEP RAW Data'!D89 -> 33830 | X39: =W39+'OEP RAW Data'!E89 -> 34499 | Y39: =X39+'OEP RAW Data'!F89 -> 35153 | Z39: =Y39+'OEP RAW Data'!G89 -> 35833 | AA39: =Z39+'OEP RAW Data'!H89 -> 36605 | AB39: =AA39+'OEP RAW Data'!I89 -> 37277 | AC39: =AB39+'OEP RAW Data'!J89 -> 37663 | AD39: =AC39+'OEP RAW Data'!K89 -> 37997 | AE39: =AD39+'OEP RAW Data'!L89 -> 38230 | AF39: =AE39+'OEP RAW Data'!M89 -> 38470 | AK39: =SUM(AK22:AK38) -> 50579 | AL39: =SUM(AL22:AL38) -> 73455 | AM39: =SUM(AM22:AM38) -> 86800 | AN39: 95764 | AO39: =SUM(AO22:AO38) -> 95731 | AP39: =SUM(AP22:AP38) -> 95877 | AQ39: 96690 | AT39: =AD39-W39 -> 4167 | AU39: =(AD39/W39)^(1/7)-1 -> 0.016732623 | AW39: =(AD39/AB39)^(1/2)-1 -> 0.0096112415
A40: ='OEP RAW Data'!A90 -> Derry | B40: 1 | C40: RC | D40: 22 | E40: W | F40: SNHPC | G40: 7068 | H40: 11869 | I40: ='OEP RAW Data'!C90 -> 12735 | J40: ='OEP RAW Data'!N90 -> 13277 | K40: =(H40/G40)^(1/(1990-1980))-1 -> 0.053202203 | L40: =(I40/H40)^(1/(2000-1990))-1 -> 0.0070672711 | M40: =(J40/I40)^(1/(2010-2000))-1 -> 0.0041766085 | N40: =AK40/G40 -> 2.6704867 | O40: =AL40/H40 -> 2.4941444 | P40: =AM40/W40 -> 2.6496106 | Q40: =AN40/AC40 -> 2.5973261 | R40: =AO40/AD40 -> 2.5768535 | S40: =AP40/AE40 -> 2.554048 | T40: =AQ40/AF40 -> 2.5712145 | W40: ='OEP RAW Data'!C90+'OEP RAW Data'!D90 -> 12840 | X40: =W40+'OEP RAW Data'!E90 -> 12885 | Y40: =X40+'OEP RAW Data'!F90 -> 12940 | Z40: =Y40+'OEP RAW Data'!G90 -> 13006 | AA40: =Z40+'OEP RAW Data'!H90 -> 13097 | AB40: =AA40+'OEP RAW Data'!I90 -> 13174 | AC40: =AB40+'OEP RAW Data'!J90 -> 13239 | AD40: =AC40+'OEP RAW Data'!K90 -> 13272 | AE40: =AD40+'OEP RAW Data'!L90 -> 13340 | AF40: =AE40+'OEP RAW Data'!M90 -> 13347 | AK40: 18875 | AL40: 29603 | AM40: 34021 | AN40: 34386 | AO40: 34200 | AP40: 34071 | AQ40: 34318 | AT40: =AD40-W40 -> 432 | AU40: =(AD40/W40)^(1/7)-1 -> 0.0047385135 | AW40: =(AD40/AB40)^(1/2)-1 -> 0.0037125559
A41: ='OEP RAW Data'!A91 -> Hudson | B41: 1 | C41: HC | D41: 22 | E41: W | F41: NRPC | G41: 4369 | H41: 6902 | I41: ='OEP RAW Data'!C91 -> 8165 | J41: ='OEP RAW Data'!N91 -> 9212 | K41: =(H41/G41)^(1/(1990-1980))-1 -> 0.046789339 | L41: =(I41/H41)^(1/(2000-1990))-1 -> 0.016946541 | M41: =(J41/I41)^(1/(2010-2000))-1 -> 0.012138102 | N41: =AK41/G41 -> 3.2094301 | O41: =AL41/H41 -> 2.8296146 | P41: =AM41/W41 -> 2.7916717 | Q41: =AN41/AC41 -> 2.7028364 | R41: =AO41/AD41 -> 2.8743032 | S41: =AP41/AE41 -> 2.6778516 | T41: =AQ41/AF41 -> 2.6875476 | W41: ='OEP RAW Data'!C91+'OEP RAW Data'!D91 -> 8213 | X41: =W41+'OEP RAW Data'!E91 -> 8331 | Y41: =X41+'OEP RAW Data'!F91 -> 8545 | Z41: =Y41+'OEP RAW Data'!G91 -> 8722 | AA41: =Z41+'OEP RAW Data'!H91 -> 8862 | AB41: =AA41+'OEP RAW Data'!I91 -> 8988 | AC41: =AB41+'OEP RAW Data'!J91 -> 9096 | AD41: =AC41+'OEP RAW Data'!K91 -> 9149 | AE41: =AD41+'OEP RAW Data'!L91 -> 9179 | AF41: =AE41+'OEP RAW Data'!M91 -> 9195 | AK41: 14022 | AL41: 19530 | AM41: 22928 | AN41: 24585 | AO41: 26297 | AP41: 24580 | AQ41: 24712 | AT41: =AD41-W41 -> 936 | AU41: =(AD41/W41)^(1/7)-1 -> 0.015537517 | AW41: =(AD41/AB41)^(1/2)-1 -> 0.0089166331
A42: ='OEP RAW Data'!A92 -> Litchfield | B42: 1 | C42: HC | D42: 22 | E42: W | F42: NRPC | G42: 1319 | H42: 1845 | I42: ='OEP RAW Data'!C92 -> 2389 | J42: ='OEP RAW Data'!N92 -> 2912 | K42: =(H42/G42)^(1/(1990-1980))-1 -> 0.034130048 | L42: =(I42/H42)^(1/(2000-1990))-1 -> 0.026176295 | M42: =(J42/I42)^(1/(2010-2000))-1 -> 0.019993777 | N42: =AK42/G42 -> 3.146323 | O42: =AL42/H42 -> 2.9897019 | P42: =AM42/W42 -> 2.9918699 | Q42: =AN42/AC42 -> 2.9325132 | R42: =AO42/AD42 -> 2.9063256 | S42: =AP42/AE42 -> 2.9139711 | T42: =AQ42/AF42 -> 2.899694 | W42: ='OEP RAW Data'!C92+'OEP RAW Data'!D92 -> 2460 | X42: =W42+'OEP RAW Data'!E92 -> 2477 | Y42: =X42+'OEP RAW Data'!F92 -> 2541 | Z42: =Y42+'OEP RAW Data'!G92 -> 2607 | AA42: =Z42+'OEP RAW Data'!H92 -> 2673 | AB42: =AA42+'OEP RAW Data'!I92 -> 2798 | AC42: =AB42+'OEP RAW Data'!J92 -> 2845 | AD42: =AC42+'OEP RAW Data'!K92 -> 2893 | AE42: =AD42+'OEP RAW Data'!L92 -> 2906 | AF42: =AE42+'OEP RAW Data'!M92 -> 2941 | AK42: 4150 | AL42: 5516 | AM42: 7360 | AN42: 8343 | AO42: 8408 | AP42: 8468 | AQ42: 8528 | AT42: =AD42-W42 -> 433 | AU42: =(AD42/W42)^(1/7)-1 -> 0.023432129 | AW42: =(AD42/AB42)^(1/2)-1 -> 0.016834708
A43: ='OEP RAW Data'!A93 -> Londonderry | B43: 1 | C43: RC | D43: 22 | E43: W | F43: SNHPC | G43: 4581 | H43: 6739 | I43: ='OEP RAW Data'!C93 -> 7718 | J43: ='OEP RAW Data'!N93 -> 8771 | K43: =(H43/G43)^(1/(1990-1980))-1 -> 0.039354059 | L43: =(I43/H43)^(1/(2000-1990))-1 -> 0.013656785 | M43: =(J43/I43)^(1/(2010-2000))-1 -> 0.012871692 | N43: =AK43/G43 -> 2.9683475 | O43: =AL43/H43 -> 2.935302 | P43: =AM43/W43 -> 2.9547304 | Q43: =AN43/AC43 -> 2.8927731 | R43: =AO43/AD43 -> 2.8780431 | S43: =AP43/AE43 -> 2.8642882 | T43: =AQ43/AF43 -> 2.8757995 | W43: ='OEP RAW Data'!C93+'OEP RAW Data'!D93 -> 7864 | X43: =W43+'OEP RAW Data'!E93 -> 7972 | Y43: =X43+'OEP RAW Data'!F93 -> 8012 | Z43: =Y43+'OEP RAW Data'!G93 -> 8145 | AA43: =Z43+'OEP RAW Data'!H93 -> 8320 | AB43: =AA43+'OEP RAW Data'!I93 -> 8405 | AC43: =AB43+'OEP RAW Data'!J93 -> 8496 | AD43: =AC43+'OEP RAW Data'!K93 -> 8544 | AE43: =AD43+'OEP RAW Data'!L93 -> 8577 | AF43: =AE43+'OEP RAW Data'!M93 -> 8599 | AK43: 13598 | AL43: 19781 | AM43: 23236 | AN43: 24577 | AO43: 24590 | AP43: 24567 | AQ43: 24729 | AT43: =AD43-W43 -> 680 | AU43: =(AD43/W43)^(1/7)-1 -> 0.011918162 | AW43: =(AD43/AB43)^(1/2)-1 -> 0.0082349801
A44: ='OEP RAW Data'!A94 -> Merrimack | B44: 1 | C44: HC | D44: 22 | E44: W | F44: NRPC | G44: 4584 | H44: 7915 | I44: ='OEP RAW Data'!C94 -> 8959 | J44: ='OEP RAW Data'!N94 -> 9818 | K44: =(H44/G44)^(1/(1990-1980))-1 -> 0.056137908 | L44: =(I44/H44)^(1/(2000-1990))-1 -> 0.012466965 | M44: =(J44/I44)^(1/(2010-2000))-1 -> 0.0091979255 | N44: =AK44/G44 -> 3.3608202 | O44: =AL44/H44 -> 2.7992419 | P44: =AM44/W44 -> 2.7470472 | Q44: =AN44/AC44 -> 2.6938484 | R44: =AO44/AD44 -> 2.6825462 | S44: =AP44/AE44 -> 2.6588343 | T44: =AQ44/AF44 -> 2.6634908 | W44: ='OEP RAW Data'!C94+'OEP RAW Data'!D94 -> 9144 | X44: =W44+'OEP RAW Data'!E94 -> 9383 | Y44: =X44+'OEP RAW Data'!F94 -> 9455 | Z44: =Y44+'OEP RAW Data'!G94 -> 9552 | AA44: =Z44+'OEP RAW Data'!H94 -> 9649 | AB44: =AA44+'OEP RAW Data'!I94 -> 9703 | AC44: =AB44+'OEP RAW Data'!J94 -> 9786 | AD44: =AC44+'OEP RAW Data'!K94 -> 9803 | AE44: =AD44+'OEP RAW Data'!L94 -> 9831 | AF44: =AE44+'OEP RAW Data'!M94 -> 9866 | AK44: 15406 | AL44: 22156 | AM44: 25119 | AN44: 26362 | AO44: 26297 | AP44: 26139 | AQ44: 26278 | AT44: =AD44-W44 -> 659 | AU44: =(AD44/W44)^(1/7)-1 -> 0.0099910859 | AW44: =(AD44/AB44)^(1/2)-1 -> 0.0051398365
A45: ='OEP RAW Data'!A95 -> Nashua | B45: 1 | C45: HC | D45: 22 | E45: W | F45: NRPC | G45: 25444 | H45: 33383 | I45: ='OEP RAW Data'!C95 -> 35387 | J45: ='OEP RAW Data'!N95 -> 37168 | K45: =(H45/G45)^(1/(1990-1980))-1 -> 0.027528786 | L45: =(I45/H45)^(1/(2000-1990))-1 -> 0.0058467995 | M45: =(J45/I45)^(1/(2010-2000))-1 -> 0.0049224411 | N45: =AK45/G45 -> 2.66723 | O45: =AL45/H45 -> 2.3863044 | P45: =AM45/W45 -> 2.4339554 | Q45: =AN45/AC45 -> 2.3847829 | R45: =AO45/AD45 -> 2.3543237 | S45: =AP45/AE45 -> 2.3409384 | T45: =AQ45/AF45 -> 2.3412117 | W45: ='OEP RAW Data'!C95+'OEP RAW Data'!D95 -> 35582 | X45: =W45+'OEP RAW Data'!E95 -> 35737 | Y45: =X45+'OEP RAW Data'!F95 -> 35851 | Z45: =Y45+'OEP RAW Data'!G95 -> 36189 | AA45: =Z45+'OEP RAW Data'!H95 -> 36362 | AB45: =AA45+'OEP RAW Data'!I95 -> 36587 | AC45: =AB45+'OEP RAW Data'!J95 -> 36735 | AD45: =AC45+'OEP RAW Data'!K95 -> 37017 | AE45: =AD45+'OEP RAW Data'!L95 -> 37212 | AF45: =AE45+'OEP RAW Data'!M95 -> 37402 | AK45: 67865 | AL45: 79662 | AM45: 86605 | AN45: 87605 | AO45: 87150 | AP45: 87111 | AQ45: 87566 | AT45: =AD45-W45 -> 1435 | AU45: =(AD45/W45)^(1/7)-1 -> 0.0056641775 | AW45: =(AD45/AB45)^(1/2)-1 -> 0.0058592388
A46: ='OEP RAW Data'!A96 -> Pelham | B46: 1 | C46: HC | D46: 26 | E46: W | F46: NRPC | G46: 2408 | H46: 3118 | I46: ='OEP RAW Data'!C96 -> 3740 | J46: ='OEP RAW Data'!N96 -> 4598 | K46: =(H46/G46)^(1/(1990-1980))-1 -> 0.026176259 | L46: =(I46/H46)^(1/(2000-1990))-1 -> 0.018355819 | M46: =(J46/I46)^(1/(2010-2000))-1 -> 0.020868343 | N46: =AK46/G46 -> 3.3596346 | O46: =AL46/H46 -> 3.0173188 | P46: =AM46/W46 -> 2.8333333 | Q46: =AN46/AC46 -> 2.8220358 | R46: =AO46/AD46 -> 2.8011709 | S46: =AP46/AE46 -> 2.7842611 | T46: =AQ46/AF46 -> 2.7951002 | W46: ='OEP RAW Data'!C96+'OEP RAW Data'!D96 -> 3852 | X46: =W46+'OEP RAW Data'!E96 -> 3967 | Y46: =X46+'OEP RAW Data'!F96 -> 4125 | Z46: =Y46+'OEP RAW Data'!G96 -> 4244 | AA46: =Z46+'OEP RAW Data'!H96 -> 4327 | AB46: =AA46+'OEP RAW Data'!I96 -> 4371 | AC46: =AB46+'OEP RAW Data'!J96 -> 4411 | AD46: =AC46+'OEP RAW Data'!K96 -> 4441 | AE46: =AD46+'OEP RAW Data'!L96 -> 4473 | AF46: =AE46+'OEP RAW Data'!M96 -> 4490 | AK46: 8090 | AL46: 9408 | AM46: 10914 | AN46: 12448 | AO46: 12440 | AP46: 12454 | AQ46: 12550 | AT46: =AD46-W46 -> 589 | AU46: =(AD46/W46)^(1/7)-1 -> 0.020534721 | AW46: =(AD46/AB46)^(1/2)-1 -> 0.0079755165
A47: ='OEP RAW Data'!A97 -> Salem | B47: 1 | C47: RC | D47: 27 | E47: W | F47: RPC | G47: 8425 | H47: 9897 | I47: ='OEP RAW Data'!C97 -> 10866 | J47: ='OEP RAW Data'!N97 -> 11810 | K47: =(H47/G47)^(1/(1990-1980))-1 -> 0.01623317 | L47: =(I47/H47)^(1/(2000-1990))-1 -> 0.0093844572 | M47: =(J47/I47)^(1/(2010-2000))-1 -> 0.0083655959 | N47: =AK47/G47 -> 2.8633828 | O47: =AL47/H47 -> 2.6013944 | P47: =AM47/W47 -> 2.5593591 | Q47: =AN47/AC47 -> 2.4763838 | R47: =AO47/AD47 -> 2.4560112 | S47: =AP47/AE47 -> 2.4400495 | T47: =AQ47/AF47 -> 2.4405105 | W47: ='OEP RAW Data'!C97+'OEP RAW Data'!D97 -> 10984 | X47: =W47+'OEP RAW Data'!E97 -> 11120 | Y47: =X47+'OEP RAW Data'!F97 -> 11213 | Z47: =Y47+'OEP RAW Data'!G97 -> 11637 | AA47: =Z47+'OEP RAW Data'!H97 -> 11889 | AB47: =AA47+'OEP RAW Data'!I97 -> 12010 | AC47: =AB47+'OEP RAW Data'!J97 -> 12068 | AD47: =AC47+'OEP RAW Data'!K97 -> 12094 | AE47: =AD47+'OEP RAW Data'!L97 -> 12110 | AF47: =AE47+'OEP RAW Data'!M97 -> 12145 | AK47: 24124 | AL47: 25746 | AM47: 28112 | AN47: 29885 | AO47: 29703 | AP47: 29549 | AQ47: 29640 | AT47: =AD47-W47 -> 1110 | AU47: =(AD47/W47)^(1/7)-1 -> 0.013847833 | AW47: =(AD47/AB47)^(1/2)-1 -> 0.0034909922
A48: ='OEP RAW Data'!A98 -> Windham | B48: 1 | C48: RC | D48: 22 | E48: W | F48: RPC | G48: 1726 | H48: 3327 | I48: ='OEP RAW Data'!C98 -> 3906 | J48: ='OEP RAW Data'!N98 -> 5164 | K48: =(H48/G48)^(1/(1990-1980))-1 -> 0.067827745 | L48: =(I48/H48)^(1/(2000-1990))-1 -> 0.016173684 | M48: =(J48/I48)^(1/(2010-2000))-1 -> 0.028313173 | N48: =AK48/G48 -> 3.2815759 | O48: =AL48/H48 -> 2.7051398 | P48: =AM48/W48 -> 2.5711885 | Q48: =AN48/AC48 -> 2.6116988 | R48: =AO48/AD48 -> 2.5802645 | S48: =AP48/AE48 -> 2.5826788 | T48: =AQ48/AF48 -> 2.5986 | W48: ='OEP RAW Data'!C98+'OEP RAW Data'!D98 -> 4165 | X48: =W48+'OEP RAW Data'!E98 -> 4331 | Y48: =X48+'OEP RAW Data'!F98 -> 4434 | Z48: =Y48+'OEP RAW Data'!G98 -> 4548 | AA48: =Z48+'OEP RAW Data'!H98 -> 4665 | AB48: =AA48+'OEP RAW Data'!I98 -> 4737 | AC48: =AB48+'OEP RAW Data'!J98 -> 4821 | AD48: =AC48+'OEP RAW Data'!K98 -> 4915 | AE48: =AD48+'OEP RAW Data'!L98 -> 4965 | AF48: =AE48+'OEP RAW Data'!M98 -> 5000 | AK48: 5664 | AL48: 9000 | AM48: 10709 | AN48: 12591 | AO48: 12682 | AP48: 12823 | AQ48: 12993 | AT48: =AD48-W48 -> 750 | AU48: =(AD48/W48)^(1/7)-1 -> 0.023935606 | AW48: =(AD48/AB48)^(1/2)-1 -> 0.018615003
A49: ='OEP RAW Data'!A99 -> CEDS Western Towns Totals: | B49: 0 | C49: RC | E49: WT | G49: =SUM(G40:G48) -> 59924 | H49: =SUM(H40:H48) -> 84995 | I49: ='OEP RAW Data'!C99 -> 93865 | J49: ='OEP RAW Data'!N99 -> 102730 | K49: =(H49/G49)^(1/(1990-1980))-1 -> 0.035569518 | L49: =(I49/H49)^(1/(2000-1990))-1 -> 0.0099759461 | M49: =(J49/I49)^(1/(2010-2000))-1 -> 0.0090655058 | N49: =AK49/G49 -> 2.8668647 | O49: =AL49/H49 -> 2.5931172 | P49: =AM49/W49 -> 2.6182285 | Q49: =AM49/AC49 -> 2.4533139 | R49: =AO49/AD49 -> 2.5631267 | S49: =AP49/AE49 -> 2.5319661 | T49: =AQ49/AF49 -> 2.5373987 | W49: ='OEP RAW Data'!C99+'OEP RAW Data'!D99 -> 95104 | X49: =W49+'OEP RAW Data'!E99 -> 96203 | Y49: =X49+'OEP RAW Data'!F99 -> 97116 | Z49: =Y49+'OEP RAW Data'!G99 -> 98650 | AA49: =Z49+'OEP RAW Data'!H99 -> 99844 | AB49: =AA49+'OEP RAW Data'!I99 -> 100773 | AC49: =AB49+'OEP RAW Data'!J99 -> 101497 | AD49: =AC49+'OEP RAW Data'!K99 -> 102128 | AE49: =AD49+'OEP RAW Data'!L99 -> 102593 | AF49: =AE49+'OEP RAW Data'!M99 -> 102985 | AK49: =SUM(AK40:AK48) -> 171794 | AL49: =SUM(AL40:AL48) -> 220402 | AM49: =SUM(AM40:AM48) -> 249004 | AN49: 101439 | AO49: =SUM(AO40:AO48) -> 261767 | AP49: =SUM(AP40:AP48) -> 259762 | AQ49: 261314 | AT49: =AD49-W49 -> 7024 | AU49: =(AD49/W49)^(1/7)-1 -> 0.010231401 | AW49: =(AD49/AB49)^(1/2)-1 -> 0.0067005821
A50: REDC CEDS Region Totals: | G50: =SUM(G49,G39,G21) -> 106256 | H50: =SUM(H49,H39,H21) -> 154936 | I50: =SUM(I49,I39,I21) -> 171663 | J50: =SUM(J49,J39,J21) -> 190417 | K50: =(H50/G50)^(1/(1990-1980))-1 -> 0.038436364 | L50: =(I50/H50)^(1/(2000-1990))-1 -> 0.010304845 | M50: =(J50/I50)^(1/(2010-2000))-1 -> 0.010422252 | N50: =AK50/G50 -> 0 | O50: =AL50/H50 -> 0 | P50: =AM50/W50 -> 2.4681079 | Q50: =AM50/AC50 -> 2.2920173 | R50: =AO50/AD50 -> 2.4166936 | S50: =AP50/AE50 -> 2.3977343 | T50: =AQ50/AF50 -> 2.3995845 | W50: ='OEP RAW Data'!C100+'OEP RAW Data'!D100 -> 174338 | X50: =W50+'OEP RAW Data'!E100 -> 176558 | Y50: =X50+'OEP RAW Data'!F100 -> 178759 | Z50: =Y50+'OEP RAW Data'!G100 -> 181627 | AA50: =Z50+'OEP RAW Data'!H100 -> 184205 | AB50: =AA50+'OEP RAW Data'!I100 -> 186362 | AC50: =AB50+'OEP RAW Data'!J100 -> 187732 | AD50: =AC50+'OEP RAW Data'!K100 -> 188911 | AE50: =AD50+'OEP RAW Data'!L100 -> 189878 | AF50: =AE50+'OEP RAW Data'!M100 -> 190603 | AM50: =SUM(AM21,AM39,AM49) -> 430285 | AO50: =SUM(AO49,AO39,AO21) -> 456540 | AP50: =SUM(AP49,AP39,AP21) -> 455277 | AQ50: 457368
A51: ='OEP RAW Data'!A101 -> Hillsborough County Totals: | B51: 0 | C51: HC | E51: HC | G51: 101208 | H51: 135622 | I51: ='OEP RAW Data'!C101 -> 149961 | J51: ='OEP RAW Data'!N101 -> 166053 | K51: =(H51/G51)^(1/(1990-1980))-1 -> 0.029701938 | L51: =(I51/H51)^(1/(2000-1990))-1 -> 0.01010104 | M51: =(J51/I51)^(1/(2010-2000))-1 -> 0.010245303 | N51: =AK51/G51 -> 0 | O51: =AL51/H51 -> 0 | P51: =AM51/W51 -> 2.5083548 | Q51: =AM51/AC51 -> 2.3289894 | R51: =AO51/AD51 -> 2.4390654 | S51: =AP51/AE51 -> 2.4261898 | T51: =AQ51/AF51 -> 2.4332422 | W51: ='OEP RAW Data'!C101+'OEP RAW Data'!D101 -> 151829 | X51: =W51+'OEP RAW Data'!E101 -> 153597 | Y51: =X51+'OEP RAW Data'!F101 -> 156026 | Z51: =Y51+'OEP RAW Data'!G101 -> 158232 | AA51: =Z51+'OEP RAW Data'!H101 -> 160374 | AB51: =AA51+'OEP RAW Data'!I101 -> 162164 | AC51: =AB51+'OEP RAW Data'!J101 -> 163522 | AD51: =AC51+'OEP RAW Data'!K101 -> 164570 | AE51: =AD51+'OEP RAW Data'!L101 -> 165255 | AF51: =AE51+'OEP RAW Data'!M101 -> 165741 | AM51: 380841 | AO51: 401397 | AP51: 400940 | AQ51: 403288
A52: ='OEP RAW Data'!A102 -> Rockingham County Totals: | B52: 0 | E52: RC | G52: 69375 | H52: 101773 | I52: ='OEP RAW Data'!C102 -> 113023 | J52: ='OEP RAW Data'!N102 -> 126709 | K52: =(H52/G52)^(1/(1990-1980))-1 -> 0.039065579 | L52: =(I52/H52)^(1/(2000-1990))-1 -> 0.010539806 | M52: =(J52/I52)^(1/(2010-2000))-1 -> 0.011495752 | N52: =AK52/G52 -> 2.7437117 | O52: 2.4 | P52: =AM52/W52 -> 2.4099942 | Q52: =AM52/AC52 -> 2.2213777 | R52: =AO52/AD52 -> 2.356424 | S52: =AP52/AE52 -> 2.3405881 | T52: =AQ52/AF52 -> 2.350043 | W52: ='OEP RAW Data'!C102+'OEP RAW Data'!D102 -> 115087 | X52: =W52+'OEP RAW Data'!E102 -> 116663 | Y52: =X52+'OEP RAW Data'!F102 -> 118242 | Z52: =Y52+'OEP RAW Data'!G102 -> 120313 | AA52: =Z52+'OEP RAW Data'!H102 -> 122332 | AB52: =AA52+'OEP RAW Data'!I102 -> 123915 | AC52: =AB52+'OEP RAW Data'!J102 -> 124859 | AD52: =AC52+'OEP RAW Data'!K102 -> 125592 | AE52: =AD52+'OEP RAW Data'!L102 -> 126261 | AF52: =AE52+'OEP RAW Data'!M102 -> 126693 | AK52: 190345 | AL52: 245845 | AM52: 277359 | AN52: 296565 | AO52: 295948 | AP52: 295525 | AQ52: 297734 | AT52: =AD52-W52 -> 10505 | AU52: =(AD52/W52)^(1/7)-1 -> 0.012556782 | AW52: =(AD52/AB52)^(1/2)-1 -> 0.0067439945
A53: ='OEP RAW Data'!A103 -> State of NH Totals: | B53: 0 | E53: NH | G53: 349001 | H53: 503541 | I53: ='OEP RAW Data'!C103 -> 546524 | J53: ='OEP RAW Data'!N103 -> 614754 | K53: =(H53/G53)^(1/(1990-1980))-1 -> 0.037339264 | L53: =(I53/H53)^(1/(2000-1990))-1 -> 0.0082249489 | M53: =(J53/I53)^(1/(2010-2000))-1 -> 0.011833869 | N53: =AK53/G53 -> 2.6374566 | O53: =AL53/H53 -> 2.202903 | P53: =AM53/W53 -> 2.2299609 | Q53: =AM53/AC53 -> 2.0530634 | R53: =AO53/AD53 -> 2.1693191 | S53: =AP53/AE53 -> 2.1583596 | T53: =AQ53/AF53 -> 2.1663949 | W53: ='OEP RAW Data'!C103+'OEP RAW Data'!D103 -> 554068 | X53: =W53+'OEP RAW Data'!E103 -> 561147 | Y53: =X53+'OEP RAW Data'!F103 -> 570045 | Z53: =Y53+'OEP RAW Data'!G103 -> 579308 | AA53: =Z53+'OEP RAW Data'!H103 -> 588378 | AB53: =AA53+'OEP RAW Data'!I103 -> 596080 | AC53: =AB53+'OEP RAW Data'!J103 -> 601808 | AD53: =AC53+'OEP RAW Data'!K103 -> 606181 | AE53: =AD53+'OEP RAW Data'!L103 -> 609259 | AF53: =AE53+'OEP RAW Data'!M103 -> 611419 | AK53: 920475 | AL53: 1109252 | AM53: 1235550 | AN53: 1315000 | AO53: 1315000 | AP53: 1315000 | AQ53: 1324575 | AT53: =AD53-W53 -> 52113 | AU53: =(AD53/W53)^(1/7)-1 -> 0.012924407 | AW53: =(AD53/AB53)^(1/2)-1 -> 0.0084372623
A55: NOTE 1: Decline in units in Portsmouth and Newington is attributed to the closure of Pease AFB
A56: Source: U.S. Census, and Current Estimates and Trends in New Hampshire's Housing Supply: NH OEP

Sheet B4 Purchase Prices - State
A1: Table B-4: Housing Purchase Prices - NH Counties | AB1: Updated October 2026
A3: All Homes
B4: Change from 2009-2013 | C4: 2004 | D4: 2005 | E4: 2006 | F4: 2007 | G4: 2008 | H4: 2009 | I4: 2010 | J4: 2011 | K4: 2012 | L4: 2013 | M4: 2014 | N4: 2015 | O4: 2016 | P4: 2017 | Q4: 2018 | R4: 2019 | S4: 2020 | T4: 2021 | U4: 2022 | V4: 2023 | W4: 2024 | X4: 2025 | Y4: 1-yr change 2024 to 2025 | Z4: % Change 1-YR | AA4: 5-yr change 2020 to 2025 | AB4: % Change 5-YR
A5: Hillsborough County | B5: =(L5-H5)/H5 -> 0.029748284 | C5: 249900 | D5: 263000 | E5: 262000 | F5: 265000 | G5: 244900 | H5: 218500 | I5: 224900 | J5: 210533 | K5: 209900 | L5: 225000 | M5: 216766 | N5: 225000 | O5: 235000 | P5: 250000 | Q5: 265000 | R5: 282000 | S5: 317000 | T5: 372266 | U5: 415000 | V5: 430000 | W5: 475000 | X5: 500000 | Y5: =X5-W5 -> 25000 | Z5: =Y5/W5 -> 0.052631579 | AA5: =X5-S5 -> 183000 | AB5: =AA5/S5 -> 0.57728707
A6: Rockingham County | B6: =(L6-H6)/H6 -> 0.089068826 | C6: 284900 | D6: 303900 | E6: 303750 | F6: 300000 | G6: 285000 | H6: 247000 | I6: 259000 | J6: 250000 | K6: 255000 | L6: 269000 | M6: 268000 | N6: 275000 | O6: 294000 | P6: 314000 | Q6: 330000 | R6: 349000 | S6: 395000 | T6: 449933 | U6: 501266 | V6: 530000 | W6: 576000 | X6: 618000 | Y6: =X6-W6 -> 42000 | Z6: =Y6/W6 -> 0.072916667 | AA6: =X6-S6 -> 223000 | AB6: =AA6/S6 -> 0.56455696
A7: Belknap County | B7: =(L7-H7)/H7 -> 0.014117647 | C7: 194000 | D7: 220000 | E7: 224900 | F7: 219000 | G7: 215000 | H7: 170000 | I7: 175000 | J7: 170000 | K7: 170000 | L7: 172400 | M7: 194933 | N7: 191333 | O7: 200000 | P7: 205000 | Q7: 219993 | R7: 240000 | S7: 268000 | T7: 315833 | U7: 380000 | V7: 399000 | W7: 450000 | X7: 475000 | Y7: =X7-W7 -> 25000 | Z7: =Y7/W7 -> 0.055555556 | AA7: =X7-S7 -> 207000 | AB7: =AA7/S7 -> 0.77238806
A8: Carroll County | B8: =(L8-H8)/H8 -> 0.058823529 | C8: 196000 | D8: 210000 | E8: 215000 | F8: 219900 | G8: 210000 | H8: 170000 | I8: 180000 | J8: 173000 | K8: 169000 | L8: 180000 | M8: 186500 | N8: 199000 | O8: 199466 | P8: 217000 | Q8: 218000 | R8: 239000 | S8: 270000 | T8: 329000 | U8: 379933 | V8: 420000 | W8: 441000 | X8: 483000 | Y8: =X8-W8 -> 42000 | Z8: =Y8/W8 -> 0.095238095 | AA8: =X8-S8 -> 213000 | AB8: =AA8/S8 -> 0.78888889
A9: Cheshire County | B9: =(L9-H9)/H9 -> -0.03472631 | C9: 177000 | D9: 191000 | E9: 201000 | F9: 205000 | G9: 192500 | H9: 169900 | I9: 166000 | J9: 159000 | K9: 164500 | L9: 164000 | M9: 160000 | N9: 163933 | O9: 169933 | P9: 178000 | Q9: 181000 | R9: 199800 | S9: 233000 | T9: 265000 | U9: 280000 | V9: 309400 | W9: 350000 | X9: 380000 | Y9: =X9-W9 -> 30000 | Z9: =Y9/W9 -> 0.085714286 | AA9: =X9-S9 -> 147000 | AB9: =AA9/S9 -> 0.63090129
A10: Coos County | B10: =(L10-H10)/H10 -> 0.1075 | C10: 93500 | D10: 105000 | E10: 119900 | F10: 127533 | G10: 115000 | H10: 80000 | I10: 95000 | J10: 90000 | K10: 98000 | L10: 88600 | M10: 118600 | N10: 104466 | O10: 100000 | P10: 105000 | Q10: 110000 | R10: 120000 | S10: 145000 | T10: 160000 | U10: 195000 | V10: 216000 | W10: 220000 | X10: 265000 | Y10: =X10-W10 -> 45000 | Z10: =Y10/W10 -> 0.20454545 | AA10: =X10-S10 -> 120000 | AB10: =AA10/S10 -> 0.82758621
A11: Grafton County | B11: =(L11-H11)/H11 -> 0.043956044 | C11: 181000 | D11: 199000 | E11: 212500 | F11: 221000 | G11: 212500 | H11: 182000 | I11: 185000 | J11: 189425 | K11: 185000 | L11: 190000 | M11: 168000 | N11: 180166 | O11: 189933 | P11: 185000 | Q11: 200000 | R11: 207533 | S11: 231000 | T11: 275000 | U11: 326500 | V11: 355000 | W11: 400000 | X11: 430000 | Y11: =X11-W11 -> 30000 | Z11: =Y11/W11 -> 0.075 | AA11: =X11-S11 -> 199000 | AB11: =AA11/S11 -> 0.86147186
A12: Merrimack County | B12: =(L12-H12)/H12 -> 0.013006503 | C12: 222000 | D12: 234000 | E12: 238733 | F12: 238000 | G12: 232000 | H12: 199900 | I12: 195000 | J12: 182000 | K12: 185000 | L12: 202500 | M12: 201533 | N12: 199600 | O12: 210000 | P12: 228000 | Q12: 240000 | R12: 249900 | S12: 280500 | T12: 327000 | U12: 365000 | V12: 390000 | W12: 423733 | X12: 470000 | Y12: =X12-W12 -> 46267 | Z12: =Y12/W12 -> 0.10918904 | AA12: =X12-S12 -> 189500 | AB12: =AA12/S12 -> 0.67557932
A13: Strafford County | B13: =(L13-H13)/H13 -> 0.025993547 | C13: 220000 | D13: 235000 | E13: 229900 | F13: 235000 | G13: 225500 | H13: 194933 | I13: 195000 | J13: 186000 | K13: 187900 | L13: 200000 | M13: 210000 | N13: 205000 | O13: 211500 | P13: 229933 | Q13: 244933 | R13: 255000 | S13: 284533 | T13: 320000 | U13: 365000 | V13: 390000 | W13: 439000 | X13: 454750 | Y13: =X13-W13 -> 15750 | Z13: =Y13/W13 -> 0.035876993 | AA13: =X13-S13 -> 170217 | AB13: =AA13/S13 -> 0.59823289
A14: Sullivan County | B14: =(L14-H14)/H14 -> -0.0067114094 | C14: 147000 | D14: 170500 | E14: 182500 | F14: 190000 | G14: 185000 | H14: 149000 | I14: 153000 | J14: 149900 | K14: 158500 | L14: 148000 | M14: 144500 | N14: 157000 | O14: 159000 | P14: 159000 | Q14: 172000 | R14: 175566 | S14: 212766 | T14: 238000 | U14: 275000 | V14: 300000 | W14: 340000 | X14: 367000 | Y14: =X14-W14 -> 27000 | Z14: =Y14/W14 -> 0.079411765 | AA14: =X14-S14 -> 154234 | AB14: =AA14/S14 -> 0.72489966
A15: New Hampshire | B15: =(L15-H15)/H15 -> 0.047619048 | C15: 238000 | D15: 250000 | E15: 249900 | F15: 252500 | G15: 240000 | H15: 210000 | I15: 215000 | J15: 207000 | K15: 205000 | L15: 220000 | M15: 219000 | N15: 221000 | O15: 230000 | P15: 240000 | Q15: 254000 | R15: 270000 | S15: 302333 | T15: 350000 | U15: 400000 | V15: 418000 | W15: 465000 | X15: 495250 | Y15: =X15-W15 -> 30250 | Z15: =Y15/W15 -> 0.065053763 | AA15: =X15-S15 -> 192917 | AB15: =AA15/S15 -> 0.63809442
A17: Existing Homes
B18: Change from 2009-2013 | C18: 2004 | D18: 2005 | E18: 2006 | F18: 2007 | G18: 2008 | H18: 2009 | I18: 2010 | J18: 2011 | K18: 2012 | L18: 2013 | M18: 2014 | N18: 2015 | O18: 2016 | P18: 2017 | Q18: 2018 | R18: 2019 | S18: 2020 | T18: 2021 | U18: 2022 | V18: 2023 | W18: 2024 | X18: 2025 | Y18: 1-yr change 2024 to 2025 | Z18: % Change 1-YR | AA18: 5-yr change 2020 to 2025 | AB18: % Change 5-YR
A19: Hillsborough County | B19: =(L19-H19)/H19 -> 0.035294118 | C19: 240000 | D19: 252500 | E19: 252500 | F19: 255000 | G19: 234900 | H19: 212500 | I19: 217500 | J19: 206000 | K19: 203000 | L19: 220000 | M19: 211000 | N19: 224000 | O19: 232533 | P19: 247000 | Q19: 262000 | R19: 280000 | S19: 315000 | T19: 370000 | U19: 410000 | V19: 425000 | W19: 475000 | X19: 495000 | Y19: =X19-W19 -> 20000 | Z19: =Y19/W19 -> 0.042105263 | AA19: =X19-S19 -> 180000 | AB19: =AA19/S19 -> 0.57142857
A20: Rockingham County | B20: =(L20-H20)/H20 -> 0.083333333 | C20: 275000 | D20: 295000 | E20: 290000 | F20: 290000 | G20: 275000 | H20: 240000 | I20: 250000 | J20: 245000 | K20: 247900 | L20: 260000 | M20: 255000 | N20: 272000 | O20: 286000 | P20: 306533 | Q20: 325000 | R20: 347000 | S20: 390000 | T20: 440000 | U20: 500000 | V20: 512533 | W20: 575000 | X20: 600000 | Y20: =X20-W20 -> 25000 | Z20: =Y20/W20 -> 0.043478261 | AA20: =X20-S20 -> 210000 | AB20: =AA20/S20 -> 0.53846154
A21: Belknap County | B21: =(L21-H21)/H21 -> 0.031515152 | C21: 185000 | D21: 210000 | E21: 215000 | F21: 210000 | G21: 210000 | H21: 165000 | I21: 173700 | J21: 166000 | K21: 165742 | L21: 170200 | M21: 191000 | N21: 190000 | O21: 199000 | P21: 204000 | Q21: 217533 | R21: 239966 | S21: 265000 | T21: 315000 | U21: 375000 | V21: 380000 | W21: 449000 | X21: 460000 | Y21: =X21-W21 -> 11000 | Z21: =Y21/W21 -> 0.024498886 | AA21: =X21-S21 -> 195000 | AB21: =AA21/S21 -> 0.73584906
A22: Carroll County | B22: =(L22-H22)/H22 -> 0.073818293 | C22: 192000 | D22: 207896 | E22: 210000 | F22: 217500 | G22: 201000 | H22: 167533 | I22: 180000 | J22: 170500 | K22: 167500 | L22: 179900 | M22: 186000 | N22: 198900 | O22: 199000 | P22: 215000 | Q22: 215000 | R22: 239000 | S22: 267766 | T22: 328000 | U22: 376000 | V22: 415000 | W22: 444000 | X22: 475000 | Y22: =X22-W22 -> 31000 | Z22: =Y22/W22 -> 0.06981982 | AA22: =X22-S22 -> 207234 | AB22: =AA22/S22 -> 0.77393694
A23: Cheshire County | B23: =(L23-H23)/H23 -> -0.017964072 | C23: 174000 | D23: 189000 | E23: 199000 | F23: 205000 | G23: 190000 | H23: 167000 | I23: 162500 | J23: 156900 | K23: 161000 | L23: 164000 | M23: 160000 | N23: 163533 | O23: 169900 | P23: 176266 | Q23: 181000 | R23: 199000 | S23: 232000 | T23: 265000 | U23: 280000 | V23: 305000 | W23: 350000 | X23: 371500 | Y23: =X23-W23 -> 21500 | Z23: =Y23/W23 -> 0.061428571 | AA23: =X23-S23 -> 139500 | AB23: =AA23/S23 -> 0.6012931
A24: Coos County | B24: =(L24-H24)/H24 -> 0.10314465 | C24: 90000 | D24: 105000 | E24: 115000 | F24: 125000 | G24: 115000 | H24: 79500 | I24: 94500 | J24: 90000 | K24: 98000 | L24: 87700 | M24: 118600 | N24: 104400 | O24: 99900 | P24: 105100 | Q24: 110000 | R24: 120000 | S24: 145000 | T24: 160000 | U24: 190000 | V24: 215500 | W24: 220000 | X24: 265000 | Y24: =X24-W24 -> 45000 | Z24: =Y24/W24 -> 0.20454545 | AA24: =X24-S24 -> 120000 | AB24: =AA24/S24 -> 0.82758621
A25: Grafton County | B25: =(L25-H25)/H25 -> 0.063218391 | C25: 178500 | D25: 193000 | E25: 208000 | F25: 220000 | G25: 208500 | H25: 174000 | I25: 183500 | J25: 185000 | K25: 180000 | L25: 185000 | M25: 165067 | N25: 180000 | O25: 189000 | P25: 183000 | Q25: 197000 | R25: 207090 | S25: 230000 | T25: 275000 | U25: 325000 | V25: 350000 | W25: 399000 | X25: 423500 | Y25: =X25-W25 -> 24500 | Z25: =Y25/W25 -> 0.061403509 | AA25: =X25-S25 -> 193500 | AB25: =AA25/S25 -> 0.84130435
A26: Merrimack County | B26: =(L26-H26)/H26 -> 0.020512821 | C26: 212000 | D26: 225000 | E26: 230500 | F26: 230000 | G26: 225900 | H26: 195000 | I26: 189000 | J26: 175000 | K26: 182600 | L26: 199000 | M26: 199000 | N26: 197000 | O26: 208000 | P26: 225000 | Q26: 239993 | R26: 248000 | S26: 280000 | T26: 325000 | U26: 362000 | V26: 385000 | W26: 421767 | X26: 460000 | Y26: =X26-W26 -> 38233 | Z26: =Y26/W26 -> 0.090649577 | AA26: =X26-S26 -> 180000 | AB26: =AA26/S26 -> 0.64285714
A27: Strafford County | B27: =(L27-H27)/H27 -> 0.054054054 | C27: 215000 | D27: 229000 | E27: 222000 | F27: 229000 | G27: 216000 | H27: 185000 | I27: 184500 | J27: 180000 | K27: 177000 | L27: 195000 | M27: 203000 | N27: 200000 | O27: 209933 | P27: 226800 | Q27: 240000 | R27: 253933 | S27: 280000 | T27: 315000 | U27: 361000 | V27: 380000 | W27: 429000 | X27: 450000 | Y27: =X27-W27 -> 21000 | Z27: =Y27/W27 -> 0.048951049 | AA27: =X27-S27 -> 170000 | AB27: =AA27/S27 -> 0.60714286
A28: Sullivan County | B28: =(L28-H28)/H28 -> -0.0061686086 | C28: 142000 | D28: 165000 | E28: 179900 | F28: 189000 | G28: 184500 | H28: 145900 | I28: 153000 | J28: 147000 | K28: 155000 | L28: 145000 | M28: 145000 | N28: 157000 | O28: 158000 | P28: 158000 | Q28: 170000 | R28: 175000 | S28: 212533 | T28: 235000 | U28: 275000 | V28: 300000 | W28: 340000 | X28: 364000 | Y28: =X28-W28 -> 24000 | Z28: =Y28/W28 -> 0.070588235 | AA28: =X28-S28 -> 151467 | AB28: =AA28/S28 -> 0.71267521
A29: New Hampshire | B29: =(L29-H29)/H29 -> 0.075 | C29: 229000 | D29: 240000 | E29: 240000 | F29: 245000 | G29: 231900 | H29: 200000 | I29: 205000 | J29: 200000 | K29: 199000 | L29: 215000 | M29: 213533 | N29: 219933 | O29: 225000 | P29: 237933 | Q29: 250000 | R29: 269933 | S29: 300000 | T29: 350000 | U29: 396000 | V29: 410000 | W29: 460000 | X29: 480000 | Y29: =X29-W29 -> 20000 | Z29: =Y29/W29 -> 0.043478261 | AA29: =X29-S29 -> 180000 | AB29: =AA29/S29 -> 0.6
A31: New Homes
B32: Change from 2009-2013 | C32: 2004 | D32: 2005 | E32: 2006 | F32: 2007 | G32: 2008 | H32: 2009 | I32: 2010 | J32: 2011 | K32: 2012 | L32: 2013 | M32: 2014 | N32: 2015 | O32: 2016 | P32: 2017 | Q32: 2018 | R32: 2019 | S32: 2020 | T32: 2021 | U32: 2022 | V32: 2023 | W32: 2024 | X32: 2025 | Y32: 1-yr change 2024 to 2025 | Z32: % Change 1-YR | AA32: 5-yr change 2020 to 2025 | AB32: % Change 5-YR
A33: Hillsborough County | B33: =(L33-H33)/H33 -> 0.035996666 | C33: 307000 | D33: 319900 | E33: 322900 | F33: 322400 | G33: 325000 | H33: 296333 | I33: 285000 | J33: 300000 | K33: 281594 | L33: 307000 | M33: 311333 | N33: 353866 | O33: 355933 | P33: 359933 | Q33: 359933 | R33: 420000 | S33: 396500 | T33: 462500 | U33: 612000 | V33: 649000 | W33: 479933 | X33: 639900 | Y33: =X33-W33 -> 159967 | Z33: =Y33/W33 -> 0.33331111 | AA33: =X33-S33 -> 243400 | AB33: =AA33/S33 -> 0.61387137 | AD33: =V33-V19 -> 224000
A34: Rockingham County | B34: =(L34-H34)/H34 -> 0.12280702 | C34: 320330 | D34: 334500 | E34: 351933 | F34: 338000 | G34: 336670 | H34: 285000 | I34: 294561 | J34: 284318 | K34: 299933 | L34: 320000 | M34: 358600 | N34: 347800 | O34: 380000 | P34: 405000 | Q34: 427000 | R34: 481100 | S34: 478533 | T34: 560000 | U34: 665000 | V34: 635000 | W34: 617467 | X34: 771300 | Y34: =X34-W34 -> 153833 | Z34: =Y34/W34 -> 0.24913558 | AA34: =X34-S34 -> 292767 | AB34: =AA34/S34 -> 0.61180107 | AD34: =V34-V20 -> 122467
A35: Belknap County | B35: n/a | C35: 249210 | D35: 295450 | E35: 296000 | F35: 259900 | G35: 250000 | H35: 236560 | I35: 205500 | J35: 223000 | K35: 258050 | L35: 229900 | M35: 251766 | N35: 296466 | O35: 504000 | P35: 284833 | Q35: 280000 | R35: 315500 | S35: 374933 | T35: 486733 | U35: 490000 | V35: 671000 | W35: 511767 | X35: 670605 | Y35: =X35-W35 -> 158838 | Z35: =Y35/W35 -> 0.31037171 | AA35: =X35-S35 -> 295672 | AB35: =AA35/S35 -> 0.78859956 | AD35: =V35-V21 -> 291000
A36: Carroll County | B36: n/a | C36: 219900 | D36: 221000 | E36: 235933 | F36: 224900 | G36: 231500 | H36: 245000 | I36: 197000 | J36: 260000 | K36: 197533 | L36: 182900 | M36: 190000 | N36: 260000 | O36: 275266 | P36: 315000 | Q36: 390000 | R36: 338966 | S36: 539000 | T36: 344966 | U36: 440000 | V36: 602500 | W36: 429000 | X36: 714450 | Y36: =X36-W36 -> 285450 | Z36: =Y36/W36 -> 0.66538462 | AA36: =X36-S36 -> 175450 | AB36: =AA36/S36 -> 0.3255102 | AD36: =V36-V22 -> 187500
A37: Cheshire County | B37: n/a | C37: 227300 | D37: 234900 | E37: 239933 | F37: 219900 | G37: 199933 | H37: 189900 | I37: 185000 | J37: 175000 | K37: 215900 | L37: 165600 | M37: 140500 | N37: 194500 | O37: 204466 | P37: 213200 | Q37: n/a | R37: 313500 | S37: 295000 | T37: 355000 | U37: 495000 | V37: 760600 | W37: 330000 | X37: 489500 | Y37: =X37-W37 -> 159500 | Z37: =Y37/W37 -> 0.48333333 | AA37: =X37-S37 -> 194500 | AB37: =AA37/S37 -> 0.65932203 | AD37: =V37-V23 -> 455600
A38: Coos County | B38: n/a | C38: 176000 | D38: N/A | E38: 210000 | F38: 190000 | G38: 150000 | H38: 248000 | I38: 325000 | J38: 137500 | K38: n/a | L38: 121500 | M38: 111766 | N38: 119000 | O38: 333500 | P38: n/a | Q38: n/a | R38: n/a | S38: 241933 | T38: 223200 | U38: 675500 | V38: 500000 | W38: 242200 | X38: 180000 | Y38: =X38-W38 -> -62200 | Z38: =Y38/W38 -> -0.25681255 | AA38: =X38-S38 -> -61933 | AB38: =AA38/S38 -> -0.25599236 | AD38: =V38-V24 -> 284500
A39: Grafton County | B39: n/a | C39: 209995 | D39: 260000 | E39: 232933 | F39: 240000 | G39: 230000 | H39: 250000 | I39: 219000 | J39: 234700 | K39: 242500 | L39: 254133 | M39: 265400 | N39: 227000 | O39: 350000 | P39: 340000 | Q39: 373000 | R39: 402500 | S39: 369000 | T39: 351000 | U39: 454266 | V39: 799533 | W39: 495000 | X39: 645537 | Y39: =X39-W39 -> 150537 | Z39: =Y39/W39 -> 0.30411515 | AA39: =X39-S39 -> 276537 | AB39: =AA39/S39 -> 0.74942276 | AD39: =V39-V25 -> 449533
A40: Merrimack County | B40: =(L40-H40)/H40 -> -0.029126214 | C40: 250000 | D40: 275025 | E40: 275000 | F40: 275110 | G40: 275700 | H40: 257500 | I40: 257000 | J40: 249900 | K40: 239061 | L40: 250000 | M40: 258000 | N40: 262933 | O40: 309000 | P40: 330000 | Q40: 332916 | R40: 362333 | S40: 324933 | T40: 482000 | U40: 492266 | V40: 658533 | W40: 427467 | X40: 650700 | Y40: =X40-W40 -> 223233 | Z40: =Y40/W40 -> 0.52222277 | AA40: =X40-S40 -> 325767 | AB40: =AA40/S40 -> 1.0025667 | AD40: =V40-V26 -> 273533
A41: Strafford County | B41: =(L41-H41)/H41 -> 0.28729753 | C41: 262000 | D41: 274900 | E41: 275000 | F41: 262400 | G41: 259900 | H41: 234600 | I41: 249900 | J41: 249900 | K41: 289900 | L41: 302000 | M41: 316266 | N41: 343466 | O41: 355866 | P41: 358500 | Q41: 352500 | R41: 364933 | S41: 386266 | T41: 420466 | U41: 564000 | V41: 599933 | W41: 530000 | X41: 589000 | Y41: =X41-W41 -> 59000 | Z41: =Y41/W41 -> 0.11132075 | AA41: =X41-S41 -> 202734 | AB41: =AA41/S41 -> 0.52485593 | AD41: =V41-V27 -> 219933
A42: Sullivan County | B42: n/a | C42: 197000 | D42: N/A | E42: 225000 | F42: 252000 | G42: 216574 | H42: 206000 | I42: 150000 | J42: 160000 | K42: 200000 | L42: 178533 | M42: 135500 | N42: 207466 | O42: 367466 | P42: 312033 | Q42: n/a | R42: n/a | S42: 675000 | T42: 555766 | U42: 727500 | V42: n/a | W42: 335000 | X42: 580000 | Y42: =X42-W42 -> 245000 | Z42: =Y42/W42 -> 0.73134328 | AA42: =X42-S42 -> -95000 | AB42: =AA42/S42 -> -0.14074074 | AD42: =V42-V28 -> #VALUE!
A43: New Hampshire | B43: =(L43-H43)/H43 -> 0.10703704 | C43: 284190 | D43: 299900 | E43: 312500 | F43: 300000 | G43: 295000 | H43: 270000 | I43: 270900 | J43: 267500 | K43: 280000 | L43: 298900 | M43: 315000 | N43: 337200 | O43: 361466 | P43: 365000 | Q43: 374266 | R43: 410000 | S43: 424933 | T43: 500000 | U43: 620000 | V43: 646300 | W43: 500000 | X43: 679871 | Y43: =X43-W43 -> 179871 | Z43: =Y43/W43 -> 0.359742 | AA43: =X43-S43 -> 254938 | AB43: =AA43/S43 -> 0.5999487 | AD43: =V43-V29 -> 236300
A45: Source: NH HFA Purchase Price Database, median price

Sheet 2025 ceds
A1: Table B-4: Housing Purchase Prices - NH Counties
Q3: All Homes | S3: Existing Homes | U3: New Homes
B4: Change from 2009-2013 | C4: 2004 | D4: 2005 | E4: 2006 | F4: 2007 | G4: 2008 | H4: 2009 | I4: 2010 | J4: 2011 | K4: 2012 | L4: 2013 | M4: 2014 | N4: 2015 | O4: 2016 | P4: 2017 | Q4: 2023 | R4: 2024 | S4: 2023 | T4: 2024 | U4: 2023 | V4: 2024
A5: Hillsborough County | B5: =(L5-H5)/H5 -> 0.029748284 | C5: 249900 | D5: 263000 | E5: 262000 | F5: 265000 | G5: 244900 | H5: 218500 | I5: 224900 | J5: 210533 | K5: 209900 | L5: 225000 | M5: 216766 | N5: 225000 | O5: 235000 | P5: 250000 | Q5: 430000 | R5: 475000 | S5: 425000 | T5: 475000 | U5: 649000 | V5: 479933
A6: Rockingham County | B6: =(L6-H6)/H6 -> 0.089068826 | C6: 284900 | D6: 303900 | E6: 303750 | F6: 300000 | G6: 285000 | H6: 247000 | I6: 259000 | J6: 250000 | K6: 255000 | L6: 269000 | M6: 268000 | N6: 275000 | O6: 294000 | P6: 314000 | Q6: 530000 | R6: 576000 | S6: 512533 | T6: 575000 | U6: 635000 | V6: 617467
A7: Belknap County | B7: =(L7-H7)/H7 -> 0.014117647 | C7: 194000 | D7: 220000 | E7: 224900 | F7: 219000 | G7: 215000 | H7: 170000 | I7: 175000 | J7: 170000 | K7: 170000 | L7: 172400 | M7: 194933 | N7: 191333 | O7: 200000 | P7: 205000 | Q7: 399000 | R7: 450000 | S7: 380000 | T7: 449000 | U7: 671000 | V7: 511767
A8: Carroll County | B8: =(L8-H8)/H8 -> 0.058823529 | C8: 196000 | D8: 210000 | E8: 215000 | F8: 219900 | G8: 210000 | H8: 170000 | I8: 180000 | J8: 173000 | K8: 169000 | L8: 180000 | M8: 186500 | N8: 199000 | O8: 199466 | P8: 217000 | Q8: 420000 | R8: 441000 | S8: 415000 | T8: 444000 | U8: 602500 | V8: 429000
A9: Cheshire County | B9: =(L9-H9)/H9 -> -0.03472631 | C9: 177000 | D9: 191000 | E9: 201000 | F9: 205000 | G9: 192500 | H9: 169900 | I9: 166000 | J9: 159000 | K9: 164500 | L9: 164000 | M9: 160000 | N9: 163933 | O9: 169933 | P9: 178000 | Q9: 309400 | R9: 350000 | S9: 305000 | T9: 350000 | U9: 760600 | V9: 330000
A10: Coos County | B10: =(L10-H10)/H10 -> 0.1075 | C10: 93500 | D10: 105000 | E10: 119900 | F10: 127533 | G10: 115000 | H10: 80000 | I10: 95000 | J10: 90000 | K10: 98000 | L10: 88600 | M10: 118600 | N10: 104466 | O10: 100000 | P10: 105000 | Q10: 216000 | R10: 220000 | S10: 215500 | T10: 220000 | U10: 500000 | V10: 242200
A11: Grafton County | B11: =(L11-H11)/H11 -> 0.043956044 | C11: 181000 | D11: 199000 | E11: 212500 | F11: 221000 | G11: 212500 | H11: 182000 | I11: 185000 | J11: 189425 | K11: 185000 | L11: 190000 | M11: 168000 | N11: 180166 | O11: 189933 | P11: 185000 | Q11: 355000 | R11: 400000 | S11: 350000 | T11: 399000 | U11: 799533 | V11: 495000
A12: Merrimack County | B12: =(L12-H12)/H12 -> 0.013006503 | C12: 222000 | D12: 234000 | E12: 238733 | F12: 238000 | G12: 232000 | H12: 199900 | I12: 195000 | J12: 182000 | K12: 185000 | L12: 202500 | M12: 201533 | N12: 199600 | O12: 210000 | P12: 228000 | Q12: 390000 | R12: 423733 | S12: 385000 | T12: 421767 | U12: 658533 | V12: 427467
A13: Strafford County | B13: =(L13-H13)/H13 -> 0.025993547 | C13: 220000 | D13: 235000 | E13: 229900 | F13: 235000 | G13: 225500 | H13: 194933 | I13: 195000 | J13: 186000 | K13: 187900 | L13: 200000 | M13: 210000 | N13: 205000 | O13: 211500 | P13: 229933 | Q13: 390000 | R13: 439000 | S13: 380000 | T13: 429000 | U13: 599933 | V13: 530000
A14: Sullivan County | B14: =(L14-H14)/H14 -> -0.0067114094 | C14: 147000 | D14: 170500 | E14: 182500 | F14: 190000 | G14: 185000 | H14: 149000 | I14: 153000 | J14: 149900 | K14: 158500 | L14: 148000 | M14: 144500 | N14: 157000 | O14: 159000 | P14: 159000 | Q14: 300000 | R14: 340000 | S14: 300000 | T14: 340000 | U14: n/a | V14: 335000
A15: New Hampshire | B15: =(L15-H15)/H15 -> 0.047619048 | C15: 238000 | D15: 250000 | E15: 249900 | F15: 252500 | G15: 240000 | H15: 210000 | I15: 215000 | J15: 207000 | K15: 205000 | L15: 220000 | M15: 219000 | N15: 221000 | O15: 230000 | P15: 240000 | Q15: 418000 | R15: 465000 | S15: 410000 | T15: 460000 | U15: 646300 | V15: 500000
A17: Existing Homes
B18: Change from 2009-2013 | C18: 2004 | D18: 2005 | E18: 2006 | F18: 2007 | G18: 2008 | H18: 2009 | I18: 2010 | J18: 2011 | K18: 2012 | L18: 2013 | M18: 2014 | N18: 2015 | O18: 2016 | P18: 2017
A19: Hillsborough County | B19: =(L19-H19)/H19 -> 0.035294118 | C19: 240000 | D19: 252500 | E19: 252500 | F19: 255000 | G19: 234900 | H19: 212500 | I19: 217500 | J19: 206000 | K19: 203000 | L19: 220000 | M19: 211000 | N19: 224000 | O19: 232533 | P19: 247000
A20: Rockingham County | B20: =(L20-H20)/H20 -> 0.083333333 | C20: 275000 | D20: 295000 | E20: 290000 | F20: 290000 | G20: 275000 | H20: 240000 | I20: 250000 | J20: 245000 | K20: 247900 | L20: 260000 | M20: 255000 | N20: 272000 | O20: 286000 | P20: 306533
A21: Belknap County | B21: =(L21-H21)/H21 -> 0.031515152 | C21: 185000 | D21: 210000 | E21: 215000 | F21: 210000 | G21: 210000 | H21: 165000 | I21: 173700 | J21: 166000 | K21: 165742 | L21: 170200 | M21: 191000 | N21: 190000 | O21: 199000 | P21: 204000
A22: Carroll County | B22: =(L22-H22)/H22 -> 0.073818293 | C22: 192000 | D22: 207896 | E22: 210000 | F22: 217500 | G22: 201000 | H22: 167533 | I22: 180000 | J22: 170500 | K22: 167500 | L22: 179900 | M22: 186000 | N22: 198900 | O22: 199000 | P22: 215000
A23: Cheshire County | B23: =(L23-H23)/H23 -> -0.017964072 | C23: 174000 | D23: 189000 | E23: 199000 | F23: 205000 | G23: 190000 | H23: 167000 | I23: 162500 | J23: 156900 | K23: 161000 | L23: 164000 | M23: 160000 | N23: 163533 | O23: 169900 | P23: 176266
A24: Coos County | B24: =(L24-H24)/H24 -> 0.10314465 | C24: 90000 | D24: 105000 | E24: 115000 | F24: 125000 | G24: 115000 | H24: 79500 | I24: 94500 | J24: 90000 | K24: 98000 | L24: 87700 | M24: 118600 | N24: 104400 | O24: 99900 | P24: 105100
A25: Grafton County | B25: =(L25-H25)/H25 -> 0.063218391 | C25: 178500 | D25: 193000 | E25: 208000 | F25: 220000 | G25: 208500 | H25: 174000 | I25: 183500 | J25: 185000 | K25: 180000 | L25: 185000 | M25: 165067 | N25: 180000 | O25: 189000 | P25: 183000
A26: Merrimack County | B26: =(L26-H26)/H26 -> 0.020512821 | C26: 212000 | D26: 225000 | E26: 230500 | F26: 230000 | G26: 225900 | H26: 195000 | I26: 189000 | J26: 175000 | K26: 182600 | L26: 199000 | M26: 199000 | N26: 197000 | O26: 208000 | P26: 225000
A27: Strafford County | B27: =(L27-H27)/H27 -> 0.054054054 | C27: 215000 | D27: 229000 | E27: 222000 | F27: 229000 | G27: 216000 | H27: 185000 | I27: 184500 | J27: 180000 | K27: 177000 | L27: 195000 | M27: 203000 | N27: 200000 | O27: 209933 | P27: 226800
A28: Sullivan County | B28: =(L28-H28)/H28 -> -0.0061686086 | C28: 142000 | D28: 165000 | E28: 179900 | F28: 189000 | G28: 184500 | H28: 145900 | I28: 153000 | J28: 147000 | K28: 155000 | L28: 145000 | M28: 145000 | N28: 157000 | O28: 158000 | P28: 158000
A29: New Hampshire Statewide | B29: =(L29-H29)/H29 -> 0.075 | C29: 229000 | D29: 240000 | E29: 240000 | F29: 245000 | G29: 231900 | H29: 200000 | I29: 205000 | J29: 200000 | K29: 199000 | L29: 215000 | M29: 213533 | N29: 219933 | O29: 225000 | P29: 237933
A31: New Homes
B32: Change from 2009-2013 | C32: 2004 | D32: 2005 | E32: 2006 | F32: 2007 | G32: 2008 | H32: 2009 | I32: 2010 | J32: 2011 | K32: 2012 | L32: 2013 | M32: 2014 | N32: 2015 | O32: 2016 | P32: 2017
A33: Hillsborough County | B33: =(L33-H33)/H33 -> 0.035996666 | C33: 307000 | D33: 319900 | E33: 322900 | F33: 322400 | G33: 325000 | H33: 296333 | I33: 285000 | J33: 300000 | K33: 281594 | L33: 307000 | M33: 311333 | N33: 353866 | O33: 355933 | P33: 359933 | T33: =U5-S5 -> 224000
A34: Rockingham County | B34: =(L34-H34)/H34 -> 0.12280702 | C34: 320330 | D34: 334500 | E34: 351933 | F34: 338000 | G34: 336670 | H34: 285000 | I34: 294561 | J34: 284318 | K34: 299933 | L34: 320000 | M34: 358600 | N34: 347800 | O34: 380000 | P34: 405000 | T34: =U6-S6 -> 122467
A35: Belknap County | B35: n/a | C35: 249210 | D35: 295450 | E35: 296000 | F35: 259900 | G35: 250000 | H35: 236560 | I35: 205500 | J35: 223000 | K35: 258050 | L35: 229900 | M35: 251766 | N35: 296466 | O35: 504000 | P35: 284833 | T35: =U7-S7 -> 291000
A36: Carroll County | B36: n/a | C36: 219900 | D36: 221000 | E36: 235933 | F36: 224900 | G36: 231500 | H36: 245000 | I36: 197000 | J36: 260000 | K36: 197533 | L36: 182900 | M36: 190000 | N36: 260000 | O36: 275266 | P36: 315000 | T36: =U8-S8 -> 187500
A37: Cheshire County | B37: n/a | C37: 227300 | D37: 234900 | E37: 239933 | F37: 219900 | G37: 199933 | H37: 189900 | I37: 185000 | J37: 175000 | K37: 215900 | L37: 165600 | M37: 140500 | N37: 194500 | O37: 204466 | P37: 213200 | T37: =U9-S9 -> 455600
A38: Coos County | B38: n/a | C38: 176000 | D38: N/A | E38: 210000 | F38: 190000 | G38: 150000 | H38: 248000 | I38: 325000 | J38: 137500 | K38: n/a | L38: 121500 | M38: 111766 | N38: 119000 | O38: 333500 | P38: n/a | T38: =U10-S10 -> 284500
A39: Grafton County | B39: n/a | C39: 209995 | D39: 260000 | E39: 232933 | F39: 240000 | G39: 230000 | H39: 250000 | I39: 219000 | J39: 234700 | K39: 242500 | L39: 254133 | M39: 265400 | N39: 227000 | O39: 350000 | P39: 340000 | T39: =U11-S11 -> 449533
A40: Merrimack County | B40: =(L40-H40)/H40 -> -0.029126214 | C40: 250000 | D40: 275025 | E40: 275000 | F40: 275110 | G40: 275700 | H40: 257500 | I40: 257000 | J40: 249900 | K40: 239061 | L40: 250000 | M40: 258000 | N40: 262933 | O40: 309000 | P40: 330000 | T40: =U12-S12 -> 273533
A41: Strafford County | B41: =(L41-H41)/H41 -> 0.28729753 | C41: 262000 | D41: 274900 | E41: 275000 | F41: 262400 | G41: 259900 | H41: 234600 | I41: 249900 | J41: 249900 | K41: 289900 | L41: 302000 | M41: 316266 | N41: 343466 | O41: 355866 | P41: 358500 | T41: =U13-S13 -> 219933
A42: Sullivan County | B42: n/a | C42: 197000 | D42: N/A | E42: 225000 | F42: 252000 | G42: 216574 | H42: 206000 | I42: 150000 | J42: 160000 | K42: 200000 | L42: 178533 | M42: 135500 | N42: 207466 | O42: 367466 | P42: 312033 | T42: =U14-S14 -> #VALUE!
A43: New Hampshire Statewide | B43: =(L43-H43)/H43 -> 0.10703704 | C43: 284190 | D43: 299900 | E43: 312500 | F43: 300000 | G43: 295000 | H43: 270000 | I43: 270900 | J43: 267500 | K43: 280000 | L43: 298900 | M43: 315000 | N43: 337200 | O43: 361466 | P43: 365000 | T43: =U15-S15 -> 236300
A45: Source: NH HFA Purchase Price Database, median price

Sheet B5_NHA data 2010
A1: 2010 Data
A2: ** CEDS SUBREGION averages are weighted averages.
B4: All Homes | D4: Existing Homes | F4: New Homes
A5: Town/Area | B5: Median Purchase Price | C5: Sample Size | D5: Median Purchase Price | E5: Sample Size | F5: Median Purchase Price | G5: Sample Size
A6: East Kingston | B6: 303500 | C6: 33 | D6: 303500 | E6: 25 | F6: 302000 | G6: 8
A7: Exeter | B7: 262500 | C7: 142 | D7: 247000 | E7: 125 | F7: 305000 | G7: 17
A8: Greenland | B8: 375000 | C8: 35 | D8: 375000 | E8: 25 | F8: 365750 | G8: 10
A9: Hampton | B9: 284900 | C9: 140 | D9: 284900 | E9: 131 | F9: 304900 | G9: 9
A10: Hampton Falls | B10: 380000 | C10: 34 | D10: 380000 | E10: 32 | F10: 285000 | G10: 2
A11: Kensington | B11: 300000 | C11: 11 | D11: 300000 | E11: 11 | F11: n/a | G11: n/a
A12: New Castle | B12: 825000 | C12: 11 | D12: 825000 | E12: 11 | F12: n/a | G12: n/a
A13: Newfields | B13: 395700 | C13: 10 | D13: 395700 | E13: 10 | F13: n/a | G13: n/a
A14: Newington | B14: 459000 | C14: 7 | D14: 459000 | E14: 7 | F14: n/a | G14: n/a
A15: Newmarket | B15: 205000 | C15: 68 | D15: 201000 | E15: 66 | F15: 250000 | G15: 2
A16: North Hampton | B16: 506000 | C16: 39 | D16: 520000 | E16: 37 | F16: 369200 | G16: 2
A17: Portsmouth | B17: 319533 | C17: 201 | D17: 319900 | E17: 180 | F17: 289900 | G17: 21
A18: Rye | B18: 555000 | C18: 53 | D18: 555000 | E18: 53 | F18: n/a | G18: n/a
A19: Seabrook | B19: 339480 | C19: 35 | D19: 253000 | E19: 19 | F19: 364775 | G19: 16
A20: South Hampton | B20: 269000 | C20: 3 | D20: 200000 | E20: 2 | F20: 0 | G20: 1
A21: Stratham | B21: 300000 | C21: 96 | D21: 299900 | E21: 90 | F21: 342500 | G21: 6
A22: CEDS Eastern Towns | B22: =(B6*C6+B7*C7+B8*C8+B9*C9+B10*C10+B11*C11+B12*C12+B13*C13+B14*C14+B15*C15+B16*C16+B17*C17+B18*C18+B19*C19+B20*C20+B21*C21)/C22 -> 328508.1 | C22: =SUM(C6:C21) -> 918 | D22: =(D6*E6+D7*E7+D8*E8+D9*E9+D10*E10+D11*E11+D12*E12+D13*E13+D14*E14+D15*E15+D16*E16+D17*E17+D18*E18+D19*E19+D20*E20+D21*E21)/E22 -> 325928.88 | E22: =SUM(E6:E21) -> 824 | F22: =(F6*G6+F7*G7+F8*G8+F9*G9+F15*G15+F16*G16+F17*G17+F19*G19+F20*G20+F21*G21)/G22 -> 310854.26 | G22: =SUM(G6:G21) -> 94
A23: Atkinson | B23: 250000 | C23: 74 | D23: 249900 | E23: 70 | F23: 255000 | G23: 4
A24: Auburn | B24: 288000 | C24: 30 | D24: 262000 | E24: 24 | F24: 395000 | G24: 6
A25: Brentwood | B25: 299730 | C25: 39 | D25: 299900 | E25: 29 | F25: 269900 | G25: 10
A26: Candia | B26: 246000 | C26: 31 | D26: 238500 | E26: 30 | F26: 0 | G26: 1
A27: Chester | B27: 279900 | C27: 36 | D27: 290000 | E27: 31 | F27: 255400 | G27: 5
A28: Danville | B28: 230000 | C28: 38 | D28: 209000 | E28: 31 | F28: 270900 | G28: 7
A29: Deerfield | B29: 235000 | C29: 42 | D29: 324900 | E29: 35 | F29: 275000 | G29: 7
A30: Epping | B30: 245200 | C30: 60 | D30: 195000 | E30: 32 | F30: 248900 | G30: 28
A31: Fremont | B31: 230000 | C31: 45 | D31: 225000 | E31: 37 | F31: 259933 | G31: 8
A32: Hampstead | B32: 260000 | C32: 67 | D32: 257500 | E32: 57 | F32: 289559 | G32: 10
A33: Kingston | B33: 230000 | C33: 43 | D33: 220000 | E33: 39 | F33: 289900 | G33: 4
A34: Newton | B34: 230000 | C34: 33 | D34: 220000 | E34: 29 | F34: 315000 | G34: 4
... A36: Nottingham | B36: 240000 | C36: 59 | D36: 210000 | E36: 49 | F36: 263400 | G36: 10
A37: Plaistow | B37: 188000 | C37: 39 | D37: 188000 | E37: 39 | F37: n/a | G37: n/a
A38: Raymond | B38: 200000 | C38: 118 | D38: 192500 | E38: 99 | F38: 249000 | G38: 19
A39: Sandown | B39: 233500 | C39: 80 | D39: 218900 | E39: 52 | F39: 265000 | G39: 28
A40: CEDS Central Towns | B40: =(B23*C23+B24*C24+B25*C25+B26*C26+B27*C27+B28*C28+B29*C29+B30*C30+B31*C31+B32*C32+B33*C33+B34*C34+B35*C35+B36*C36+B37*C37+B38*C38+B39*C39)/C40 -> 237126.71 | C40: =SUM(C23:C39) -> 875 | D40: =(D23*E23+D24*E24+D25*E25+D26*E26+D27*E27+D28*E28+D29*E29+D30*E30+D31*E31+D32*E32+D33*E33+D34*E34+D35*E35+D36*E36+D37*E37+D38*E38+D39*E39)/E40 -> 231004.72 | E40: =SUM(E23:E39) -> 720 | F40: =(F23*G23+F24*G24+F25*G25+F26*G26+F27*G27+F28*G28+F29*G29+F30*G30+F31*G31+F32*G32+F33*G33+F34*G34+F35*G35+F36*G36+F38*G38+F39*G39)/G40 -> 265830.67 | G40: =SUM(G23:G39) -> 155
A41: Derry | B41: 190000 | C41: 255 | D41: 189900 | E41: 240 | F41: 239900 | G41: 15
A42: Hudson | B42: 245000 | C42: 205 | D42: 235700 | E42: 175 | F42: 300933 | G42: 30
A43: Litchfield | B43: 255000 | C43: 67 | D43: 253500 | E43: 55 | F43: 289075 | G43: 12
A44: Londonderry | B44: 238000 | C44: 187 | D44: 220000 | E44: 170 | F44: 359900 | G44: 17
A45: Merrimack | B45: 220000 | C45: 268 | D45: 219000 | E45: 259 | F45: 282533 | G45: 9
A46: Nashua | B46: 219900 | C46: 617 | D46: 210000 | E46: 572 | F46: 320000 | G46: 45
A47: Pelham | B47: 265000 | C47: 94 | D47: 273000 | E47: 63 | F47: 259900 | G47: 31
A48: Salem | B48: 250000 | C48: 175 | D48: 249900 | E48: 164 | F48: 320000 | G48: 11
A49: Windham | B49: 382000 | C49: 179 | D49: 371933 | E49: 142 | F49: 393485 | G49: 37
A50: CEDS Western Towns | B50: =(B41*C41+B42*C42+B43*C43+B44*C44+B45*C45+B46*C46+B47*C47+B48*C48+B49*C49)/C50 -> 240323.55 | C50: =SUM(C41:C49) -> 2047 | D50: =(D41*E41+D42*E42+D43*E43+D44*E44+D45*E45+D46*E46+D47*E47+D48*E48+D49*E49)/E50 -> 231523.96 | E50: =SUM(E41:E49) -> 1840 | F50: =(F41*G41+F42*G42+F43*G43+F44*G44+F45*G45+F46*G46+F47*G47+F48*G48+F49*G49)/G50 -> 315421.89 | G50: =SUM(G41:G49) -> 207
A51: REDC REGION | B51: =(B50*C50+B40*C40+B22*C22)/C51 -> 260676.72 | C51: =SUM(C50,C40,C22) -> 3840 | D51: =(D50*E50+D40*E40+D22*E22)/E51 -> 254400.97 | E51: =SUM(E50,E40,E22) -> 3384 | F51: =(F50*G50+F40*G40+F22*G22)/G51 -> 297623.65 | G51: =SUM(G50,G40,G22) -> 456
A52: Hillsborough County | B52: 224900 | C52: 3160 | D52: 217500 | E52: 2855 | F52: 285000 | G52: 305
A53: Rockingham County | B53: 259000 | C53: 2589 | D53: 250000 | E53: 2260 | F53: 294561 | G53: 329
A54: New Hamsphire | B54: 215000 | C54: 10215 | D54: 205000 | E54: 9260 | F54: 270900 | G54: 955

Sheet B7 Forclosure Data FOR PRiNT
A1: Table B-7: Foreclosure Data | R1: 2012 CEDS Update
K2: Year-to-Year Change
A3: Town/Area | B3: 2005 | C3: 2006 | D3: 2007 | E3: 2008 | F3: 2009 | G3: 2010 | H3: 2011 | I3: 2012 | J3: 2013 | K3: 2005-2006 | L3: 2006-2007 | M3: 2007-2008 | N3: 2008-2009 | O3: 2009-2010 | P3: 2008 | Q3: 2009 | R3: 2010 *
A4: East Kingston | B4: 0 | C4: 4 | D4: 2 | E4: 9 | F4: 7 | G4: 8 | K4: =C4-B4 -> 4 | L4: =D4-C4 -> -2 | M4: =E4-D4 -> 7 | N4: =F4-E4 -> -2 | O4: =G4-F4 -> 1 | P4: =E4/'B1 Housing Units'!AE5 -> 0.010250569 | Q4: =F4/'B1 Housing Units'!AF5 -> 0.0079275198 | R4: =G4/'B1 Housing Units'!J5 -> 0.0088202867
A5: Exeter | B5: 3 | C5: 8 | D5: 14 | E5: 38 | F5: 21 | G5: 25 | K5: =C5-B5 -> 5 | L5: =D5-C5 -> 6 | M5: =E5-D5 -> 24 | N5: =F5-E5 -> -17 | O5: =G5-F5 -> 4 | P5: =E5/'B1 Housing Units'!AE6 -> 0.0056346382 | Q5: =F5/'B1 Housing Units'!AF6 -> 0.0031106503 | R5: =G5/'B1 Housing Units'!J6 -> 0.0038485222
A6: Greenland | B6: 1 | C6: 1 | D6: 1 | E6: 4 | F6: 6 | G6: 6 | K6: =C6-B6 -> 0 | L6: =D6-C6 -> 0 | M6: =E6-D6 -> 3 | N6: =F6-E6 -> 2 | O6: =G6-F6 -> 0 | P6: =E6/'B1 Housing Units'!AE7 -> 0.0028715004 | Q6: =F6/'B1 Housing Units'!AF7 -> 0.0042613636 | R6: =G6/'B1 Housing Units'!J7 -> 0.0041580042
A7: Hampton | B7: 3 | C7: 12 | D7: 22 | E7: 35 | F7: 32 | G7: 46 | K7: =C7-B7 -> 9 | L7: =D7-C7 -> 10 | M7: =E7-D7 -> 13 | N7: =F7-E7 -> -3 | O7: =G7-F7 -> 14 | P7: =E7/'B1 Housing Units'!AE8 -> 0.00353714 | Q7: =F7/'B1 Housing Units'!AF8 -> 0.0032287357 | R7: =G7/'B1 Housing Units'!J8 -> 0.0046366294
A8: Hampton Falls | B8: 1 | C8: 0 | D8: 5 | E8: 4 | F8: 3 | G8: 3 | K8: =C8-B8 -> -1 | L8: =D8-C8 -> 5 | M8: =E8-D8 -> -1 | N8: =F8-E8 -> -1 | O8: =G8-F8 -> 0 | P8: =E8/'B1 Housing Units'!AE9 -> 0.0046948357 | Q8: =F8/'B1 Housing Units'!AF9 -> 0.0035087719 | R8: =G8/'B1 Housing Units'!J9 -> 0.0033333333
A9: Kensington | B9: 1 | C9: 0 | D9: 4 | E9: 4 | F9: 3 | G9: 8 | K9: =C9-B9 -> -1 | L9: =D9-C9 -> 4 | M9: =E9-D9 -> 0 | N9: =F9-E9 -> -1 | O9: =G9-F9 -> 5 | P9: =E9/'B1 Housing Units'!AE10 -> 0.0051282051 | Q9: =F9/'B1 Housing Units'!AF10 -> 0.0038461538 | R9: =G9/'B1 Housing Units'!J10 -> 0.0099255583
A10: New Castle | B10: 0 | C10: 0 | D10: 1 | E10: 0 | F10: 0 | G10: 0 | K10: =C10-B10 -> 0 | L10: =D10-C10 -> 1 | M10: =E10-D10 -> -1 | N10: =F10-E10 -> 0 | O10: =G10-F10 -> 0 | P10: =E10/'B1 Housing Units'!AE11 -> 0 | Q10: =F10/'B1 Housing Units'!AF11 -> 0 | R10: =G10/'B1 Housing Units'!J11 -> 0
A11: Newfields | B11: 0 | C11: 1 | D11: 1 | E11: 2 | F11: 1 | G11: 0 | K11: =C11-B11 -> 1 | L11: =D11-C11 -> 0 | M11: =E11-D11 -> 1 | N11: =F11-E11 -> -1 | O11: =G11-F11 -> -1 | P11: =E11/'B1 Housing Units'!AE12 -> 0.0033500838 | Q11: =F11/'B1 Housing Units'!AF12 -> 0.0016666667 | R11: =G11/'B1 Housing Units'!J12 -> 0
A12: Newington | B12: 0 | C12: 2 | D12: 0 | E12: 1 | F12: 1 | G12: 2 | K12: =C12-B12 -> 2 | L12: =D12-C12 -> -2 | M12: =E12-D12 -> 1 | N12: =F12-E12 -> 0 | O12: =G12-F12 -> 1 | P12: =E12/'B1 Housing Units'!AE13 -> 0.0030864198 | Q12: =F12/'B1 Housing Units'!AF13 -> 0.0030959752 | R12: =G12/'B1 Housing Units'!J13 -> 0.0062111801
A13: Newmarket | B13: 2 | C13: 2 | D13: 12 | E13: 16 | F13: 15 | G13: 27 | K13: =C13-B13 -> 0 | L13: =D13-C13 -> 10 | M13: =E13-D13 -> 4 | N13: =F13-E13 -> -1 | O13: =G13-F13 -> 12 | P13: =E13/'B1 Housing Units'!AE14 -> 0.0038213518 | Q13: =F13/'B1 Housing Units'!AF14 -> 0.0035808069 | R13: =G13/'B1 Housing Units'!J14 -> 0.0065233148
A14: North Hampton | B14: 0 | C14: 2 | D14: 3 | E14: 5 | F14: 10 | G14: 8 | K14: =C14-B14 -> 2 | L14: =D14-C14 -> 1 | M14: =E14-D14 -> 2 | N14: =F14-E14 -> 5 | O14: =G14-F14 -> -2 | P14: =E14/'B1 Housing Units'!AE15 -> 0.0025759918 | Q14: =F14/'B1 Housing Units'!AF15 -> 0.0051203277 | R14: =G14/'B1 Housing Units'!J15 -> 0.0041797283
A15: Portsmouth | B15: 0 | C15: 10 | D15: 15 | E15: 13 | F15: 18 | G15: 17 | K15: =C15-B15 -> 10 | L15: =D15-C15 -> 5 | M15: =E15-D15 -> -2 | N15: =F15-E15 -> 5 | O15: =G15-F15 -> -1 | P15: =E15/'B1 Housing Units'!AE16 -> 0.0012268781 | Q15: =F15/'B1 Housing Units'!AF16 -> 0.0016981132 | R15: =G15/'B1 Housing Units'!J16 -> 0.0016
... A19: Stratham | B19: 1 | C19: 2 | D19: 1 | E19: 15 | F19: 12 | G19: 8 | K19: =C19-B19 -> 1 | L19: =D19-C19 -> -1 | M19: =E19-D19 -> 14 | N19: =F19-E19 -> -3 | O19: =G19-F19 -> -4 | P19: =E19/'B1 Housing Units'!AE20 -> 0.0053285968 | Q19: =F19/'B1 Housing Units'!AF20 -> 0.0042598509 | R19: =G19/'B1 Housing Units'!J20 -> 0.0027932961
A20: CEDS Eastern Towns | B20: =SUM(B4:B19) -> 15 | C20: =SUM(C4:C19) -> 54 | D20: =SUM(D4:D19) -> 96 | E20: =SUM(E4:E19) -> 172 | F20: =SUM(F4:F19) -> 156 | G20: =SUM(G4:G19) -> 181 | H20: =SUM(H4:H19) -> 0 | I20: =SUM(I4:I19) -> 0 | J20: =SUM(J4:J19) -> 0 | K20: =C20-B20 -> 39 | L20: =D20-C20 -> 42 | M20: =E20-D20 -> 76 | N20: =F20-E20 -> -16 | O20: =G20-F20 -> 25 | P20: =E20/'B1 Housing Units'!AE21 -> 0.0035062685 | Q20: =F20/'B1 Housing Units'!AF21 -> 0.0031740864 | R20: =G20/'B1 Housing Units'!J21 -> 0.0036665654
A21: Atkinson | B21: 0 | C21: 3 | D21: 12 | E21: 11 | F21: 11 | G21: 14 | K21: =C21-B21 -> 3 | L21: =D21-C21 -> 9 | M21: =E21-D21 -> -1 | N21: =F21-E21 -> 0 | O21: =G21-F21 -> 3 | P21: =E21/'B1 Housing Units'!AE22 -> 0.0040968343 | Q21: =F21/'B1 Housing Units'!AF22 -> 0.0040922619 | R21: =G21/'B1 Housing Units'!J22 -> 0.0050215208
A22: Auburn | B22: 0 | C22: 3 | D22: 8 | E22: 11 | F22: 7 | G22: 10 | K22: =C22-B22 -> 3 | L22: =D22-C22 -> 5 | M22: =E22-D22 -> 3 | N22: =F22-E22 -> -4 | O22: =G22-F22 -> 3 | P22: =E22/'B1 Housing Units'!AE23 -> 0.0059782609 | Q22: =F22/'B1 Housing Units'!AF23 -> 0.0037940379 | R22: =G22/'B1 Housing Units'!J23 -> 0.0055126792
A23: Brentwood | B23: 0 | C23: 2 | D23: 4 | E23: 6 | F23: 11 | G23: 12 | K23: =C23-B23 -> 2 | L23: =D23-C23 -> 2 | M23: =E23-D23 -> 2 | N23: =F23-E23 -> 5 | O23: =G23-F23 -> 1 | P23: =E23/'B1 Housing Units'!AE24 -> 0.0046367852 | Q23: =F23/'B1 Housing Units'!AF24 -> 0.0083841463 | R23: =G23/'B1 Housing Units'!J24 -> 0.0088888889
A24: Candia | B24: 2 | C24: 1 | D24: 3 | E24: 11 | F24: 10 | G24: 10 | K24: =C24-B24 -> -1 | L24: =D24-C24 -> 2 | M24: =E24-D24 -> 8 | N24: =F24-E24 -> -1 | O24: =G24-F24 -> 0 | P24: =E24/'B1 Housing Units'!AE25 -> 0.0072416063 | Q24: =F24/'B1 Housing Units'!AF25 -> 0.0065876153 | R24: =G24/'B1 Housing Units'!J25 -> 0.0066934404
A25: Chester | B25: 2 | C25: 2 | D25: 10 | E25: 14 | F25: 9 | G25: 14 | K25: =C25-B25 -> 0 | L25: =D25-C25 -> 8 | M25: =E25-D25 -> 4 | N25: =F25-E25 -> -5 | O25: =G25-F25 -> 5 | P25: =E25/'B1 Housing Units'!AE26 -> 0.0089285714 | Q25: =F25/'B1 Housing Units'!AF26 -> 0.0057215512 | R25: =G25/'B1 Housing Units'!J26 -> 0.0087719298
A26: Danville | B26: 1 | C26: 8 | D26: 9 | E26: 19 | F26: 11 | G26: 13 | K26: =C26-B26 -> 7 | L26: =D26-C26 -> 1 | M26: =E26-D26 -> 10 | N26: =F26-E26 -> -8 | O26: =G26-F26 -> 2 | P26: =E26/'B1 Housing Units'!AE27 -> 0.011262596 | Q26: =F26/'B1 Housing Units'!AF27 -> 0.0064858491 | R26: =G26/'B1 Housing Units'!J27 -> 0.007719715
A27: Deerfield | B27: 3 | C27: 8 | D27: 12 | E27: 12 | F27: 16 | G27: 21 | K27: =C27-B27 -> 5 | L27: =D27-C27 -> 4 | M27: =E27-D27 -> 0 | N27: =F27-E27 -> 4 | O27: =G27-F27 -> 5 | P27: =E27/'B1 Housing Units'!AE28 -> 0.0068767908 | Q27: =F27/'B1 Housing Units'!AF28 -> 0.0091220068 | R27: =G27/'B1 Housing Units'!J28 -> 0.012048193
A28: Epping | B28: 1 | C28: 5 | D28: 18 | E28: 27 | F28: 16 | G28: 29 | K28: =C28-B28 -> 4 | L28: =D28-C28 -> 13 | M28: =E28-D28 -> 9 | N28: =F28-E28 -> -11 | O28: =G28-F28 -> 13 | P28: =E28/'B1 Housing Units'!AE29 -> 0.010281797 | Q28: =F28/'B1 Housing Units'!AF29 -> 0.0059902658 | R28: =G28/'B1 Housing Units'!J29 -> 0.010650018
A29: Fremont | B29: 1 | C29: 8 | D29: 13 | E29: 12 | F29: 15 | G29: 17 | K29: =C29-B29 -> 7 | L29: =D29-C29 -> 5 | M29: =E29-D29 -> -1 | N29: =F29-E29 -> 3 | O29: =G29-F29 -> 2 | P29: =E29/'B1 Housing Units'!AE30 -> 0.0079051383 | Q29: =F29/'B1 Housing Units'!AF30 -> 0.0098296199 | R29: =G29/'B1 Housing Units'!J30 -> 0.010807374
A30: Hampstead | B30: 1 | C30: 8 | D30: 15 | E30: 26 | F30: 9 | G30: 19 | K30: =C30-B30 -> 7 | L30: =D30-C30 -> 7 | M30: =E30-D30 -> 11 | N30: =F30-E30 -> -17 | O30: =G30-F30 -> 10 | P30: =E30/'B1 Housing Units'!AE31 -> 0.007063298 | Q30: =F30/'B1 Housing Units'!AF31 -> 0.0024206563 | R30: =G30/'B1 Housing Units'!J31 -> 0.005097934
A31: Kingston | B31: 3 | C31: 6 | D31: 13 | E31: 12 | F31: 15 | G31: 17 | K31: =C31-B31 -> 3 | L31: =D31-C31 -> 7 | M31: =E31-D31 -> -1 | N31: =F31-E31 -> 3 | O31: =G31-F31 -> 2 | P31: =E31/'B1 Housing Units'!AE32 -> 0.0048057669 | Q31: =F31/'B1 Housing Units'!AF32 -> 0.0059904153 | R31: =G31/'B1 Housing Units'!J32 -> 0.0068548387
A32: Newton | B32: 0 | C32: 2 | D32: 16 | E32: 14 | F32: 14 | G32: 23 | K32: =C32-B32 -> 2 | L32: =D32-C32 -> 14 | M32: =E32-D32 -> -2 | N32: =F32-E32 -> 0 | O32: =G32-F32 -> 9 | P32: =E32/'B1 Housing Units'!AE33 -> 0.0081348053 | Q32: =F32/'B1 Housing Units'!AF33 -> 0.0080878105 | R32: =G32/'B1 Housing Units'!J33 -> 0.013135351
... A37: Sandown | B37: 5 | C37: 11 | D37: 7 | E37: 19 | F37: 29 | G37: 29 | K37: =C37-B37 -> 6 | L37: =D37-C37 -> -4 | M37: =E37-D37 -> 12 | N37: =F37-E37 -> 10 | O37: =G37-F37 -> 0 | P37: =E37/'B1 Housing Units'!AE38 -> 0.008780037 | Q37: =F37/'B1 Housing Units'!AF38 -> 0.013260174 | R37: =G37/'B1 Housing Units'!J38 -> 0.013098464
A38: CEDS Central Towns | B38: =SUM(B21:B37) -> 40 | C38: =SUM(C21:C37) -> 99 | D38: =SUM(D21:D37) -> 195 | E38: =SUM(E21:E37) -> 300 | F38: =SUM(F21:F37) -> 278 | G38: =SUM(G21:G37) -> 343 | H38: =SUM(H21:H37) -> 0 | I38: =SUM(I21:I37) -> 0 | J38: =SUM(J21:J37) -> 0 | K38: =C38-B38 -> 59 | L38: =D38-C38 -> 96 | M38: =E38-D38 -> 105 | N38: =F38-E38 -> -22 | O38: =G38-F38 -> 65 | P38: =E38/'B1 Housing Units'!AE39 -> 0.0078472404 | Q38: =F38/'B1 Housing Units'!AF39 -> 0.0072264102 | R38: =G38/'B1 Housing Units'!J39 -> 0.0089504723
A39: Derry | B39: 13 | C39: 44 | D39: 88 | E39: 146 | F39: 112 | G39: 122 | K39: =C39-B39 -> 31 | L39: =D39-C39 -> 44 | M39: =E39-D39 -> 58 | N39: =F39-E39 -> -34 | O39: =G39-F39 -> 10 | P39: =E39/'B1 Housing Units'!AE40 -> 0.010944528 | Q39: =F39/'B1 Housing Units'!AF40 -> 0.0083913988 | R39: =G39/'B1 Housing Units'!J40 -> 0.0091888228
A40: Hudson | E40: 64 | F40: 70 | G40: 73 | N40: =F40-E40 -> 6 | O40: =G40-F40 -> 3 | P40: =E40/'B1 Housing Units'!AE41 -> 0.0069724371 | Q40: =F40/'B1 Housing Units'!AF41 -> 0.0076128331 | R40: =G40/'B1 Housing Units'!J41 -> 0.0079244464
A41: Litchfield | E41: 16 | F41: 15 | G41: 14 | N41: =F41-E41 -> -1 | O41: =G41-F41 -> -1 | P41: =E41/'B1 Housing Units'!AE42 -> 0.00550585 | Q41: =F41/'B1 Housing Units'!AF42 -> 0.005100306 | R41: =G41/'B1 Housing Units'!J42 -> 0.0048076923
A42: Londonderry | B42: 5 | C42: 14 | D42: 34 | E42: 54 | F42: 51 | G42: 82 | K42: =C42-B42 -> 9 | L42: =D42-C42 -> 20 | M42: =E42-D42 -> 20 | N42: =F42-E42 -> -3 | O42: =G42-F42 -> 31 | P42: =E42/'B1 Housing Units'!AE43 -> 0.0062959077 | Q42: =F42/'B1 Housing Units'!AF43 -> 0.0059309222 | R42: =G42/'B1 Housing Units'!J43 -> 0.009348991
A43: Merrimack | E43: 76 | F43: 82 | G43: 79 | N43: =F43-E43 -> 6 | O43: =G43-F43 -> -3 | P43: =E43/'B1 Housing Units'!AE44 -> 0.007730648 | Q43: =F43/'B1 Housing Units'!AF44 -> 0.0083113724 | R43: =G43/'B1 Housing Units'!J44 -> 0.0080464453
A44: Nashua | E44: 248 | F44: 190 | G44: 225 | N44: =F44-E44 -> -58 | O44: =G44-F44 -> 35 | P44: =E44/'B1 Housing Units'!AE45 -> 0.0066645168 | Q44: =F44/'B1 Housing Units'!AF45 -> 0.0050799422 | R44: =G44/'B1 Housing Units'!J45 -> 0.0060535945
A45: Pelham | E45: 32 | F45: 21 | G45: 28 | N45: =F45-E45 -> -11 | O45: =G45-F45 -> 7 | P45: =E45/'B1 Housing Units'!AE46 -> 0.0071540353 | Q45: =F45/'B1 Housing Units'!AF46 -> 0.0046770601 | R45: =G45/'B1 Housing Units'!J46 -> 0.0060896042
A46: Salem | B46: 6 | C46: 17 | D46: 43 | E46: 87 | F46: 65 | G46: 69 | K46: =C46-B46 -> 11 | L46: =D46-C46 -> 26 | M46: =E46-D46 -> 44 | N46: =F46-E46 -> -22 | O46: =G46-F46 -> 4 | P46: =E46/'B1 Housing Units'!AE47 -> 0.0071841453 | Q46: =F46/'B1 Housing Units'!AF47 -> 0.0053519967 | R46: =G46/'B1 Housing Units'!J47 -> 0.0058425064
A47: Windham | B47: 4 | C47: 10 | D47: 10 | E47: 30 | F47: 24 | G47: 23 | K47: =C47-B47 -> 6 | L47: =D47-C47 -> 0 | M47: =E47-D47 -> 20 | N47: =F47-E47 -> -6 | O47: =G47-F47 -> -1 | P47: =E47/'B1 Housing Units'!AE48 -> 0.0060422961 | Q47: =F47/'B1 Housing Units'!AF48 -> 0.0048 | R47: =G47/'B1 Housing Units'!J48 -> 0.0044539117
A48: CEDS Western Towns | B48: =SUM(B39:B47) -> 28 | C48: =SUM(C39:C47) -> 85 | E48: =SUM(E39:E47) -> 753 | F48: =SUM(F39:F47) -> 630 | G48: =SUM(G39:G47) -> 715 | H48: =SUM(H39:H47) -> 0 | I48: =SUM(I39:I47) -> 0 | J48: =SUM(J39:J47) -> 0 | K48: =C48-B48 -> 57 | L48: =D48-C48 -> -85 | N48: =F48-E48 -> -123 | O48: =G48-F48 -> 85 | P48: =E48/'B1 Housing Units'!AE49 -> 0.007339682 | Q48: =F48/'B1 Housing Units'!AF49 -> 0.0061173957 | R48: =G48/'B1 Housing Units'!J49 -> 0.0069599922
A49: REDC CEDS Region | E49: =SUM(E48,E38,E20) -> 1225 | F49: =SUM(F48,F38,F20) -> 1064 | G49: =SUM(G48,G38,G20) -> 1239 | H49: =SUM(H48,H38,H20) -> 0 | I49: =SUM(I48,I38,I20) -> 0 | J49: =SUM(J48,J38,J20) -> 0 | N49: =F49-E49 -> -161 | O49: =G49-F49 -> 175 | P49: =E49/'B1 Housing Units'!AE50 -> 0.006451511 | Q49: =F49/'B1 Housing Units'!AF50 -> 0.0055822836 | R49: =G49/'B1 Housing Units'!J50 -> 0.006506772
A50: Hillsborough County | E50: 1088 | F50: 1044 | G50: 1172 | N50: =F50-E50 -> -44 | O50: =G50-F50 -> 128 | P50: =E50/'B1 Housing Units'!AE51 -> 0.0065837645 | Q50: =F50/'B1 Housing Units'!AF50 -> 0.0054773535 | R50: =G50/'B1 Housing Units'!J51 -> 0.0070579875
A51: Rockingham County | B51: 83 | C51: 238 | D51: 466 | E51: 805 | F51: 686 | G51: 820 | K51: =C51-B51 -> 155 | L51: =D51-C51 -> 228 | M51: =E51-D51 -> 339 | N51: =F51-E51 -> -119 | O51: =G51-F51 -> 134 | P51: =E51/'B1 Housing Units'!AE52 -> 0.0063756821 | Q51: =F51/'B1 Housing Units'!AF51 -> 0.0041389879 | R51: =G51/'B1 Housing Units'!J52 -> 0.0064715214
A52: New Hampshire | B52: 462 | C52: 1057 | D52: 2071 | E52: 3563 | F52: 3467 | G52: 3953 | K52: =C52-B52 -> 595 | L52: =D52-C52 -> 1014 | M52: =E52-D52 -> 1492 | N52: =F52-E52 -> -96 | O52: =G52-F52 -> 486 | P52: ='B7 Forclosure Data FOR PRiNT'!E52/'B1 Housing Units'!AE53 -> 0.0058480876 | Q52: =F52/'B1 Housing Units'!AF53 -> 0.0056704159 | R52: =G52/'B1 Housing Units'!J53 -> 0.0064302144
A53: Source: Real Data (www.real-data.com) / NHHFA (foreclosure update newsletter)
A54: Source: U.S. Census Bureau & NH Office of Energy and Planning
A55: * 2010 Housing Stock data from US Census Bureau

Sheet B5_NHA data 2013
A1: 2012 Data
A2: ** CEDS SUBREGION averages are weighted averages.
B4: All Homes | D4: Existing Homes | F4: New Homes
A5: Town/Area | B5: Median Purchase Price | C5: Sample Size | D5: Median Purchase Price | E5: Sample Size | F5: Median Purchase Price | G5: Sample Size
A6: East Kingston
A7: Exeter
A8: Greenland
A9: Hampton
A10: Hampton Falls
A11: Kensington
A12: New Castle
A13: Newfields
A14: Newington
A15: Newmarket
A16: North Hampton
A17: Portsmouth
... A21: Stratham
A22: CEDS Eastern Towns | B22: =(B6*C6+B7*C7+B8*C8+B9*C9+B10*C10+B11*C11+B12*C12+B13*C13+B14*C14+B15*C15+B16*C16+B17*C17+B18*C18+B19*C19+B20*C20+B21*C21)/C22 -> #DIV/0! | C22: =SUM(C6:C21) -> 0 | D22: =(D6*E6+D7*E7+D8*E8+D9*E9+D10*E10+D11*E11+D12*E12+D13*E13+D14*E14+D15*E15+D16*E16+D17*E17+D18*E18+D19*E19+D20*E20+D21*E21)/E22 -> #DIV/0! | E22: =SUM(E6:E21) -> 0 | F22: =(F6*G6+F7*G7+F8*G8+F9*G9+F10*G10+F11*G11+F12*G12+F13*G13+F14*G14+F15*G15+F16*G16+F17*G17+F18*G18+F19*G19+F20*G20+F21*G21)/G22 -> #DIV/0! | G22: =SUM(G6:G21) -> 0
A23: Atkinson
A24: Auburn
A25: Brentwood
A26: Candia
A27: Chester
A28: Danville
A29: Deerfield
A30: Epping
A31: Fremont
A32: Hampstead
A33: Kingston
A34: Newton
... A39: Sandown
A40: CEDS Central Towns | B40: =(B23*C23+B24*C24+B25*C25+B26*C26+B27*C27+B28*C28+B29*C29+B30*C30+B31*C31+B32*C32+B33*C33+B34*C34+B35*C35+B36*C36+B37*C37+B38*C38+B39*C39)/C40 -> #DIV/0! | C40: =SUM(C23:C39) -> 0 | D40: =(D23*E23+D24*E24+D25*E25+D26*E26+D27*E27+D28*E28+D29*E29+D30*E30+D31*E31+D32*E32+D33*E33+D34*E34+D35*E35+D36*E36+D37*E37+D38*E38+D39*E39)/E40 -> #DIV/0! | E40: =SUM(E23:E39) -> 0 | F40: =(F23*G23+F24*G24+F25*G25+F26*G26+F27*G27+F28*G28+F29*G29+F30*G30+F31*G31+F32*G32+F33*G33+F34*G34+F35*G35+F36*G36+F37*G37+F38*G38+F39*G39)/G40 -> #DIV/0! | G40: =SUM(G23:G39) -> 0
A41: Derry
A42: Hudson
A43: Litchfield
A44: Londonderry
A45: Merrimack
A46: Nashua
A47: Pelham
A48: Salem
A49: Windham
A50: CEDS Western Towns | B50: =(B41*C41+B42*C42+B43*C43+B44*C44+B45*C45+B46*C46+B47*C47+B48*C48+B49*C49)/C50 -> #DIV/0! | C50: =SUM(C41:C49) -> 0 | D50: =(D41*E41+D42*E42+D43*E43+D44*E44+D45*E45+D46*E46+D47*E47+D48*E48+D49*E49)/E50 -> #DIV/0! | E50: =SUM(E41:E49) -> 0 | F50: =(F41*G41+F42*G42+F43*G43+F44*G44+F45*G45+F46*G46+F47*G47+F48*G48+F49*G49)/G50 -> #DIV/0! | G50: =SUM(G41:G49) -> 0
A51: REDC REGION | B51: =(B50*C50+B40*C40+B22*C22)/C51 -> #DIV/0! | C51: =SUM(C50,C40,C22) -> 0 | D51: =(D50*E50+D40*E40+D22*E22)/E51 -> #DIV/0! | E51: =SUM(E50,E40,E22) -> 0 | F51: =(F50*G50+F40*G40+F22*G22)/G51 -> #DIV/0! | G51: =SUM(G50,G40,G22) -> 0
A52: Hillsborough County
A53: Rockingham County
A54: New Hamsphire

Sheet B5 Purchase Prices - Towns
A1: Table B-5: Home Sales Data, REDC CEDS Region | J1: 2009 CEDS Update, Rockingham County, NH | AN1: 2012 CEDS Update | AX1: 2013 CEDS Update | BH1: 2014 CEDS Update
B4: 2008 All Home Sales | D4: 2008 Existing Home Sales | F4: 2008 New Home Sales | H4: Med. Sales Price Change 07 to 08 | L4: 2009 All Home Sales | N4: 2009 Existing Home Sales | P4: 2009 New Home Sales | R4: Med. Sales Price Change 08 to 09 | V4: 2010 All Home Sales | X4: 2010 Existing Home Sales | Z4: 2010 New Home Sales | AB4: Med. Sales Price Change 09 to 10 | AF4: 2011 All Home Sales* | AH4: 2011 Existing Home Sales* | AJ4: 2011 New Home Sales* | AL4: Med. Sales Price Change 10 to 11 | AP4: 2012 All Home Sales * | AR4: 2012 Existing Home Sales* | AT4: 2012 New Home Sales * | AV4: Med. Sales Price Change 11 to 12 | AZ4: 2013 All Home Sales | BB4: 2013 Existing Home Sales | BD4: 2013 New Home Sales | BF4: Med. Sales Price Change 12 to 13
A5: Town/Area | B5: Med Sales Price | C5: Sample Size | D5: Med Sales Price | E5: Sample Size | F5: Med Sales Price | G5: Sample Size | H5: All Sales | I5: Existing | J5: New | L5: Med Sales Price | M5: Sample Size | N5: Med Sales Price | O5: Sample Size | P5: Med Sales Price | Q5: Sample Size | R5: All Sales | S5: Existing | T5: New | V5: Med Sales Price | W5: Sample Size | X5: Med Sales Price | Y5: Sample Size | Z5: Med Sales Price | AA5: Sample Size | AB5: All Sales | AC5: Existing | AD5: New | AF5: Med Sales Price | AG5: Sample Size | AH5: Med Sales Price | AI5: Sample Size | AJ5: Med Sales Price | AK5: Sample Size | AL5: All Sales | AM5: Existing | AN5: New | AP5: Med Sales Price | AQ5: Sample Size | AR5: Med Sales Price | AS5: Sample Size | AT5: Med Sales Price | AU5: Sample Size | AV5: All Sales | AW5: Existing | AX5: New | AZ5: Med Sales Price | BA5: Sample Size | BB5: Med Sales Price | BC5: Sample Size | BD5: Med Sales Price | BE5: Sample Size | BF5: All Sales | BG5: Existing | BH5: New
A6: East Kingston | B6: ='B5_NHA data 2008'!B6 -> 367500 | C6: ='B5_NHA data 2008'!C6 -> 18 | D6: ='B5_NHA data 2008'!D6 -> 368000 | E6: ='B5_NHA data 2008'!E6 -> 13 | F6: ='B5_NHA data 2008'!F6 -> 352500 | G6: ='B5_NHA data 2008'!G6 -> 5 | H6: =(B6-'B5_NHA data 2007'!B6)/'B5_NHA data 2007'!B6 -> -0.069620253 | I6: =(D6-'B5_NHA data 2007'!D6)/'B5_NHA data 2007'!D6 -> 0.13931889 | J6: =(F6-'B5_NHA data 2007'!F6)/'B5_NHA data 2007'!F6 -> -0.11852963 | L6: ='B5_NHA data 2009'!B6 -> 270000 | M6: ='B5_NHA data 2009'!C6 -> 31 | N6: ='B5_NHA data 2009'!D6 -> 269000 | O6: ='B5_NHA data 2009'!E6 -> 25 | P6: ='B5_NHA data 2009'!F6 -> 308800 | Q6: ='B5_NHA data 2009'!G6 -> 6 | R6: =(L6-B6)/B6 -> -0.26530612 | S6: =(N6-D6)/D6 -> -0.26902174 | T6: =(P6-F6)/F6 -> -0.12397163 | V6: ='B5_NHA data 2010'!B6 -> 303500 | W6: ='B5_NHA data 2010'!C6 -> 33 | X6: ='B5_NHA data 2010'!D6 -> 303500 | Y6: ='B5_NHA data 2010'!E6 -> 25 | Z6: ='B5_NHA data 2010'!F6 -> 302000 | AA6: ='B5_NHA data 2010'!G6 -> 8 | AB6: =(V6-L6)/L6 -> 0.12407407 | AC6: =(X6-N6)/N6 -> 0.12825279 | AD6: =(Z6-P6)/P6 -> -0.022020725 | AF6: ='B5_NHA data 2011'!B6 -> 292500 | AG6: ='B5_NHA data 2011'!C6 -> 15 | AH6: ='B5_NHA data 2011'!D6 -> 290000 | AI6: ='B5_NHA data 2011'!E6 -> 13 | AJ6: ='B5_NHA data 2011'!F6 -> 340000 | AK6: ='B5_NHA data 2011'!G6 -> 2 | AL6: =(AF6-V6)/V6 -> -0.036243822 | AM6: =(AH6-X6)/X6 -> -0.044481054 | AN6: =(AJ6-Z6)/Z6 -> 0.12582781 | AP6: ='B5_NHA data 2012'!B6 -> 275000 | AQ6: ='B5_NHA data 2012'!C6 -> 31 | AR6: ='B5_NHA data 2012'!D6 -> 239000 | AS6: ='B5_NHA data 2012'!E6 -> 28 | AT6: ='B5_NHA data 2012'!F6 -> 279000 | AU6: ='B5_NHA data 2012'!G6 -> 3 | AV6: =(AP6-AF6)/AF6 -> -0.05982906 | AW6: =(AR6-AH6)/AH6 -> -0.17586207 | AX6: =(AT6-AJ6)/AJ6 -> -0.17941176 | AZ6: ='B5_NHA data 2013'!B6 -> 0 | BA6: ='B5_NHA data 2013'!C6 -> 0 | BB6: ='B5_NHA data 2013'!D6 -> 0 | BC6: ='B5_NHA data 2013'!E6 -> 0 | BD6: ='B5_NHA data 2013'!F6 -> 0 | BE6: ='B5_NHA data 2013'!G6 -> 0 | BF6: =(AZ6-AP6)/AP6 -> -1 | BG6: =(BB6-AR6)/AR6 -> -1 | BH6: =(BD6-AT6)/AT6 -> -1
A7: Exeter | B7: ='B5_NHA data 2008'!B7 -> 305000 | C7: ='B5_NHA data 2008'!C7 -> 114 | D7: ='B5_NHA data 2008'!D7 -> 300000 | E7: ='B5_NHA data 2008'!E7 -> 103 | F7: ='B5_NHA data 2008'!F7 -> 369933 | G7: ='B5_NHA data 2008'!G7 -> 11 | H7: =(B7-'B5_NHA data 2007'!B7)/'B5_NHA data 2007'!B7 -> 0.089285714 | I7: =(D7-'B5_NHA data 2007'!D7)/'B5_NHA data 2007'!D7 -> 0.19047619 | J7: =(F7-'B5_NHA data 2007'!F7)/'B5_NHA data 2007'!F7 -> 0.14176852 | L7: ='B5_NHA data 2009'!B7 -> 235000 | M7: ='B5_NHA data 2009'!C7 -> 160 | N7: ='B5_NHA data 2009'!D7 -> 227533 | O7: ='B5_NHA data 2009'!E7 -> 149 | P7: ='B5_NHA data 2009'!F7 -> 348900 | Q7: ='B5_NHA data 2009'!G7 -> 11 | R7: =(L7-B7)/B7 -> -0.2295082 | S7: =(N7-D7)/D7 -> -0.24155667 | T7: =(P7-F7)/F7 -> -0.056856242 | V7: ='B5_NHA data 2010'!B7 -> 262500 | W7: ='B5_NHA data 2010'!C7 -> 142 | X7: ='B5_NHA data 2010'!D7 -> 247000 | Y7: ='B5_NHA data 2010'!E7 -> 125 | Z7: ='B5_NHA data 2010'!F7 -> 305000 | AA7: ='B5_NHA data 2010'!G7 -> 17 | AB7: =(V7-L7)/L7 -> 0.11702128 | AC7: =(X7-N7)/N7 -> 0.08555682 | AD7: =(Z7-P7)/P7 -> -0.12582402 | AF7: ='B5_NHA data 2011'!B7 -> 262000 | AG7: ='B5_NHA data 2011'!C7 -> 135 | AH7: ='B5_NHA data 2011'!D7 -> 260000 | AI7: ='B5_NHA data 2011'!E7 -> 121 | AJ7: ='B5_NHA data 2011'!F7 -> 275000 | AK7: ='B5_NHA data 2011'!G7 -> 14 | AL7: =(AF7-V7)/V7 -> -0.0019047619 | AM7: =(AH7-X7)/X7 -> 0.052631579 | AN7: =(AJ7-Z7)/Z7 -> -0.098360656 | AP7: ='B5_NHA data 2012'!B7 -> 252000 | AQ7: ='B5_NHA data 2012'!C7 -> 191 | AR7: ='B5_NHA data 2012'!D7 -> 242000 | AS7: ='B5_NHA data 2012'!E7 -> 152 | AT7: ='B5_NHA data 2012'!F7 -> 286650 | AU7: ='B5_NHA data 2012'!G7 -> 39 | AV7: =(AP7-AF7)/AF7 -> -0.038167939 | AW7: =(AR7-AH7)/AH7 -> -0.069230769 | AX7: =(AT7-AJ7)/AJ7 -> 0.042363636 | AZ7: ='B5_NHA data 2013'!B7 -> 0 | BA7: ='B5_NHA data 2013'!C7 -> 0 | BB7: ='B5_NHA data 2013'!D7 -> 0 | BC7: ='B5_NHA data 2013'!E7 -> 0 | BD7: ='B5_NHA data 2013'!F7 -> 0 | BE7: ='B5_NHA data 2013'!G7 -> 0 | BF7: =(AZ7-AP7)/AP7 -> -1 | BG7: =(BB7-AR7)/AR7 -> -1 | BH7: =(BD7-AT7)/AT7 -> -1
A8: Greenland | B8: ='B5_NHA data 2008'!B8 -> 440000 | C8: ='B5_NHA data 2008'!C8 -> 38 | D8: ='B5_NHA data 2008'!D8 -> 400067 | E8: ='B5_NHA data 2008'!E8 -> 21 | F8: ='B5_NHA data 2008'!F8 -> 502000 | G8: ='B5_NHA data 2008'!G8 -> 17 | H8: =(B8-'B5_NHA data 2007'!B8)/'B5_NHA data 2007'!B8 -> 0.31343284 | I8: =(D8-'B5_NHA data 2007'!D8)/'B5_NHA data 2007'!D8 -> 0.31169508 | J8: =(F8-'B5_NHA data 2007'!F8)/'B5_NHA data 2007'!F8 -> 0.046051261 | L8: ='B5_NHA data 2009'!B8 -> 382500 | M8: ='B5_NHA data 2009'!C8 -> 41 | N8: ='B5_NHA data 2009'!D8 -> 310000 | O8: ='B5_NHA data 2009'!E8 -> 26 | P8: ='B5_NHA data 2009'!F8 -> 399350 | Q8: ='B5_NHA data 2009'!G8 -> 15 | R8: =(L8-B8)/B8 -> -0.13068182 | S8: =(N8-D8)/D8 -> -0.22512979 | T8: =(P8-F8)/F8 -> -0.20448207 | V8: ='B5_NHA data 2010'!B8 -> 375000 | W8: ='B5_NHA data 2010'!C8 -> 35 | X8: ='B5_NHA data 2010'!D8 -> 375000 | Y8: ='B5_NHA data 2010'!E8 -> 25 | Z8: ='B5_NHA data 2010'!F8 -> 365750 | AA8: ='B5_NHA data 2010'!G8 -> 10 | AB8: =(V8-L8)/L8 -> -0.019607843 | AC8: =(X8-N8)/N8 -> 0.20967742 | AD8: =(Z8-P8)/P8 -> -0.084136722 | AF8: ='B5_NHA data 2011'!B8 -> 360000 | AG8: ='B5_NHA data 2011'!C8 -> 43 | AH8: ='B5_NHA data 2011'!D8 -> 360000 | AI8: ='B5_NHA data 2011'!E8 -> 34 | AJ8: ='B5_NHA data 2011'!F8 -> 342500 | AK8: ='B5_NHA data 2011'!G8 -> 9 | AL8: =(AF8-V8)/V8 -> -0.04 | AM8: =(AH8-X8)/X8 -> -0.04 | AN8: =(AJ8-Z8)/Z8 -> -0.063568011 | AP8: ='B5_NHA data 2012'!B8 -> 360000 | AQ8: ='B5_NHA data 2012'!C8 -> 48 | AR8: ='B5_NHA data 2012'!D8 -> 349000 | AS8: ='B5_NHA data 2012'!E8 -> 32 | AT8: ='B5_NHA data 2012'!F8 -> 407000 | AU8: ='B5_NHA data 2012'!G8 -> 16 | AV8: =(AP8-AF8)/AF8 -> 0 | AW8: =(AR8-AH8)/AH8 -> -0.030555556 | AX8: =(AT8-AJ8)/AJ8 -> 0.18832117 | AZ8: ='B5_NHA data 2013'!B8 -> 0 | BA8: ='B5_NHA data 2013'!C8 -> 0 | BB8: ='B5_NHA data 2013'!D8 -> 0 | BC8: ='B5_NHA data 2013'!E8 -> 0 | BD8: ='B5_NHA data 2013'!F8 -> 0 | BE8: ='B5_NHA data 2013'!G8 -> 0 | BF8: =(AZ8-AP8)/AP8 -> -1 | BG8: =(BB8-AR8)/AR8 -> -1 | BH8: =(BD8-AT8)/AT8 -> -1
A9: Hampton | B9: ='B5_NHA data 2008'!B9 -> 300000 | C9: ='B5_NHA data 2008'!C9 -> 112 | D9: ='B5_NHA data 2008'!D9 -> 282000 | E9: ='B5_NHA data 2008'!E9 -> 100 | F9: ='B5_NHA data 2008'!F9 -> 330000 | G9: ='B5_NHA data 2008'!G9 -> 12 | H9: =(B9-'B5_NHA data 2007'!B9)/'B5_NHA data 2007'!B9 -> -0.032258065 | I9: =(D9-'B5_NHA data 2007'!D9)/'B5_NHA data 2007'!D9 -> -0.075409836 | J9: =(F9-'B5_NHA data 2007'!F9)/'B5_NHA data 2007'!F9 -> 0.047619048 | L9: ='B5_NHA data 2009'!B9 -> 275000 | M9: ='B5_NHA data 2009'!C9 -> 161 | N9: ='B5_NHA data 2009'!D9 -> 265000 | O9: ='B5_NHA data 2009'!E9 -> 147 | P9: ='B5_NHA data 2009'!F9 -> 489000 | Q9: ='B5_NHA data 2009'!G9 -> 14 | R9: =(L9-B9)/B9 -> -0.083333333 | S9: =(N9-D9)/D9 -> -0.060283688 | T9: =(P9-F9)/F9 -> 0.48181818 | V9: ='B5_NHA data 2010'!B9 -> 284900 | W9: ='B5_NHA data 2010'!C9 -> 140 | X9: ='B5_NHA data 2010'!D9 -> 284900 | Y9: ='B5_NHA data 2010'!E9 -> 131 | Z9: ='B5_NHA data 2010'!F9 -> 304900 | AA9: ='B5_NHA data 2010'!G9 -> 9 | AB9: =(V9-L9)/L9 -> 0.036 | AC9: =(X9-N9)/N9 -> 0.07509434 | AD9: =(Z9-P9)/P9 -> -0.37648262 | AF9: ='B5_NHA data 2011'!B9 -> 279500 | AG9: ='B5_NHA data 2011'!C9 -> 139 | AH9: ='B5_NHA data 2011'!D9 -> 275000 | AI9: ='B5_NHA data 2011'!E9 -> 129 | AJ9: ='B5_NHA data 2011'!F9 -> 363766 | AK9: ='B5_NHA data 2011'!G9 -> 10 | AL9: =(AF9-V9)/V9 -> -0.018954019 | AM9: =(AH9-X9)/X9 -> -0.034749035 | AN9: =(AJ9-Z9)/Z9 -> 0.19306658 | AP9: ='B5_NHA data 2012'!B9 -> 284000 | AQ9: ='B5_NHA data 2012'!C9 -> 202 | AR9: ='B5_NHA data 2012'!D9 -> 275000 | AS9: ='B5_NHA data 2012'!E9 -> 190 | AT9: ='B5_NHA data 2012'!F9 -> 358365 | AU9: ='B5_NHA data 2012'!G9 -> 13 | AV9: =(AP9-AF9)/AF9 -> 0.016100179 | AW9: =(AR9-AH9)/AH9 -> 0 | AX9: =(AT9-AJ9)/AJ9 -> -0.014847457 | AZ9: ='B5_NHA data 2013'!B9 -> 0 | BA9: ='B5_NHA data 2013'!C9 -> 0 | BB9: ='B5_NHA data 2013'!D9 -> 0 | BC9: ='B5_NHA data 2013'!E9 -> 0 | BD9: ='B5_NHA data 2013'!F9 -> 0 | BE9: ='B5_NHA data 2013'!G9 -> 0 | BF9: =(AZ9-AP9)/AP9 -> -1 | BG9: =(BB9-AR9)/AR9 -> -1 | BH9: =(BD9-AT9)/AT9 -> -1
A10: Hampton Falls | B10: ='B5_NHA data 2008'!B10 -> 525000 | C10: ='B5_NHA data 2008'!C10 -> 15 | D10: ='B5_NHA data 2008'!D10 -> 525000 | E10: ='B5_NHA data 2008'!E10 -> 12 | F10: ='B5_NHA data 2008'!F10 -> 405500 | G10: ='B5_NHA data 2008'!G10 -> 3 | H10: =(B10-'B5_NHA data 2007'!B10)/'B5_NHA data 2007'!B10 -> -0.012229539 | I10: =(D10-'B5_NHA data 2007'!D10)/'B5_NHA data 2007'!D10 -> 0.22093023 | J10: =(F10-'B5_NHA data 2007'!F10)/'B5_NHA data 2007'!F10 -> -0.49627329 | L10: ='B5_NHA data 2009'!B10 -> 345000 | M10: ='B5_NHA data 2009'!C10 -> 24 | N10: ='B5_NHA data 2009'!D10 -> 375000 | O10: ='B5_NHA data 2009'!E10 -> 17 | P10: ='B5_NHA data 2009'!F10 -> 278267 | Q10: ='B5_NHA data 2009'!G10 -> 7 | R10: =(L10-B10)/B10 -> -0.34285714 | S10: =(N10-D10)/D10 -> -0.28571429 | T10: =(P10-F10)/F10 -> -0.31376819 | V10: ='B5_NHA data 2010'!B10 -> 380000 | W10: ='B5_NHA data 2010'!C10 -> 34 | X10: ='B5_NHA data 2010'!D10 -> 380000 | Y10: ='B5_NHA data 2010'!E10 -> 32 | Z10: ='B5_NHA data 2010'!F10 -> 285000 | AA10: ='B5_NHA data 2010'!G10 -> 2 | AB10: =(V10-L10)/L10 -> 0.10144928 | AC10: =(X10-N10)/N10 -> 0.013333333 | AD10: =(Z10-P10)/P10 -> 0.024196186 | AF10: ='B5_NHA data 2011'!B10 -> 305000 | AG10: ='B5_NHA data 2011'!C10 -> 16 | AH10: ='B5_NHA data 2011'!D10 -> 305000 | AI10: ='B5_NHA data 2011'!E10 -> 16 | AJ10: ='B5_NHA data 2011'!F10 -> n/a | AK10: ='B5_NHA data 2011'!G10 -> n/a | AL10: =(AF10-V10)/V10 -> -0.19736842 | AM10: =(AH10-X10)/X10 -> -0.19736842 | AN10: n/a | AP10: ='B5_NHA data 2012'!B10 -> 385000 | AQ10: ='B5_NHA data 2012'!C10 -> 29 | AR10: ='B5_NHA data 2012'!D10 -> 348500 | AS10: ='B5_NHA data 2012'!E10 -> 26 | AT10: ='B5_NHA data 2012'!F10 -> 399900 | AU10: ='B5_NHA data 2012'!G10 -> 3 | AV10: =(AP10-AF10)/AF10 -> 0.26229508 | AW10: =(AR10-AH10)/AH10 -> 0.14262295 | AX10: n/a | AZ10: ='B5_NHA data 2013'!B10 -> 0 | BA10: ='B5_NHA data 2013'!C10 -> 0 | BB10: ='B5_NHA data 2013'!D10 -> 0 | BC10: ='B5_NHA data 2013'!E10 -> 0 | BD10: ='B5_NHA data 2013'!F10 -> 0 | BE10: ='B5_NHA data 2013'!G10 -> 0 | BF10: =(AZ10-AP10)/AP10 -> -1 | BG10: =(BB10-AR10)/AR10 -> -1 | BH10: =(BD10-AT10)/AT10 -> -1
A11: Kensington | B11: ='B5_NHA data 2008'!B11 -> 389000 | C11: ='B5_NHA data 2008'!C11 -> 18 | D11: ='B5_NHA data 2008'!D11 -> 336000 | E11: ='B5_NHA data 2008'!E11 -> 13 | F11: ='B5_NHA data 2008'!F11 -> 405908 | G11: ='B5_NHA data 2008'!G11 -> 5 | H11: =(B11-'B5_NHA data 2007'!B11)/'B5_NHA data 2007'!B11 -> 0.020997375 | I11: =(D11-'B5_NHA data 2007'!D11)/'B5_NHA data 2007'!D11 -> -0.066666667 | J11: =(F11-'B5_NHA data 2007'!F11)/'B5_NHA data 2007'!F11 -> -0.39416716 | L11: ='B5_NHA data 2009'!B11 -> 290000 | M11: ='B5_NHA data 2009'!C11 -> 14 | N11: ='B5_NHA data 2009'!D11 -> 275000 | O11: ='B5_NHA data 2009'!E11 -> 12 | P11: ='B5_NHA data 2009'!F11 -> 497500 | Q11: ='B5_NHA data 2009'!G11 -> 2 | R11: =(L11-B11)/B11 -> -0.25449871 | S11: =(N11-D11)/D11 -> -0.18154762 | T11: =(P11-F11)/F11 -> 0.22564719 | V11: ='B5_NHA data 2010'!B11 -> 300000 | W11: ='B5_NHA data 2010'!C11 -> 11 | X11: ='B5_NHA data 2010'!D11 -> 300000 | Y11: ='B5_NHA data 2010'!E11 -> 11 | Z11: ='B5_NHA data 2010'!F11 -> n/a | AA11: ='B5_NHA data 2010'!G11 -> n/a | AB11: =(V11-L11)/L11 -> 0.034482759 | AC11: =(X11-N11)/N11 -> 0.090909091 | AD11: n/a | AF11: ='B5_NHA data 2011'!B11 -> 285000 | AG11: ='B5_NHA data 2011'!C11 -> 18 | AH11: ='B5_NHA data 2011'!D11 -> 285000 | AI11: ='B5_NHA data 2011'!E11 -> 18 | AJ11: ='B5_NHA data 2011'!F11 -> n/a | AK11: ='B5_NHA data 2011'!G11 -> n/a | AL11: =(AF11-V11)/V11 -> -0.05 | AM11: =(AH11-X11)/X11 -> -0.05 | AN11: n/a | AP11: ='B5_NHA data 2012'!B11 -> 375000 | AQ11: ='B5_NHA data 2012'!C11 -> 16 | AR11: ='B5_NHA data 2012'!D11 -> 375000 | AS11: ='B5_NHA data 2012'!E11 -> 16 | AT11: ='B5_NHA data 2012'!F11 -> n/a | AU11: ='B5_NHA data 2012'!G11 -> n/a | AV11: =(AP11-AF11)/AF11 -> 0.31578947 | AW11: =(AR11-AH11)/AH11 -> 0.31578947 | AX11: n/a | AZ11: ='B5_NHA data 2013'!B11 -> 0 | BA11: ='B5_NHA data 2013'!C11 -> 0 | BB11: ='B5_NHA data 2013'!D11 -> 0 | BC11: ='B5_NHA data 2013'!E11 -> 0 | BD11: ='B5_NHA data 2013'!F11 -> 0 | BE11: ='B5_NHA data 2013'!G11 -> 0 | BF11: =(AZ11-AP11)/AP11 -> -1 | BG11: =(BB11-AR11)/AR11 -> -1 | BH11: =(BD11-AT11)/AT11 -> #VALUE!
A12: New Castle | B12: ='B5_NHA data 2008'!B12 -> 1050000 | C12: ='B5_NHA data 2008'!C12 -> 13 | D12: ='B5_NHA data 2008'!D12 -> 1050000 | E12: ='B5_NHA data 2008'!E12 -> 13 | F12: ='B5_NHA data 2008'!F12 -> #N/A | G12: ='B5_NHA data 2008'!G12 -> #N/A | H12: =(B12-'B5_NHA data 2007'!B12)/'B5_NHA data 2007'!B12 -> -0.018691589 | I12: =(D12-'B5_NHA data 2007'!D12)/'B5_NHA data 2007'!D12 -> -0.11392405 | J12: =(F12-'B5_NHA data 2007'!F12)/'B5_NHA data 2007'!F12 -> #N/A | L12: ='B5_NHA data 2009'!B12 -> 531000 | M12: ='B5_NHA data 2009'!C12 -> 9 | N12: ='B5_NHA data 2009'!D12 -> 531000 | O12: ='B5_NHA data 2009'!E12 -> 9 | P12: ='B5_NHA data 2009'!F12 -> n/a | Q12: ='B5_NHA data 2009'!G12 -> n/a | R12: =(L12-B12)/B12 -> -0.49428571 | S12: =(N12-D12)/D12 -> -0.49428571 | T12: n/a | V12: ='B5_NHA data 2010'!B12 -> 825000 | W12: ='B5_NHA data 2010'!C12 -> 11 | X12: ='B5_NHA data 2010'!D12 -> 825000 | Y12: ='B5_NHA data 2010'!E12 -> 11 | Z12: ='B5_NHA data 2010'!F12 -> n/a | AA12: ='B5_NHA data 2010'!G12 -> n/a | AB12: =(V12-L12)/L12 -> 0.55367232 | AC12: =(X12-N12)/N12 -> 0.55367232 | AD12: n/a | AF12: ='B5_NHA data 2011'!B12 -> 1100000 | AG12: ='B5_NHA data 2011'!C12 -> 15 | AH12: ='B5_NHA data 2011'!D12 -> 1100000 | AI12: ='B5_NHA data 2011'!E12 -> 15 | AJ12: ='B5_NHA data 2011'!F12 -> n/a | AK12: ='B5_NHA data 2011'!G12 -> n/a | AL12: =(AF12-V12)/V12 -> 0.33333333 | AM12: =(AH12-X12)/X12 -> 0.33333333 | AN12: n/a | AP12: ='B5_NHA data 2012'!B12 -> 972500 | AQ12: ='B5_NHA data 2012'!C12 -> 21 | AR12: ='B5_NHA data 2012'!D12 -> 972500 | AS12: ='B5_NHA data 2012'!E12 -> 20 | AT12: ='B5_NHA data 2012'!F12 -> 700000 | AU12: ='B5_NHA data 2012'!G12 -> 1 | AV12: =(AP12-AF12)/AF12 -> -0.11590909 | AW12: =(AR12-AH12)/AH12 -> -0.11590909 | AX12: n/a | AZ12: ='B5_NHA data 2013'!B12 -> 0 | BA12: ='B5_NHA data 2013'!C12 -> 0 | BB12: ='B5_NHA data 2013'!D12 -> 0 | BC12: ='B5_NHA data 2013'!E12 -> 0 | BD12: ='B5_NHA data 2013'!F12 -> 0 | BE12: ='B5_NHA data 2013'!G12 -> 0 | BF12: =(AZ12-AP12)/AP12 -> -1 | BG12: =(BB12-AR12)/AR12 -> -1 | BH12: =(BD12-AT12)/AT12 -> -1
A13: Newfields | B13: ='B5_NHA data 2008'!B13 -> 410000 | C13: ='B5_NHA data 2008'!C13 -> 8 | D13: ='B5_NHA data 2008'!D13 -> 410000 | E13: ='B5_NHA data 2008'!E13 -> 7 | F13: ='B5_NHA data 2008'!F13 -> #N/A | G13: ='B5_NHA data 2008'!G13 -> 1 | H13: =(B13-'B5_NHA data 2007'!B13)/'B5_NHA data 2007'!B13 -> -0.12765957 | I13: =(D13-'B5_NHA data 2007'!D13)/'B5_NHA data 2007'!D13 -> 0.037974684 | J13: =(F13-'B5_NHA data 2007'!F13)/'B5_NHA data 2007'!F13 -> #N/A | L13: ='B5_NHA data 2009'!B13 -> 329900 | M13: ='B5_NHA data 2009'!C13 -> 15 | N13: ='B5_NHA data 2009'!D13 -> 395000 | O13: ='B5_NHA data 2009'!E13 -> 11 | P13: ='B5_NHA data 2009'!F13 -> 329533 | Q13: ='B5_NHA data 2009'!G13 -> 4 | R13: =(L13-B13)/B13 -> -0.19536585 | S13: =(N13-D13)/D13 -> -0.036585366 | T13: n/a | V13: ='B5_NHA data 2010'!B13 -> 395700 | W13: ='B5_NHA data 2010'!C13 -> 10 | X13: ='B5_NHA data 2010'!D13 -> 395700 | Y13: ='B5_NHA data 2010'!E13 -> 10 | Z13: ='B5_NHA data 2010'!F13 -> n/a | AA13: ='B5_NHA data 2010'!G13 -> n/a | AB13: =(V13-L13)/L13 -> 0.19945438 | AC13: =(X13-N13)/N13 -> 0.0017721519 | AD13: n/a | AF13: ='B5_NHA data 2011'!B13 -> 254933 | AG13: ='B5_NHA data 2011'!C13 -> 6 | AH13: ='B5_NHA data 2011'!D13 -> 254933 | AI13: ='B5_NHA data 2011'!E13 -> 6 | AJ13: ='B5_NHA data 2011'!F13 -> n/a | AK13: ='B5_NHA data 2011'!G13 -> n/a | AL13: =(AF13-V13)/V13 -> -0.35574172 | AM13: =(AH13-X13)/X13 -> -0.35574172 | AN13: n/a | AP13: ='B5_NHA data 2012'!B13 -> 395000 | AQ13: ='B5_NHA data 2012'!C13 -> 19 | AR13: ='B5_NHA data 2012'!D13 -> 395000 | AS13: ='B5_NHA data 2012'!E13 -> 19 | AT13: ='B5_NHA data 2012'!F13 -> n/a | AU13: ='B5_NHA data 2012'!G13 -> n/a | AV13: =(AP13-AF13)/AF13 -> 0.54942671 | AW13: =(AR13-AH13)/AH13 -> 0.54942671 | AX13: n/a | AZ13: ='B5_NHA data 2013'!B13 -> 0 | BA13: ='B5_NHA data 2013'!C13 -> 0 | BB13: ='B5_NHA data 2013'!D13 -> 0 | BC13: ='B5_NHA data 2013'!E13 -> 0 | BD13: ='B5_NHA data 2013'!F13 -> 0 | BE13: ='B5_NHA data 2013'!G13 -> 0 | BF13: =(AZ13-AP13)/AP13 -> -1 | BG13: =(BB13-AR13)/AR13 -> -1 | BH13: =(BD13-AT13)/AT13 -> #VALUE!
A14: Newington | B14: ='B5_NHA data 2008'!B14 -> 420000 | C14: ='B5_NHA data 2008'!C14 -> 3 | D14: ='B5_NHA data 2008'!D14 -> 420000 | E14: ='B5_NHA data 2008'!E14 -> 3 | F14: ='B5_NHA data 2008'!F14 -> #N/A | G14: ='B5_NHA data 2008'!G14 -> #N/A | H14: =(B14-'B5_NHA data 2007'!B14)/'B5_NHA data 2007'!B14 -> 0.10671937 | I14: =(D14-'B5_NHA data 2007'!D14)/'B5_NHA data 2007'!D14 -> 0.0023866348 | J14: =(F14-'B5_NHA data 2007'!F14)/'B5_NHA data 2007'!F14 -> #N/A | L14: ='B5_NHA data 2009'!B14 -> 552000 | M14: ='B5_NHA data 2009'!C14 -> 7 | N14: ='B5_NHA data 2009'!D14 -> 552000 | O14: ='B5_NHA data 2009'!E14 -> 7 | P14: ='B5_NHA data 2009'!F14 -> n/a | Q14: ='B5_NHA data 2009'!G14 -> n/a | R14: =(L14-B14)/B14 -> 0.31428571 | S14: =(N14-D14)/D14 -> 0.31428571 | T14: n/a | V14: ='B5_NHA data 2010'!B14 -> 459000 | W14: ='B5_NHA data 2010'!C14 -> 7 | X14: ='B5_NHA data 2010'!D14 -> 459000 | Y14: ='B5_NHA data 2010'!E14 -> 7 | Z14: ='B5_NHA data 2010'!F14 -> n/a | AA14: ='B5_NHA data 2010'!G14 -> n/a | AB14: =(V14-L14)/L14 -> -0.16847826 | AC14: =(X14-N14)/N14 -> -0.16847826 | AD14: n/a | AF14: ='B5_NHA data 2011'!B14 -> 400000 | AG14: ='B5_NHA data 2011'!C14 -> 3 | AH14: ='B5_NHA data 2011'!D14 -> 400000 | AI14: ='B5_NHA data 2011'!E14 -> 3 | AJ14: ='B5_NHA data 2011'!F14 -> n/a | AK14: ='B5_NHA data 2011'!G14 -> n/a | AL14: =(AF14-V14)/V14 -> -0.12854031 | AM14: =(AH14-X14)/X14 -> -0.12854031 | AN14: n/a | AP14: ='B5_NHA data 2012'!B14 -> 530000 | AQ14: ='B5_NHA data 2012'!C14 -> 3 | AR14: ='B5_NHA data 2012'!D14 -> 530000 | AS14: ='B5_NHA data 2012'!E14 -> 3 | AT14: ='B5_NHA data 2012'!F14 -> n/a | AU14: ='B5_NHA data 2012'!G14 -> n/a | AV14: =(AP14-AF14)/AF14 -> 0.325 | AW14: =(AR14-AH14)/AH14 -> 0.325 | AX14: n/a | AZ14: ='B5_NHA data 2013'!B14 -> 0 | BA14: ='B5_NHA data 2013'!C14 -> 0 | BB14: ='B5_NHA data 2013'!D14 -> 0 | BC14: ='B5_NHA data 2013'!E14 -> 0 | BD14: ='B5_NHA data 2013'!F14 -> 0 | BE14: ='B5_NHA data 2013'!G14 -> 0 | BF14: =(AZ14-AP14)/AP14 -> -1 | BG14: =(BB14-AR14)/AR14 -> -1 | BH14: =(BD14-AT14)/AT14 -> #VALUE!
A15: Newmarket | B15: ='B5_NHA data 2008'!B15 -> 245000 | C15: ='B5_NHA data 2008'!C15 -> 67 | D15: ='B5_NHA data 2008'!D15 -> 240000 | E15: ='B5_NHA data 2008'!E15 -> 64 | F15: ='B5_NHA data 2008'!F15 -> 256000 | G15: ='B5_NHA data 2008'!G15 -> 3 | H15: =(B15-'B5_NHA data 2007'!B15)/'B5_NHA data 2007'!B15 -> -0.13427562 | I15: =(D15-'B5_NHA data 2007'!D15)/'B5_NHA data 2007'!D15 -> -0.13978495 | J15: =(F15-'B5_NHA data 2007'!F15)/'B5_NHA data 2007'!F15 -> -0.1471812 | L15: ='B5_NHA data 2009'!B15 -> 229400 | M15: ='B5_NHA data 2009'!C15 -> 67 | N15: ='B5_NHA data 2009'!D15 -> 229400 | O15: ='B5_NHA data 2009'!E15 -> 63 | P15: ='B5_NHA data 2009'!F15 -> 225000 | Q15: ='B5_NHA data 2009'!G15 -> 4 | R15: =(L15-B15)/B15 -> -0.063673469 | S15: =(N15-D15)/D15 -> -0.044166667 | T15: =(P15-F15)/F15 -> -0.12109375 | V15: ='B5_NHA data 2010'!B15 -> 205000 | W15: ='B5_NHA data 2010'!C15 -> 68 | X15: ='B5_NHA data 2010'!D15 -> 201000 | Y15: ='B5_NHA data 2010'!E15 -> 66 | Z15: ='B5_NHA data 2010'!F15 -> 250000 | AA15: ='B5_NHA data 2010'!G15 -> 2 | AB15: =(V15-L15)/L15 -> -0.10636443 | AC15: =(X15-N15)/N15 -> -0.12380122 | AD15: =(Z15-P15)/P15 -> 0.11111111 | AF15: ='B5_NHA data 2011'!B15 -> 220000 | AG15: ='B5_NHA data 2011'!C15 -> 76 | AH15: ='B5_NHA data 2011'!D15 -> 218225 | AI15: ='B5_NHA data 2011'!E15 -> 74 | AJ15: ='B5_NHA data 2011'!F15 -> 266500 | AK15: ='B5_NHA data 2011'!G15 -> 2 | AL15: =(AF15-V15)/V15 -> 0.073170732 | AM15: =(AH15-X15)/X15 -> 0.085696517 | AN15: =(AJ15-Z15)/Z15 -> 0.066 | AP15: ='B5_NHA data 2012'!B15 -> 239900 | AQ15: ='B5_NHA data 2012'!C15 -> 86 | AR15: ='B5_NHA data 2012'!D15 -> 235000 | AS15: ='B5_NHA data 2012'!E15 -> 81 | AT15: ='B5_NHA data 2012'!F15 -> 256000 | AU15: ='B5_NHA data 2012'!G15 -> 5 | AV15: =(AP15-AF15)/AF15 -> 0.090454545 | AW15: =(AR15-AH15)/AH15 -> 0.076870203 | AX15: =(AT15-AJ15)/AJ15 -> -0.039399625 | AZ15: ='B5_NHA data 2013'!B15 -> 0 | BA15: ='B5_NHA data 2013'!C15 -> 0 | BB15: ='B5_NHA data 2013'!D15 -> 0 | BC15: ='B5_NHA data 2013'!E15 -> 0 | BD15: ='B5_NHA data 2013'!F15 -> 0 | BE15: ='B5_NHA data 2013'!G15 -> 0 | BF15: =(AZ15-AP15)/AP15 -> -1 | BG15: =(BB15-AR15)/AR15 -> -1 | BH15: =(BD15-AT15)/AT15 -> -1
A16: North Hampton | B16: ='B5_NHA data 2008'!B16 -> 472000 | C16: ='B5_NHA data 2008'!C16 -> 25 | D16: ='B5_NHA data 2008'!D16 -> 472000 | E16: ='B5_NHA data 2008'!E16 -> 24 | F16: ='B5_NHA data 2008'!F16 -> #N/A | G16: ='B5_NHA data 2008'!G16 -> 1 | H16: =(B16-'B5_NHA data 2007'!B16)/'B5_NHA data 2007'!B16 -> -0.14181818 | I16: =(D16-'B5_NHA data 2007'!D16)/'B5_NHA data 2007'!D16 -> -0.14181818 | J16: =(F16-'B5_NHA data 2007'!F16)/'B5_NHA data 2007'!F16 -> #N/A | L16: ='B5_NHA data 2009'!B16 -> 305000 | M16: ='B5_NHA data 2009'!C16 -> 48 | N16: ='B5_NHA data 2009'!D16 -> 321500 | O16: ='B5_NHA data 2009'!E16 -> 47 | P16: ='B5_NHA data 2009'!F16 -> 0 | Q16: ='B5_NHA data 2009'!G16 -> 1 | R16: =(L16-B16)/B16 -> -0.35381356 | S16: =(N16-D16)/D16 -> -0.31885593 | T16: n/a | V16: ='B5_NHA data 2010'!B16 -> 506000 | W16: ='B5_NHA data 2010'!C16 -> 39 | X16: ='B5_NHA data 2010'!D16 -> 520000 | Y16: ='B5_NHA data 2010'!E16 -> 37 | Z16: ='B5_NHA data 2010'!F16 -> 369200 | AA16: ='B5_NHA data 2010'!G16 -> 2 | AB16: =(V16-L16)/L16 -> 0.65901639 | AC16: =(X16-N16)/N16 -> 0.61741835 | AD16: n/a | AF16: ='B5_NHA data 2011'!B16 -> 400000 | AG16: ='B5_NHA data 2011'!C16 -> 38 | AH16: ='B5_NHA data 2011'!D16 -> 385000 | AI16: ='B5_NHA data 2011'!E16 -> 34 | AJ16: ='B5_NHA data 2011'!F16 -> 438300 | AK16: ='B5_NHA data 2011'!G16 -> 4 | AL16: =(AF16-V16)/V16 -> -0.20948617 | AM16: =(AH16-X16)/X16 -> -0.25961538 | AN16: =(AJ16-Z16)/Z16 -> 0.18716143 | AP16: ='B5_NHA data 2012'!B16 -> 405000 | AQ16: ='B5_NHA data 2012'!C16 -> 44 | AR16: ='B5_NHA data 2012'!D16 -> 390000 | AS16: ='B5_NHA data 2012'!E16 -> 38 | AT16: ='B5_NHA data 2012'!F16 -> 449000 | AU16: ='B5_NHA data 2012'!G16 -> 6 | AV16: =(AP16-AF16)/AF16 -> 0.0125 | AW16: =(AR16-AH16)/AH16 -> 0.012987013 | AX16: =(AT16-AJ16)/AJ16 -> 0.024412503 | AZ16: ='B5_NHA data 2013'!B16 -> 0 | BA16: ='B5_NHA data 2013'!C16 -> 0 | BB16: ='B5_NHA data 2013'!D16 -> 0 | BC16: ='B5_NHA data 2013'!E16 -> 0 | BD16: ='B5_NHA data 2013'!F16 -> 0 | BE16: ='B5_NHA data 2013'!G16 -> 0 | BF16: =(AZ16-AP16)/AP16 -> -1 | BG16: =(BB16-AR16)/AR16 -> -1 | BH16: =(BD16-AT16)/AT16 -> -1
A17: Portsmouth | B17: ='B5_NHA data 2008'!B17 -> 299900 | C17: ='B5_NHA data 2008'!C17 -> 200 | D17: ='B5_NHA data 2008'!D17 -> 290000 | E17: ='B5_NHA data 2008'!E17 -> 180 | F17: ='B5_NHA data 2008'!F17 -> 304933 | G17: ='B5_NHA data 2008'!G17 -> 20 | H17: =(B17-'B5_NHA data 2007'!B17)/'B5_NHA data 2007'!B17 -> -0.056918239 | I17: =(D17-'B5_NHA data 2007'!D17)/'B5_NHA data 2007'!D17 -> -0.088050314 | J17: =(F17-'B5_NHA data 2007'!F17)/'B5_NHA data 2007'!F17 -> -0.12876286 | L17: ='B5_NHA data 2009'!B17 -> 279000 | M17: ='B5_NHA data 2009'!C17 -> 216 | N17: ='B5_NHA data 2009'!D17 -> 275500 | O17: ='B5_NHA data 2009'!E17 -> 197 | P17: ='B5_NHA data 2009'!F17 -> 285000 | Q17: ='B5_NHA data 2009'!G17 -> 19 | R17: =(L17-B17)/B17 -> -0.069689897 | S17: =(N17-D17)/D17 -> -0.05 | T17: =(P17-F17)/F17 -> -0.065368458 | V17: ='B5_NHA data 2010'!B17 -> 319533 | W17: ='B5_NHA data 2010'!C17 -> 201 | X17: ='B5_NHA data 2010'!D17 -> 319900 | Y17: ='B5_NHA data 2010'!E17 -> 180 | Z17: ='B5_NHA data 2010'!F17 -> 289900 | AA17: ='B5_NHA data 2010'!G17 -> 21 | AB17: =(V17-L17)/L17 -> 0.14527957 | AC17: =(X17-N17)/N17 -> 0.16116152 | AD17: =(Z17-P17)/P17 -> 0.017192982 | AF17: ='B5_NHA data 2011'!B17 -> 310000 | AG17: ='B5_NHA data 2011'!C17 -> 201 | AH17: ='B5_NHA data 2011'!D17 -> 310000 | AI17: ='B5_NHA data 2011'!E17 -> 187 | AJ17: ='B5_NHA data 2011'!F17 -> 389900 | AK17: ='B5_NHA data 2011'!G17 -> 14 | AL17: =(AF17-V17)/V17 -> -0.029834164 | AM17: =(AH17-X17)/X17 -> -0.030947171 | AN17: =(AJ17-Z17)/Z17 -> 0.34494653 | AP17: ='B5_NHA data 2012'!B17 -> 340000 | AQ17: ='B5_NHA data 2012'!C17 -> 255 | AR17: ='B5_NHA data 2012'!D17 -> 320550 | AS17: ='B5_NHA data 2012'!E17 -> 225 | AT17: ='B5_NHA data 2012'!F17 -> 395660 | AU17: ='B5_NHA data 2012'!G17 -> 30 | AV17: =(AP17-AF17)/AF17 -> 0.096774194 | AW17: =(AR17-AH17)/AH17 -> 0.034032258 | AX17: =(AT17-AJ17)/AJ17 -> 0.014773019 | AZ17: ='B5_NHA data 2013'!B17 -> 0 | BA17: ='B5_NHA data 2013'!C17 -> 0 | BB17: ='B5_NHA data 2013'!D17 -> 0 | BC17: ='B5_NHA data 2013'!E17 -> 0 | BD17: ='B5_NHA data 2013'!F17 -> 0 | BE17: ='B5_NHA data 2013'!G17 -> 0 | BF17: =(AZ17-AP17)/AP17 -> -1 | BG17: =(BB17-AR17)/AR17 -> -1 | BH17: =(BD17-AT17)/AT17 -> -1
A18: Rye | B18: ='B5_NHA data 2008'!B18 -> 575000 | C18: ='B5_NHA data 2008'!C18 -> 49 | D18: ='B5_NHA data 2008'!D18 -> 550000 | E18: ='B5_NHA data 2008'!E18 -> 47 | F18: ='B5_NHA data 2008'!F18 -> 625000 | G18: ='B5_NHA data 2008'!G18 -> 2 | H18: =(B18-'B5_NHA data 2007'!B18)/'B5_NHA data 2007'!B18 -> 0.050228311 | I18: =(D18-'B5_NHA data 2007'!D18)/'B5_NHA data 2007'!D18 -> 0.00456621 | J18: =(F18-'B5_NHA data 2007'!F18)/'B5_NHA data 2007'!F18 -> 0.21359223 | L18: ='B5_NHA data 2009'!B18 -> 464500 | M18: ='B5_NHA data 2009'!C18 -> 42 | N18: ='B5_NHA data 2009'!D18 -> 495000 | O18: ='B5_NHA data 2009'!E18 -> 39 | P18: ='B5_NHA data 2009'!F18 -> 430000 | Q18: ='B5_NHA data 2009'!G18 -> 3 | R18: =(L18-B18)/B18 -> -0.19217391 | S18: =(N18-D18)/D18 -> -0.1 | T18: =(P18-F18)/F18 -> -0.312 | V18: ='B5_NHA data 2010'!B18 -> 555000 | W18: ='B5_NHA data 2010'!C18 -> 53 | X18: ='B5_NHA data 2010'!D18 -> 555000 | Y18: ='B5_NHA data 2010'!E18 -> 53 | Z18: ='B5_NHA data 2010'!F18 -> n/a | AA18: ='B5_NHA data 2010'!G18 -> n/a | AB18: =(V18-L18)/L18 -> 0.19483315 | AC18: =(X18-N18)/N18 -> 0.12121212 | AD18: n/a | AF18: ='B5_NHA data 2011'!B18 -> 495000 | AG18: ='B5_NHA data 2011'!C18 -> 68 | AH18: ='B5_NHA data 2011'!D18 -> 495000 | AI18: ='B5_NHA data 2011'!E18 -> 67 | AJ18: ='B5_NHA data 2011'!F18 -> 900000 | AK18: ='B5_NHA data 2011'!G18 -> 1 | AL18: =(AF18-V18)/V18 -> -0.10810811 | AM18: =(AH18-X18)/X18 -> -0.10810811 | AN18: n/a | AP18: ='B5_NHA data 2012'!B18 -> 512500 | AQ18: ='B5_NHA data 2012'!C18 -> 64 | AR18: ='B5_NHA data 2012'!D18 -> 512500 | AS18: ='B5_NHA data 2012'!E18 -> 61 | AT18: ='B5_NHA data 2012'!F18 -> 650000 | AU18: ='B5_NHA data 2012'!G18 -> 3 | AV18: =(AP18-AF18)/AF18 -> 0.035353535 | AW18: =(AR18-AH18)/AH18 -> 0.035353535 | AX18: =(AT18-AJ18)/AJ18 -> -0.27777778 | AZ18: ='B5_NHA data 2013'!B18 -> 0 | BA18: ='B5_NHA data 2013'!C18 -> 0 | BB18: ='B5_NHA data 2013'!D18 -> 0 | BC18: ='B5_NHA data 2013'!E18 -> 0 | BD18: ='B5_NHA data 2013'!F18 -> 0 | BE18: ='B5_NHA data 2013'!G18 -> 0 | BF18: =(AZ18-AP18)/AP18 -> -1 | BG18: =(BB18-AR18)/AR18 -> -1 | BH18: =(BD18-AT18)/AT18 -> -1
A19: Seabrook | B19: ='B5_NHA data 2008'!B19 -> 264000 | C19: ='B5_NHA data 2008'!C19 -> 40 | D19: ='B5_NHA data 2008'!D19 -> 264000 | E19: ='B5_NHA data 2008'!E19 -> 39 | F19: ='B5_NHA data 2008'!F19 -> #N/A | G19: ='B5_NHA data 2008'!G19 -> 1 | H19: =(B19-'B5_NHA data 2007'!B19)/'B5_NHA data 2007'!B19 -> -0.11970657 | I19: =(D19-'B5_NHA data 2007'!D19)/'B5_NHA data 2007'!D19 -> -0.057142857 | J19: =(F19-'B5_NHA data 2007'!F19)/'B5_NHA data 2007'!F19 -> #N/A | L19: ='B5_NHA data 2009'!B19 -> 245000 | M19: ='B5_NHA data 2009'!C19 -> 35 | N19: ='B5_NHA data 2009'!D19 -> 242400 | O19: ='B5_NHA data 2009'!E19 -> 33 | P19: ='B5_NHA data 2009'!F19 -> 245000 | Q19: ='B5_NHA data 2009'!G19 -> 2 | R19: =(L19-B19)/B19 -> -0.071969697 | S19: =(N19-D19)/D19 -> -0.081818182 | T19: n/a | V19: ='B5_NHA data 2010'!B19 -> 339480 | W19: ='B5_NHA data 2010'!C19 -> 35 | X19: ='B5_NHA data 2010'!D19 -> 253000 | Y19: ='B5_NHA data 2010'!E19 -> 19 | Z19: ='B5_NHA data 2010'!F19 -> 364775 | AA19: ='B5_NHA data 2010'!G19 -> 16 | AB19: =(V19-L19)/L19 -> 0.38563265 | AC19: =(X19-N19)/N19 -> 0.043729373 | AD19: =(Z19-P19)/P19 -> 0.48887755 | AF19: ='B5_NHA data 2011'!B19 -> 250000 | AG19: ='B5_NHA data 2011'!C19 -> 42 | AH19: ='B5_NHA data 2011'!D19 -> 238000 | AI19: ='B5_NHA data 2011'!E19 -> 28 | AJ19: ='B5_NHA data 2011'!F19 -> 379900 | AK19: ='B5_NHA data 2011'!G19 -> 14 | AL19: =(AF19-V19)/V19 -> -0.26357959 | AM19: =(AH19-X19)/X19 -> -0.059288538 | AN19: =(AJ19-Z19)/Z19 -> 0.041463916 | AP19: ='B5_NHA data 2012'!B19 -> 265000 | AQ19: ='B5_NHA data 2012'!C19 -> 59 | AR19: ='B5_NHA data 2012'!D19 -> 238000 | AS19: ='B5_NHA data 2012'!E19 -> 48 | AT19: ='B5_NHA data 2012'!F19 -> 388385 | AU19: ='B5_NHA data 2012'!G19 -> 11 | AV19: =(AP19-AF19)/AF19 -> 0.06 | AW19: =(AR19-AH19)/AH19 -> 0 | AX19: =(AT19-AJ19)/AJ19 -> 0.022334825 | AZ19: ='B5_NHA data 2013'!B19 -> 0 | BA19: ='B5_NHA data 2013'!C19 -> 0 | BB19: ='B5_NHA data 2013'!D19 -> 0 | BC19: ='B5_NHA data 2013'!E19 -> 0 | BD19: ='B5_NHA data 2013'!F19 -> 0 | BE19: ='B5_NHA data 2013'!G19 -> 0 | BF19: =(AZ19-AP19)/AP19 -> -1 | BG19: =(BB19-AR19)/AR19 -> -1 | BH19: =(BD19-AT19)/AT19 -> -1
A20: South Hampton | B20: ='B5_NHA data 2008'!B20 -> 296000 | C20: ='B5_NHA data 2008'!C20 -> 7 | D20: ='B5_NHA data 2008'!D20 -> 269900 | E20: ='B5_NHA data 2008'!E20 -> 6 | F20: ='B5_NHA data 2008'!F20 -> #N/A | G20: ='B5_NHA data 2008'!G20 -> 1 | H20: =(B20-'B5_NHA data 2007'!B20)/'B5_NHA data 2007'!B20 -> -0.3034196 | I20: =(D20-'B5_NHA data 2007'!D20)/'B5_NHA data 2007'!D20 -> -0.36484105 | J20: =(F20-'B5_NHA data 2007'!F20)/'B5_NHA data 2007'!F20 -> #N/A | L20: ='B5_NHA data 2009'!B20 -> 320000 | M20: ='B5_NHA data 2009'!C20 -> 5 | N20: ='B5_NHA data 2009'!D20 -> 320000 | O20: ='B5_NHA data 2009'!E20 -> 5 | P20: ='B5_NHA data 2009'!F20 -> n/a | Q20: ='B5_NHA data 2009'!G20 -> n/a | R20: =(L20-B20)/B20 -> 0.081081081 | S20: =(N20-D20)/D20 -> 0.18562431 | T20: n/a | V20: ='B5_NHA data 2010'!B20 -> 269000 | W20: ='B5_NHA data 2010'!C20 -> 3 | X20: ='B5_NHA data 2010'!D20 -> 200000 | Y20: ='B5_NHA data 2010'!E20 -> 2 | Z20: ='B5_NHA data 2010'!F20 -> 0 | AA20: ='B5_NHA data 2010'!G20 -> 1 | AB20: =(V20-L20)/L20 -> -0.159375 | AC20: =(X20-N20)/N20 -> -0.375 | AD20: n/a | AF20: ='B5_NHA data 2011'!B20 -> 299900 | AG20: ='B5_NHA data 2011'!C20 -> 3 | AH20: ='B5_NHA data 2011'!D20 -> 299900 | AI20: ='B5_NHA data 2011'!E20 -> 3 | AJ20: ='B5_NHA data 2011'!F20 -> n/a | AK20: ='B5_NHA data 2011'!G20 -> n/a | AL20: =(AF20-V20)/V20 -> 0.11486989 | AM20: =(AH20-X20)/X20 -> 0.4995 | AN20: n/a | AP20: ='B5_NHA data 2012'!B20 -> 520000 | AQ20: ='B5_NHA data 2012'!C20 -> 3 | AR20: ='B5_NHA data 2012'!D20 -> 520000 | AS20: ='B5_NHA data 2012'!E20 -> 3 | AT20: ='B5_NHA data 2012'!F20 -> n/a | AU20: ='B5_NHA data 2012'!G20 -> n/a | AV20: =(AP20-AF20)/AF20 -> 0.7339113 | AW20: =(AR20-AH20)/AH20 -> 0.7339113 | AX20: n/a | AZ20: ='B5_NHA data 2013'!B20 -> 0 | BA20: ='B5_NHA data 2013'!C20 -> 0 | BB20: ='B5_NHA data 2013'!D20 -> 0 | BC20: ='B5_NHA data 2013'!E20 -> 0 | BD20: ='B5_NHA data 2013'!F20 -> 0 | BE20: ='B5_NHA data 2013'!G20 -> 0 | BF20: =(AZ20-AP20)/AP20 -> -1 | BG20: =(BB20-AR20)/AR20 -> -1 | BH20: =(BD20-AT20)/AT20 -> #VALUE!
A21: Stratham | B21: ='B5_NHA data 2008'!B21 -> 375000 | C21: ='B5_NHA data 2008'!C21 -> 77 | D21: ='B5_NHA data 2008'!D21 -> 348000 | E21: ='B5_NHA data 2008'!E21 -> 63 | F21: ='B5_NHA data 2008'!F21 -> 476000 | G21: ='B5_NHA data 2008'!G21 -> 14 | H21: =(B21-'B5_NHA data 2007'!B21)/'B5_NHA data 2007'!B21 -> -0.018067557 | I21: =(D21-'B5_NHA data 2007'!D21)/'B5_NHA data 2007'!D21 -> -0.0028653295 | J21: =(F21-'B5_NHA data 2007'!F21)/'B5_NHA data 2007'!F21 -> 0.092645303 | L21: ='B5_NHA data 2009'!B21 -> 320000 | M21: ='B5_NHA data 2009'!C21 -> 74 | N21: ='B5_NHA data 2009'!D21 -> 314900 | O21: ='B5_NHA data 2009'!E21 -> 70 | P21: ='B5_NHA data 2009'!F21 -> 480000 | Q21: ='B5_NHA data 2009'!G21 -> 4 | R21: =(L21-B21)/B21 -> -0.14666667 | S21: =(N21-D21)/D21 -> -0.095114943 | T21: =(P21-F21)/F21 -> 0.0084033613 | V21: ='B5_NHA data 2010'!B21 -> 300000 | W21: ='B5_NHA data 2010'!C21 -> 96 | X21: ='B5_NHA data 2010'!D21 -> 299900 | Y21: ='B5_NHA data 2010'!E21 -> 90 | Z21: ='B5_NHA data 2010'!F21 -> 342500 | AA21: ='B5_NHA data 2010'!G21 -> 6 | AB21: =(V21-L21)/L21 -> -0.0625 | AC21: =(X21-N21)/N21 -> -0.04763417 | AD21: =(Z21-P21)/P21 -> -0.28645833 | AF21: ='B5_NHA data 2011'!B21 -> 292000 | AG21: ='B5_NHA data 2011'!C21 -> 85 | AH21: ='B5_NHA data 2011'!D21 -> 257500 | AI21: ='B5_NHA data 2011'!E21 -> 78 | AJ21: ='B5_NHA data 2011'!F21 -> 385000 | AK21: ='B5_NHA data 2011'!G21 -> 7 | AL21: =(AF21-V21)/V21 -> -0.026666667 | AM21: =(AH21-X21)/X21 -> -0.14138046 | AN21: =(AJ21-Z21)/Z21 -> 0.12408759 | AP21: ='B5_NHA data 2012'!B21 -> 322000 | AQ21: ='B5_NHA data 2012'!C21 -> 118 | AR21: ='B5_NHA data 2012'!D21 -> 320000 | AS21: ='B5_NHA data 2012'!E21 -> 106 | AT21: ='B5_NHA data 2012'!F21 -> 343478 | AU21: ='B5_NHA data 2012'!G21 -> 12 | AV21: =(AP21-AF21)/AF21 -> 0.10273973 | AW21: =(AR21-AH21)/AH21 -> 0.24271845 | AX21: =(AT21-AJ21)/AJ21 -> -0.10784935 | AZ21: ='B5_NHA data 2013'!B21 -> 0 | BA21: ='B5_NHA data 2013'!C21 -> 0 | BB21: ='B5_NHA data 2013'!D21 -> 0 | BC21: ='B5_NHA data 2013'!E21 -> 0 | BD21: ='B5_NHA data 2013'!F21 -> 0 | BE21: ='B5_NHA data 2013'!G21 -> 0 | BF21: =(AZ21-AP21)/AP21 -> -1 | BG21: =(BB21-AR21)/AR21 -> -1 | BH21: =(BD21-AT21)/AT21 -> -1
A22: CEDS Eastern Towns | B22: ='B5_NHA data 2008'!B22 -> 351553.48 | C22: ='B5_NHA data 2008'!C22 -> 804 | D22: ='B5_NHA data 2008'!D22 -> 338009.61 | E22: ='B5_NHA data 2008'!E22 -> 708 | F22: ='B5_NHA data 2008'!F22 -> #N/A | G22: ='B5_NHA data 2008'!G22 -> #N/A | H22: =(B22-'B5_NHA data 2007'!B22)/'B5_NHA data 2007'!B22 -> -5.5495058e-05 | I22: =(D22-'B5_NHA data 2007'!D22)/'B5_NHA data 2007'!D22 -> -0.0050277153 | J22: =(F22-'B5_NHA data 2007'!F22)/'B5_NHA data 2007'!F22 -> #N/A | L22: ='B5_NHA data 2009'!B22 -> 290302.21 | M22: ='B5_NHA data 2009'!C22 -> 949 | N22: ='B5_NHA data 2009'!D22 -> 285984.62 | O22: ='B5_NHA data 2009'!E22 -> 857 | P22: ='B5_NHA data 2009'!F22 -> 356553.82 | Q22: ='B5_NHA data 2009'!G22 -> 92 | R22: =(L22-B22)/B22 -> -0.1742303 | S22: =(N22-D22)/D22 -> -0.15391573 | T22: =(P21-F21)/F21 -> 0.0084033613 | V22: ='B5_NHA data 2010'!B22 -> 328508.1 | W22: ='B5_NHA data 2010'!C22 -> 918 | X22: ='B5_NHA data 2010'!D22 -> 325928.88 | Y22: ='B5_NHA data 2010'!E22 -> 824 | Z22: ='B5_NHA data 2010'!F22 -> 310854.26 | AA22: ='B5_NHA data 2010'!G22 -> 94 | AB22: =(V22-L22)/L22 -> 0.13160728 | AC22: =(X22-N22)/N22 -> 0.13967278 | AD22: =(Z22-P22)/P22 -> -0.12817016 | AF22: ='B5_NHA data 2011'!B22 -> 318313.73 | AG22: ='B5_NHA data 2011'!C22 -> 903 | AH22: ='B5_NHA data 2011'!D22 -> 315020.52 | AI22: ='B5_NHA data 2011'!E22 -> 826 | AJ22: ='B5_NHA data 2011'!F22 -> 350760.52 | AK22: ='B5_NHA data 2011'!G22 -> 77 | AL22: =(AF22-V22)/V22 -> -0.031032316 | AM22: =(AH22-X22)/X22 -> -0.033468544 | AN22: =(AJ22-Z22)/Z22 -> 0.12837612 | AP22: ='B5_NHA data 2012'!B22 -> 328957.02 | AQ22: ='B5_NHA data 2012'!C22 -> 1189 | AR22: ='B5_NHA data 2012'!D22 -> 319317.99 | AS22: ='B5_NHA data 2012'!E22 -> 1048 | AT22: ='B5_NHA data 2012'!F22 -> 361088.49 | AU22: ='B5_NHA data 2012'!G22 -> 142 | AV22: =(AP22-AF22)/AF22 -> 0.033436487 | AW22: =(AR22-AH22)/AH22 -> 0.013641868 | AX22: =(AT22-AJ22)/AJ22 -> 0.029444515 | AZ22: ='B5_NHA data 2013'!B22 -> #DIV/0! | BA22: ='B5_NHA data 2013'!C22 -> 0 | BB22: ='B5_NHA data 2013'!D22 -> #DIV/0! | BC22: ='B5_NHA data 2013'!E22 -> 0 | BD22: ='B5_NHA data 2013'!F22 -> #DIV/0! | BE22: ='B5_NHA data 2013'!G22 -> 0 | BF22: =(AZ22-AP22)/AP22 -> #DIV/0! | BG22: =(BB22-AR22)/AR22 -> #DIV/0! | BH22: =(BD22-AT22)/AT22 -> #DIV/0!
A23: Atkinson | B23: ='B5_NHA data 2008'!B23 -> 315000 | C23: ='B5_NHA data 2008'!C23 -> 49 | D23: ='B5_NHA data 2008'!D23 -> 310000 | E23: ='B5_NHA data 2008'!E23 -> 46 | F23: ='B5_NHA data 2008'!F23 -> 440000 | G23: ='B5_NHA data 2008'!G23 -> 3 | H23: =(B23-'B5_NHA data 2007'!B23)/'B5_NHA data 2007'!B23 -> -0.030769231 | I23: =(D23-'B5_NHA data 2007'!D23)/'B5_NHA data 2007'!D23 -> -0.046153846 | J23: =(F23-'B5_NHA data 2007'!F23)/'B5_NHA data 2007'!F23 -> 0.33738602 | L23: ='B5_NHA data 2009'!B23 -> 265000 | M23: ='B5_NHA data 2009'!C23 -> 70 | N23: ='B5_NHA data 2009'!D23 -> 265000 | O23: ='B5_NHA data 2009'!E23 -> 68 | P23: ='B5_NHA data 2009'!F23 -> 165000 | Q23: ='B5_NHA data 2009'!G23 -> 2 | R23: =(L23-B23)/B23 -> -0.15873016 | S23: =(N23-D23)/D23 -> -0.14516129 | T23: n/a | V23: ='B5_NHA data 2010'!B23 -> 250000 | W23: ='B5_NHA data 2010'!C23 -> 74 | X23: ='B5_NHA data 2010'!D23 -> 249900 | Y23: ='B5_NHA data 2010'!E23 -> 70 | Z23: ='B5_NHA data 2010'!F23 -> 255000 | AA23: ='B5_NHA data 2010'!G23 -> 4 | AB23: =(V23-L23)/L23 -> -0.056603774 | AC23: =(X23-N23)/N23 -> -0.056981132 | AD23: =(Z23-P23)/P23 -> 0.54545455 | AF23: ='B5_NHA data 2011'!B23 -> 237000 | AG23: ='B5_NHA data 2011'!C23 -> 67 | AH23: ='B5_NHA data 2011'!D23 -> 237000 | AI23: ='B5_NHA data 2011'!E23 -> 62 | AJ23: ='B5_NHA data 2011'!F23 -> 219500 | AK23: ='B5_NHA data 2011'!G23 -> 5 | AL23: =(AF23-V23)/V23 -> -0.052 | AM23: =(AH23-X23)/X23 -> -0.051620648 | AN23: =(AJ23-Z23)/Z23 -> -0.13921569 | AP23: ='B5_NHA data 2012'!B23 -> 260000 | AQ23: ='B5_NHA data 2012'!C23 -> 58 | AR23: ='B5_NHA data 2012'!D23 -> 260000 | AS23: ='B5_NHA data 2012'!E23 -> 54 | AT23: ='B5_NHA data 2012'!F23 -> 229900 | AU23: ='B5_NHA data 2012'!G23 -> 4 | AV23: =(AP23-AF23)/AF23 -> 0.097046414 | AW23: =(AR23-AH23)/AH23 -> 0.097046414 | AX23: =(AT23-AJ23)/AJ23 -> 0.04738041 | AZ23: ='B5_NHA data 2013'!B23 -> 0 | BA23: ='B5_NHA data 2013'!C23 -> 0 | BB23: ='B5_NHA data 2013'!D23 -> 0 | BC23: ='B5_NHA data 2013'!E23 -> 0 | BD23: ='B5_NHA data 2013'!F23 -> 0 | BE23: ='B5_NHA data 2013'!G23 -> 0 | BF23: =(AZ23-AP23)/AP23 -> -1 | BG23: =(BB23-AR23)/AR23 -> -1 | BH23: =(BD23-AT23)/AT23 -> -1
A24: Auburn | B24: ='B5_NHA data 2008'!B24 -> 325000 | C24: ='B5_NHA data 2008'!C24 -> 23 | D24: ='B5_NHA data 2008'!D24 -> 325000 | E24: ='B5_NHA data 2008'!E24 -> 23 | F24: ='B5_NHA data 2008'!F24 -> #N/A | G24: ='B5_NHA data 2008'!G24 -> #N/A | H24: =(B24-'B5_NHA data 2007'!B24)/'B5_NHA data 2007'!B24 -> -0.057971014 | I24: =(D24-'B5_NHA data 2007'!D24)/'B5_NHA data 2007'!D24 -> -0.015151515 | J24: =(F24-'B5_NHA data 2007'!F24)/'B5_NHA data 2007'!F24 -> #N/A | L24: ='B5_NHA data 2009'!B24 -> 280000 | M24: ='B5_NHA data 2009'!C24 -> 57 | N24: ='B5_NHA data 2009'!D24 -> 260000 | O24: ='B5_NHA data 2009'!E24 -> 52 | P24: ='B5_NHA data 2009'!F24 -> 430392 | Q24: ='B5_NHA data 2009'!G24 -> 5 | R24: =(L24-B24)/B24 -> -0.13846154 | S24: =(N24-D24)/D24 -> -0.2 | T24: n/a | V24: ='B5_NHA data 2010'!B24 -> 288000 | W24: ='B5_NHA data 2010'!C24 -> 30 | X24: ='B5_NHA data 2010'!D24 -> 262000 | Y24: ='B5_NHA data 2010'!E24 -> 24 | Z24: ='B5_NHA data 2010'!F24 -> 395000 | AA24: ='B5_NHA data 2010'!G24 -> 6 | AB24: =(V24-L24)/L24 -> 0.028571429 | AC24: =(X24-N24)/N24 -> 0.0076923077 | AD24: =(Z24-P24)/P24 -> -0.082232012 | AF24: ='B5_NHA data 2011'!B24 -> 315000 | AG24: ='B5_NHA data 2011'!C24 -> 59 | AH24: ='B5_NHA data 2011'!D24 -> 260000 | AI24: ='B5_NHA data 2011'!E24 -> 41 | AJ24: ='B5_NHA data 2011'!F24 -> 409800 | AK24: ='B5_NHA data 2011'!G24 -> 16 | AL24: =(AF24-V24)/V24 -> 0.09375 | AM24: =(AH24-X24)/X24 -> -0.0076335878 | AN24: =(AJ24-Z24)/Z24 -> 0.037468354 | AP24: ='B5_NHA data 2012'!B24 -> 347750 | AQ24: ='B5_NHA data 2012'!C24 -> 59 | AR24: ='B5_NHA data 2012'!D24 -> 300000 | AS24: ='B5_NHA data 2012'!E24 -> 39 | AT24: ='B5_NHA data 2012'!F24 -> 393990 | AU24: ='B5_NHA data 2012'!G24 -> 20 | AV24: =(AP24-AF24)/AF24 -> 0.10396825 | AW24: =(AR24-AH24)/AH24 -> 0.15384615 | AX24: =(AT24-AJ24)/AJ24 -> -0.038579795 | AZ24: ='B5_NHA data 2013'!B24 -> 0 | BA24: ='B5_NHA data 2013'!C24 -> 0 | BB24: ='B5_NHA data 2013'!D24 -> 0 | BC24: ='B5_NHA data 2013'!E24 -> 0 | BD24: ='B5_NHA data 2013'!F24 -> 0 | BE24: ='B5_NHA data 2013'!G24 -> 0 | BF24: =(AZ24-AP24)/AP24 -> -1 | BG24: =(BB24-AR24)/AR24 -> -1 | BH24: =(BD24-AT24)/AT24 -> -1
A25: Brentwood | B25: ='B5_NHA data 2008'!B25 -> 354500 | C25: ='B5_NHA data 2008'!C25 -> 40 | D25: ='B5_NHA data 2008'!D25 -> 358500 | E25: ='B5_NHA data 2008'!E25 -> 32 | F25: ='B5_NHA data 2008'!F25 -> 269933 | G25: ='B5_NHA data 2008'!G25 -> 8 | H25: =(B25-'B5_NHA data 2007'!B25)/'B5_NHA data 2007'!B25 -> -0.10025381 | I25: =(D25-'B5_NHA data 2007'!D25)/'B5_NHA data 2007'!D25 -> -0.073643411 | J25: =(F25-'B5_NHA data 2007'!F25)/'B5_NHA data 2007'!F25 -> -0.46002601 | L25: ='B5_NHA data 2009'!B25 -> 262000 | M25: ='B5_NHA data 2009'!C25 -> 42 | N25: ='B5_NHA data 2009'!D25 -> 275000 | O25: ='B5_NHA data 2009'!E25 -> 32 | P25: ='B5_NHA data 2009'!F25 -> 227200 | Q25: ='B5_NHA data 2009'!G25 -> 10 | R25: =(L25-B25)/B25 -> -0.26093089 | S25: =(N25-D25)/D25 -> -0.23291492 | T25: =(P25-F25)/F25 -> -0.15830965 | V25: ='B5_NHA data 2010'!B25 -> 299730 | W25: ='B5_NHA data 2010'!C25 -> 39 | X25: ='B5_NHA data 2010'!D25 -> 299900 | Y25: ='B5_NHA data 2010'!E25 -> 29 | Z25: ='B5_NHA data 2010'!F25 -> 269900 | AA25: ='B5_NHA data 2010'!G25 -> 10 | AB25: =(V25-L25)/L25 -> 0.14400763 | AC25: =(X25-N25)/N25 -> 0.090545455 | AD25: =(Z25-P25)/P25 -> 0.18794014 | AF25: ='B5_NHA data 2011'!B25 -> 330000 | AG25: ='B5_NHA data 2011'!C25 -> 49 | AH25: ='B5_NHA data 2011'!D25 -> 330000 | AI25: ='B5_NHA data 2011'!E25 -> 37 | AJ25: ='B5_NHA data 2011'!F25 -> 284264 | AK25: ='B5_NHA data 2011'!G25 -> 12 | AL25: =(AF25-V25)/V25 -> 0.10099089 | AM25: =(AH25-X25)/X25 -> 0.10036679 | AN25: =(AJ25-Z25)/Z25 -> 0.053219711 | AP25: ='B5_NHA data 2012'!B25 -> 325000 | AQ25: ='B5_NHA data 2012'!C25 -> 68 | AR25: ='B5_NHA data 2012'!D25 -> 333000 | AS25: ='B5_NHA data 2012'!E25 -> 41 | AT25: ='B5_NHA data 2012'!F25 -> 299759 | AU25: ='B5_NHA data 2012'!G25 -> 27 | AV25: =(AP25-AF25)/AF25 -> -0.015151515 | AW25: =(AR25-AH25)/AH25 -> 0.0090909091 | AX25: =(AT25-AJ25)/AJ25 -> 0.054509189 | AZ25: ='B5_NHA data 2013'!B25 -> 0 | BA25: ='B5_NHA data 2013'!C25 -> 0 | BB25: ='B5_NHA data 2013'!D25 -> 0 | BC25: ='B5_NHA data 2013'!E25 -> 0 | BD25: ='B5_NHA data 2013'!F25 -> 0 | BE25: ='B5_NHA data 2013'!G25 -> 0 | BF25: =(AZ25-AP25)/AP25 -> -1 | BG25: =(BB25-AR25)/AR25 -> -1 | BH25: =(BD25-AT25)/AT25 -> -1
A26: Candia | B26: ='B5_NHA data 2008'!B26 -> 250000 | C26: ='B5_NHA data 2008'!C26 -> 16 | D26: ='B5_NHA data 2008'!D26 -> 253000 | E26: ='B5_NHA data 2008'!E26 -> 15 | F26: ='B5_NHA data 2008'!F26 -> #N/A | G26: ='B5_NHA data 2008'!G26 -> 1 | H26: =(B26-'B5_NHA data 2007'!B26)/'B5_NHA data 2007'!B26 -> -0.090909091 | I26: =(D26-'B5_NHA data 2007'!D26)/'B5_NHA data 2007'!D26 -> -0.079665333 | J26: =(F26-'B5_NHA data 2007'!F26)/'B5_NHA data 2007'!F26 -> #N/A | L26: ='B5_NHA data 2009'!B26 -> 237500 | M26: ='B5_NHA data 2009'!C26 -> 23 | N26: ='B5_NHA data 2009'!D26 -> 235000 | O26: ='B5_NHA data 2009'!E26 -> 22 | P26: ='B5_NHA data 2009'!F26 -> 0 | Q26: ='B5_NHA data 2009'!G26 -> 1 | R26: =(L26-B26)/B26 -> -0.05 | S26: =(N26-D26)/D26 -> -0.071146245 | T26: n/a | V26: ='B5_NHA data 2010'!B26 -> 246000 | W26: ='B5_NHA data 2010'!C26 -> 31 | X26: ='B5_NHA data 2010'!D26 -> 238500 | Y26: ='B5_NHA data 2010'!E26 -> 30 | Z26: ='B5_NHA data 2010'!F26 -> 0 | AA26: ='B5_NHA data 2010'!G26 -> 1 | AB26: =(V26-L26)/L26 -> 0.035789474 | AC26: =(X26-N26)/N26 -> 0.014893617 | AD26: n/a | AF26: ='B5_NHA data 2011'!B26 -> 265000 | AG26: ='B5_NHA data 2011'!C26 -> 34 | AH26: ='B5_NHA data 2011'!D26 -> 258900 | AI26: ='B5_NHA data 2011'!E26 -> 32 | AJ26: ='B5_NHA data 2011'!F26 -> 300000 | AK26: ='B5_NHA data 2011'!G26 -> 2 | AL26: =(AF26-V26)/V26 -> 0.077235772 | AM26: =(AH26-X26)/X26 -> 0.085534591 | AN26: 1 | AP26: ='B5_NHA data 2012'!B26 -> 212500 | AQ26: ='B5_NHA data 2012'!C26 -> 35 | AR26: ='B5_NHA data 2012'!D26 -> 212500 | AS26: ='B5_NHA data 2012'!E26 -> 34 | AT26: ='B5_NHA data 2012'!F26 -> 159900 | AU26: ='B5_NHA data 2012'!G26 -> 1 | AV26: =(AP26-AF26)/AF26 -> -0.19811321 | AW26: =(AR26-AH26)/AH26 -> -0.17921978 | AX26: =(AT26-AJ26)/AJ26 -> -0.467 | AZ26: ='B5_NHA data 2013'!B26 -> 0 | BA26: ='B5_NHA data 2013'!C26 -> 0 | BB26: ='B5_NHA data 2013'!D26 -> 0 | BC26: ='B5_NHA data 2013'!E26 -> 0 | BD26: ='B5_NHA data 2013'!F26 -> 0 | BE26: ='B5_NHA data 2013'!G26 -> 0 | BF26: =(AZ26-AP26)/AP26 -> -1 | BG26: =(BB26-AR26)/AR26 -> -1 | BH26: =(BD26-AT26)/AT26 -> -1
A27: Chester | B27: ='B5_NHA data 2008'!B27 -> 290000 | C27: ='B5_NHA data 2008'!C27 -> 38 | D27: ='B5_NHA data 2008'!D27 -> 301500 | E27: ='B5_NHA data 2008'!E27 -> 32 | F27: ='B5_NHA data 2008'!F27 -> 259900 | G27: ='B5_NHA data 2008'!G27 -> 6 | H27: =(B27-'B5_NHA data 2007'!B27)/'B5_NHA data 2007'!B27 -> -0.15204678 | I27: =(D27-'B5_NHA data 2007'!D27)/'B5_NHA data 2007'!D27 -> -0.089123867 | J27: =(F27-'B5_NHA data 2007'!F27)/'B5_NHA data 2007'!F27 -> -0.34202532 | L27: ='B5_NHA data 2009'!B27 -> 260000 | M27: ='B5_NHA data 2009'!C27 -> 46 | N27: ='B5_NHA data 2009'!D27 -> 260000 | O27: ='B5_NHA data 2009'!E27 -> 37 | P27: ='B5_NHA data 2009'!F27 -> 300000 | Q27: ='B5_NHA data 2009'!G27 -> 9 | R27: =(L27-B27)/B27 -> -0.10344828 | S27: =(N27-D27)/D27 -> -0.13764511 | T27: =(P27-F27)/F27 -> 0.15429011 | V27: ='B5_NHA data 2010'!B27 -> 279900 | W27: ='B5_NHA data 2010'!C27 -> 36 | X27: ='B5_NHA data 2010'!D27 -> 290000 | Y27: ='B5_NHA data 2010'!E27 -> 31 | Z27: ='B5_NHA data 2010'!F27 -> 255400 | AA27: ='B5_NHA data 2010'!G27 -> 5 | AB27: =(V27-L27)/L27 -> 0.076538462 | AC27: =(X27-N27)/N27 -> 0.11538462 | AD27: =(Z27-P27)/P27 -> -0.14866667 | AF27: ='B5_NHA data 2011'!B27 -> 269000 | AG27: ='B5_NHA data 2011'!C27 -> 48 | AH27: ='B5_NHA data 2011'!D27 -> 283000 | AI27: ='B5_NHA data 2011'!E27 -> 37 | AJ27: ='B5_NHA data 2011'!F27 -> 255000 | AK27: ='B5_NHA data 2011'!G27 -> 11 | AL27: =(AF27-V27)/V27 -> -0.038942479 | AM27: =(AH27-X27)/X27 -> -0.024137931 | AN27: =(AJ27-Z27)/Z27 -> -0.0015661707 | AP27: ='B5_NHA data 2012'!B27 -> 267000 | AQ27: ='B5_NHA data 2012'!C27 -> 63 | AR27: ='B5_NHA data 2012'!D27 -> 360000 | AS27: ='B5_NHA data 2012'!E27 -> 50 | AT27: ='B5_NHA data 2012'!F27 -> 349900 | AU27: ='B5_NHA data 2012'!G27 -> 13 | AV27: =(AP27-AF27)/AF27 -> -0.0074349442 | AW27: =(AR27-AH27)/AH27 -> 0.27208481 | AX27: =(AT27-AJ27)/AJ27 -> 0.37215686 | AZ27: ='B5_NHA data 2013'!B27 -> 0 | BA27: ='B5_NHA data 2013'!C27 -> 0 | BB27: ='B5_NHA data 2013'!D27 -> 0 | BC27: ='B5_NHA data 2013'!E27 -> 0 | BD27: ='B5_NHA data 2013'!F27 -> 0 | BE27: ='B5_NHA data 2013'!G27 -> 0 | BF27: =(AZ27-AP27)/AP27 -> -1 | BG27: =(BB27-AR27)/AR27 -> -1 | BH27: =(BD27-AT27)/AT27 -> -1
A28: Danville | B28: ='B5_NHA data 2008'!B28 -> 293500 | C28: ='B5_NHA data 2008'!C28 -> 32 | D28: ='B5_NHA data 2008'!D28 -> 281900 | E28: ='B5_NHA data 2008'!E28 -> 29 | F28: ='B5_NHA data 2008'!F28 -> 299900 | G28: ='B5_NHA data 2008'!G28 -> 3 | H28: =(B28-'B5_NHA data 2007'!B28)/'B5_NHA data 2007'!B28 -> 0.029824561 | I28: =(D28-'B5_NHA data 2007'!D28)/'B5_NHA data 2007'!D28 -> 0.0071454091 | J28: =(F28-'B5_NHA data 2007'!F28)/'B5_NHA data 2007'!F28 -> -0.090936647 | L28: ='B5_NHA data 2009'!B28 -> 220000 | M28: ='B5_NHA data 2009'!C28 -> 28 | N28: ='B5_NHA data 2009'!D28 -> 220000 | O28: ='B5_NHA data 2009'!E28 -> 24 | P28: ='B5_NHA data 2009'!F28 -> 294900 | Q28: ='B5_NHA data 2009'!G28 -> 4 | R28: =(L28-B28)/B28 -> -0.25042589 | S28: =(N28-D28)/D28 -> -0.21958141 | T28: =(P28-F28)/F28 -> -0.016672224 | V28: ='B5_NHA data 2010'!B28 -> 230000 | W28: ='B5_NHA data 2010'!C28 -> 38 | X28: ='B5_NHA data 2010'!D28 -> 209000 | Y28: ='B5_NHA data 2010'!E28 -> 31 | Z28: ='B5_NHA data 2010'!F28 -> 270900 | AA28: ='B5_NHA data 2010'!G28 -> 7 | AB28: =(V28-L28)/L28 -> 0.045454545 | AC28: =(X28-N28)/N28 -> -0.05 | AD28: =(Z28-P28)/P28 -> -0.08138352 | AF28: ='B5_NHA data 2011'!B28 -> 239900 | AG28: ='B5_NHA data 2011'!C28 -> 25 | AH28: ='B5_NHA data 2011'!D28 -> 210100 | AI28: ='B5_NHA data 2011'!E28 -> 16 | AJ28: ='B5_NHA data 2011'!F28 -> 299700 | AK28: ='B5_NHA data 2011'!G28 -> 9 | AL28: =(AF28-V28)/V28 -> 0.043043478 | AM28: =(AH28-X28)/X28 -> 0.0052631579 | AN28: =(AJ28-Z28)/Z28 -> 0.10631229 | AP28: ='B5_NHA data 2012'!B28 -> 190000 | AQ28: ='B5_NHA data 2012'!C28 -> 27 | AR28: ='B5_NHA data 2012'!D28 -> 190000 | AS28: ='B5_NHA data 2012'!E28 -> 23 | AT28: ='B5_NHA data 2012'!F28 -> 204500 | AU28: ='B5_NHA data 2012'!G28 -> 4 | AV28: =(AP28-AF28)/AF28 -> -0.20800333 | AW28: =(AR28-AH28)/AH28 -> -0.095668729 | AX28: =(AT28-AJ28)/AJ28 -> -0.31765098 | AZ28: ='B5_NHA data 2013'!B28 -> 0 | BA28: ='B5_NHA data 2013'!C28 -> 0 | BB28: ='B5_NHA data 2013'!D28 -> 0 | BC28: ='B5_NHA data 2013'!E28 -> 0 | BD28: ='B5_NHA data 2013'!F28 -> 0 | BE28: ='B5_NHA data 2013'!G28 -> 0 | BF28: =(AZ28-AP28)/AP28 -> -1 | BG28: =(BB28-AR28)/AR28 -> -1 | BH28: =(BD28-AT28)/AT28 -> -1
A29: Deerfield | B29: ='B5_NHA data 2008'!B29 -> 273000 | C29: ='B5_NHA data 2008'!C29 -> 31 | D29: ='B5_NHA data 2008'!D29 -> 273000 | E29: ='B5_NHA data 2008'!E29 -> 26 | F29: ='B5_NHA data 2008'!F29 -> 255400 | G29: ='B5_NHA data 2008'!G29 -> 5 | H29: =(B29-'B5_NHA data 2007'!B29)/'B5_NHA data 2007'!B29 -> -0.10929853 | I29: =(D29-'B5_NHA data 2007'!D29)/'B5_NHA data 2007'!D29 -> -0.10491803 | J29: =(F29-'B5_NHA data 2007'!F29)/'B5_NHA data 2007'!F29 -> -0.31893333 | L29: ='B5_NHA data 2009'!B29 -> 239900 | M29: ='B5_NHA data 2009'!C29 -> 46 | N29: ='B5_NHA data 2009'!D29 -> 219000 | O29: ='B5_NHA data 2009'!E29 -> 37 | P29: ='B5_NHA data 2009'!F29 -> 298000 | Q29: ='B5_NHA data 2009'!G29 -> 9 | R29: =(L29-B29)/B29 -> -0.12124542 | S29: =(N29-D29)/D29 -> -0.1978022 | T29: =(P29-F29)/F29 -> 0.16679718 | V29: ='B5_NHA data 2010'!B29 -> 235000 | W29: ='B5_NHA data 2010'!C29 -> 42 | X29: ='B5_NHA data 2010'!D29 -> 324900 | Y29: ='B5_NHA data 2010'!E29 -> 35 | Z29: ='B5_NHA data 2010'!F29 -> 275000 | AA29: ='B5_NHA data 2010'!G29 -> 7 | AB29: =(V29-L29)/L29 -> -0.020425177 | AC29: =(X29-N29)/N29 -> 0.48356164 | AD29: =(Z29-P29)/P29 -> -0.077181208 | AF29: ='B5_NHA data 2011'!B29 -> 224900 | AG29: ='B5_NHA data 2011'!C29 -> 57 | AH29: ='B5_NHA data 2011'!D29 -> 211500 | AI29: ='B5_NHA data 2011'!E29 -> 43 | AJ29: ='B5_NHA data 2011'!F29 -> 234000 | AK29: ='B5_NHA data 2011'!G29 -> 14 | AL29: =(AF29-V29)/V29 -> -0.042978723 | AM29: =(AH29-X29)/X29 -> -0.34903047 | AN29: =(AJ29-Z29)/Z29 -> -0.14909091 | AP29: ='B5_NHA data 2012'!B29 -> 222400 | AQ29: ='B5_NHA data 2012'!C29 -> 37 | AR29: ='B5_NHA data 2012'!D29 -> 220000 | AS29: ='B5_NHA data 2012'!E29 -> 36 | AT29: ='B5_NHA data 2012'!F29 -> 238000 | AU29: ='B5_NHA data 2012'!G29 -> 1 | AV29: =(AP29-AF29)/AF29 -> -0.011116052 | AW29: =(AR29-AH29)/AH29 -> 0.040189125 | AX29: =(AT29-AJ29)/AJ29 -> 0.017094017 | AZ29: ='B5_NHA data 2013'!B29 -> 0 | BA29: ='B5_NHA data 2013'!C29 -> 0 | BB29: ='B5_NHA data 2013'!D29 -> 0 | BC29: ='B5_NHA data 2013'!E29 -> 0 | BD29: ='B5_NHA data 2013'!F29 -> 0 | BE29: ='B5_NHA data 2013'!G29 -> 0 | BF29: =(AZ29-AP29)/AP29 -> -1 | BG29: =(BB29-AR29)/AR29 -> -1 | BH29: =(BD29-AT29)/AT29 -> -1
A30: Epping | B30: ='B5_NHA data 2008'!B30 -> 229900 | C30: ='B5_NHA data 2008'!C30 -> 57 | D30: ='B5_NHA data 2008'!D30 -> 207500 | E30: ='B5_NHA data 2008'!E30 -> 27 | F30: ='B5_NHA data 2008'!F30 -> 315000 | G30: ='B5_NHA data 2008'!G30 -> 30 | H30: =(B30-'B5_NHA data 2007'!B30)/'B5_NHA data 2007'!B30 -> -0.13571429 | I30: =(D30-'B5_NHA data 2007'!D30)/'B5_NHA data 2007'!D30 -> -0.18145957 | J30: =(F30-'B5_NHA data 2007'!F30)/'B5_NHA data 2007'!F30 -> 0.0031847134 | L30: ='B5_NHA data 2009'!B30 -> 207000 | M30: ='B5_NHA data 2009'!C30 -> 80 | N30: ='B5_NHA data 2009'!D30 -> 190000 | O30: ='B5_NHA data 2009'!E30 -> 58 | P30: ='B5_NHA data 2009'!F30 -> 219900 | Q30: ='B5_NHA data 2009'!G30 -> 22 | R30: =(L30-B30)/B30 -> -0.099608525 | S30: =(N30-D30)/D30 -> -0.084337349 | T30: =(P30-F30)/F30 -> -0.30190476 | V30: ='B5_NHA data 2010'!B30 -> 245200 | W30: ='B5_NHA data 2010'!C30 -> 60 | X30: ='B5_NHA data 2010'!D30 -> 195000 | Y30: ='B5_NHA data 2010'!E30 -> 32 | Z30: ='B5_NHA data 2010'!F30 -> 248900 | AA30: ='B5_NHA data 2010'!G30 -> 28 | AB30: =(V30-L30)/L30 -> 0.18454106 | AC30: =(X30-N30)/N30 -> 0.026315789 | AD30: =(Z30-P30)/P30 -> 0.13187813 | AF30: ='B5_NHA data 2011'!B30 -> 230000 | AG30: ='B5_NHA data 2011'!C30 -> 70 | AH30: ='B5_NHA data 2011'!D30 -> 189000 | AI30: ='B5_NHA data 2011'!E30 -> 47 | AJ30: ='B5_NHA data 2011'!F30 -> 256500 | AK30: ='B5_NHA data 2011'!G30 -> 23 | AL30: =(AF30-V30)/V30 -> -0.061990212 | AM30: =(AH30-X30)/X30 -> -0.030769231 | AN30: =(AJ30-Z30)/Z30 -> 0.030534351 | AP30: ='B5_NHA data 2012'!B30 -> 230000 | AQ30: ='B5_NHA data 2012'!C30 -> 83 | AR30: ='B5_NHA data 2012'!D30 -> 199900 | AS30: ='B5_NHA data 2012'!E30 -> 62 | AT30: ='B5_NHA data 2012'!F30 -> 245600 | AU30: ='B5_NHA data 2012'!G30 -> 21 | AV30: =(AP30-AF30)/AF30 -> 0 | AW30: =(AR30-AH30)/AH30 -> 0.057671958 | AX30: =(AT30-AJ30)/AJ30 -> -0.042495127 | AZ30: ='B5_NHA data 2013'!B30 -> 0 | BA30: ='B5_NHA data 2013'!C30 -> 0 | BB30: ='B5_NHA data 2013'!D30 -> 0 | BC30: ='B5_NHA data 2013'!E30 -> 0 | BD30: ='B5_NHA data 2013'!F30 -> 0 | BE30: ='B5_NHA data 2013'!G30 -> 0 | BF30: =(AZ30-AP30)/AP30 -> -1 | BG30: =(BB30-AR30)/AR30 -> -1 | BH30: =(BD30-AT30)/AT30 -> -1
A31: Fremont | B31: ='B5_NHA data 2008'!B31 -> 260000 | C31: ='B5_NHA data 2008'!C31 -> 24 | D31: ='B5_NHA data 2008'!D31 -> 265000 | E31: ='B5_NHA data 2008'!E31 -> 22 | F31: ='B5_NHA data 2008'!F31 -> 237900 | G31: ='B5_NHA data 2008'!G31 -> 2 | H31: =(B31-'B5_NHA data 2007'!B31)/'B5_NHA data 2007'!B31 -> -0.16398714 | I31: =(D31-'B5_NHA data 2007'!D31)/'B5_NHA data 2007'!D31 -> -0.14790997 | J31: =(F31-'B5_NHA data 2007'!F31)/'B5_NHA data 2007'!F31 -> -0.21485149 | L31: ='B5_NHA data 2009'!B31 -> 245000 | M31: ='B5_NHA data 2009'!C31 -> 45 | N31: ='B5_NHA data 2009'!D31 -> 230000 | O31: ='B5_NHA data 2009'!E31 -> 42 | P31: ='B5_NHA data 2009'!F31 -> 261000 | Q31: ='B5_NHA data 2009'!G31 -> 3 | R31: =(L31-B31)/B31 -> -0.057692308 | S31: =(N31-D31)/D31 -> -0.13207547 | T31: =(P31-F31)/F31 -> 0.097099622 | V31: ='B5_NHA data 2010'!B31 -> 230000 | W31: ='B5_NHA data 2010'!C31 -> 45 | X31: ='B5_NHA data 2010'!D31 -> 225000 | Y31: ='B5_NHA data 2010'!E31 -> 37 | Z31: ='B5_NHA data 2010'!F31 -> 259933 | AA31: ='B5_NHA data 2010'!G31 -> 8 | AB31: =(V31-L31)/L31 -> -0.06122449 | AC31: =(X31-N31)/N31 -> -0.02173913 | AD31: =(Z31-P31)/P31 -> -0.0040881226 | AF31: ='B5_NHA data 2011'!B31 -> 204000 | AG31: ='B5_NHA data 2011'!C31 -> 53 | AH31: ='B5_NHA data 2011'!D31 -> 187520 | AI31: ='B5_NHA data 2011'!E31 -> 41 | AJ31: ='B5_NHA data 2011'!F31 -> 204000 | AK31: ='B5_NHA data 2011'!G31 -> 12 | AL31: =(AF31-V31)/V31 -> -0.11304348 | AM31: =(AH31-X31)/X31 -> -0.16657778 | AN31: =(AJ31-Z31)/Z31 -> -0.21518237 | AP31: ='B5_NHA data 2012'!B31 -> 193000 | AQ31: ='B5_NHA data 2012'!C31 -> 48 | AR31: ='B5_NHA data 2012'!D31 -> 193000 | AS31: ='B5_NHA data 2012'!E31 -> 39 | AT31: ='B5_NHA data 2012'!F31 -> 195895 | AU31: ='B5_NHA data 2012'!G31 -> 9 | AV31: =(AP31-AF31)/AF31 -> -0.053921569 | AW31: =(AR31-AH31)/AH31 -> 0.029223549 | AX31: =(AT31-AJ31)/AJ31 -> -0.039730392 | AZ31: ='B5_NHA data 2013'!B31 -> 0 | BA31: ='B5_NHA data 2013'!C31 -> 0 | BB31: ='B5_NHA data 2013'!D31 -> 0 | BC31: ='B5_NHA data 2013'!E31 -> 0 | BD31: ='B5_NHA data 2013'!F31 -> 0 | BE31: ='B5_NHA data 2013'!G31 -> 0 | BF31: =(AZ31-AP31)/AP31 -> -1 | BG31: =(BB31-AR31)/AR31 -> -1 | BH31: =(BD31-AT31)/AT31 -> -1
A32: Hampstead | B32: ='B5_NHA data 2008'!B32 -> 249900 | C32: ='B5_NHA data 2008'!C32 -> 79 | D32: ='B5_NHA data 2008'!D32 -> 260000 | E32: ='B5_NHA data 2008'!E32 -> 52 | F32: ='B5_NHA data 2008'!F32 -> 231498 | G32: ='B5_NHA data 2008'!G32 -> 27 | H32: =(B32-'B5_NHA data 2007'!B32)/'B5_NHA data 2007'!B32 -> -0.069738008 | I32: =(D32-'B5_NHA data 2007'!D32)/'B5_NHA data 2007'!D32 -> -0.16371824 | J32: =(F32-'B5_NHA data 2007'!F32)/'B5_NHA data 2007'!F32 -> -0.093586531 | L32: ='B5_NHA data 2009'!B32 -> 260000 | M32: ='B5_NHA data 2009'!C32 -> 79 | N32: ='B5_NHA data 2009'!D32 -> 275000 | O32: ='B5_NHA data 2009'!E32 -> 58 | P32: ='B5_NHA data 2009'!F32 -> 255450 | Q32: ='B5_NHA data 2009'!G32 -> 21 | R32: =(L32-B32)/B32 -> 0.040416166 | S32: =(N32-D32)/D32 -> 0.057692308 | T32: =(P32-F32)/F32 -> 0.10346526 | V32: ='B5_NHA data 2010'!B32 -> 260000 | W32: ='B5_NHA data 2010'!C32 -> 67 | X32: ='B5_NHA data 2010'!D32 -> 257500 | Y32: ='B5_NHA data 2010'!E32 -> 57 | Z32: ='B5_NHA data 2010'!F32 -> 289559 | AA32: ='B5_NHA data 2010'!G32 -> 10 | AB32: =(V32-L32)/L32 -> 0 | AC32: =(X32-N32)/N32 -> -0.063636364 | AD32: =(Z32-P32)/P32 -> 0.13352515 | AF32: ='B5_NHA data 2011'!B32 -> 250000 | AG32: ='B5_NHA data 2011'!C32 -> 62 | AH32: ='B5_NHA data 2011'!D32 -> 250000 | AI32: ='B5_NHA data 2011'!E32 -> 59 | AJ32: ='B5_NHA data 2011'!F32 -> 287000 | AK32: ='B5_NHA data 2011'!G32 -> 3 | AL32: =(AF32-V32)/V32 -> -0.038461538 | AM32: =(AH32-X32)/X32 -> -0.029126214 | AN32: =(AJ32-Z32)/Z32 -> -0.0088375771 | AP32: ='B5_NHA data 2012'!B32 -> 249933 | AQ32: ='B5_NHA data 2012'!C32 -> 70 | AR32: ='B5_NHA data 2012'!D32 -> 249900 | AS32: ='B5_NHA data 2012'!E32 -> 63 | AT32: ='B5_NHA data 2012'!F32 -> 270000 | AU32: ='B5_NHA data 2012'!G32 -> 7 | AV32: =(AP32-AF32)/AF32 -> -0.000268 | AW32: =(AR32-AH32)/AH32 -> -0.0004 | AX32: =(AT32-AJ32)/AJ32 -> -0.059233449 | AZ32: ='B5_NHA data 2013'!B32 -> 0 | BA32: ='B5_NHA data 2013'!C32 -> 0 | BB32: ='B5_NHA data 2013'!D32 -> 0 | BC32: ='B5_NHA data 2013'!E32 -> 0 | BD32: ='B5_NHA data 2013'!F32 -> 0 | BE32: ='B5_NHA data 2013'!G32 -> 0 | BF32: =(AZ32-AP32)/AP32 -> -1 | BG32: =(BB32-AR32)/AR32 -> -1 | BH32: =(BD32-AT32)/AT32 -> -1
A33: Kingston | B33: ='B5_NHA data 2008'!B33 -> 250000 | C33: ='B5_NHA data 2008'!C33 -> 41 | D33: ='B5_NHA data 2008'!D33 -> 250000 | E33: ='B5_NHA data 2008'!E33 -> 39 | F33: ='B5_NHA data 2008'!F33 -> 230000 | G33: ='B5_NHA data 2008'!G33 -> 2 | H33: =(B33-'B5_NHA data 2007'!B33)/'B5_NHA data 2007'!B33 -> -0.18032787 | I33: =(D33-'B5_NHA data 2007'!D33)/'B5_NHA data 2007'!D33 -> -0.18566775 | J33: =(F33-'B5_NHA data 2007'!F33)/'B5_NHA data 2007'!F33 -> -0.18842625 | L33: ='B5_NHA data 2009'!B33 -> 240000 | M33: ='B5_NHA data 2009'!C33 -> 57 | N33: ='B5_NHA data 2009'!D33 -> 230000 | O33: ='B5_NHA data 2009'!E33 -> 50 | P33: ='B5_NHA data 2009'!F33 -> 379500 | Q33: ='B5_NHA data 2009'!G33 -> 7 | R33: =(L33-B33)/B33 -> -0.04 | S33: =(N33-D33)/D33 -> -0.08 | T33: =(P33-F33)/F33 -> 0.65 | V33: ='B5_NHA data 2010'!B33 -> 230000 | W33: ='B5_NHA data 2010'!C33 -> 43 | X33: ='B5_NHA data 2010'!D33 -> 220000 | Y33: ='B5_NHA data 2010'!E33 -> 39 | Z33: ='B5_NHA data 2010'!F33 -> 289900 | AA33: ='B5_NHA data 2010'!G33 -> 4 | AB33: =(V33-L33)/L33 -> -0.041666667 | AC33: =(X33-N33)/N33 -> -0.043478261 | AD33: =(Z33-P33)/P33 -> -0.23610013 | AF33: ='B5_NHA data 2011'!B33 -> 195000 | AG33: ='B5_NHA data 2011'!C33 -> 54 | AH33: ='B5_NHA data 2011'!D33 -> 183500 | AI33: ='B5_NHA data 2011'!E33 -> 48 | AJ33: ='B5_NHA data 2011'!F33 -> 230000 | AK33: ='B5_NHA data 2011'!G33 -> 6 | AL33: =(AF33-V33)/V33 -> -0.15217391 | AM33: =(AH33-X33)/X33 -> -0.16590909 | AN33: =(AJ33-Z33)/Z33 -> -0.20662297 | AP33: ='B5_NHA data 2012'!B33 -> 216200 | AQ33: ='B5_NHA data 2012'!C33 -> 67 | AR33: ='B5_NHA data 2012'!D33 -> 202000 | AS33: ='B5_NHA data 2012'!E33 -> 58 | AT33: ='B5_NHA data 2012'!F33 -> 259900 | AU33: ='B5_NHA data 2012'!G33 -> 9 | AV33: =(AP33-AF33)/AF33 -> 0.10871795 | AW33: =(AR33-AH33)/AH33 -> 0.10081744 | AX33: =(AT33-AJ33)/AJ33 -> 0.13 | AZ33: ='B5_NHA data 2013'!B33 -> 0 | BA33: ='B5_NHA data 2013'!C33 -> 0 | BB33: ='B5_NHA data 2013'!D33 -> 0 | BC33: ='B5_NHA data 2013'!E33 -> 0 | BD33: ='B5_NHA data 2013'!F33 -> 0 | BE33: ='B5_NHA data 2013'!G33 -> 0 | BF33: =(AZ33-AP33)/AP33 -> -1 | BG33: =(BB33-AR33)/AR33 -> -1 | BH33: =(BD33-AT33)/AT33 -> -1
A34: Newton | B34: ='B5_NHA data 2008'!B34 -> 269000 | C34: ='B5_NHA data 2008'!C34 -> 37 | D34: ='B5_NHA data 2008'!D34 -> 258333 | E34: ='B5_NHA data 2008'!E34 -> 29 | F34: ='B5_NHA data 2008'!F34 -> 330000 | G34: ='B5_NHA data 2008'!G34 -> 8 | H34: =(B34-'B5_NHA data 2007'!B34)/'B5_NHA data 2007'!B34 -> -0.10333333 | I34: =(D34-'B5_NHA data 2007'!D34)/'B5_NHA data 2007'!D34 -> -0.11225773 | J34: =(F34-'B5_NHA data 2007'!F34)/'B5_NHA data 2007'!F34 -> -0.19512195 | L34: ='B5_NHA data 2009'!B34 -> 259000 | M34: ='B5_NHA data 2009'!C34 -> 49 | N34: ='B5_NHA data 2009'!D34 -> 224000 | O34: ='B5_NHA data 2009'!E34 -> 39 | P34: ='B5_NHA data 2009'!F34 -> 292900 | Q34: ='B5_NHA data 2009'!G34 -> 10 | R34: =(L34-B34)/B34 -> -0.037174721 | S34: =(N34-D34)/D34 -> -0.13290211 | T34: =(P34-F34)/F34 -> -0.11242424 | V34: ='B5_NHA data 2010'!B34 -> 230000 | W34: ='B5_NHA data 2010'!C34 -> 33 | X34: ='B5_NHA data 2010'!D34 -> 220000 | Y34: ='B5_NHA data 2010'!E34 -> 29 | Z34: ='B5_NHA data 2010'!F34 -> 315000 | AA34: ='B5_NHA data 2010'!G34 -> 4 | AB34: =(V34-L34)/L34 -> -0.11196911 | AC34: =(X34-N34)/N34 -> -0.017857143 | AD34: =(Z34-P34)/P34 -> 0.075452373 | AF34: ='B5_NHA data 2011'!B34 -> 231500 | AG34: ='B5_NHA data 2011'!C34 -> 43 | AH34: ='B5_NHA data 2011'!D34 -> 210000 | AI34: ='B5_NHA data 2011'!E34 -> 31 | AJ34: ='B5_NHA data 2011'!F34 -> 248350 | AK34: ='B5_NHA data 2011'!G34 -> 12 | AL34: =(AF34-V34)/V34 -> 0.0065217391 | AM34: =(AH34-X34)/X34 -> -0.045454545 | AN34: =(AJ34-Z34)/Z34 -> -0.2115873 | AP34: ='B5_NHA data 2012'!B34 -> 247900 | AQ34: ='B5_NHA data 2012'!C34 -> 56 | AR34: ='B5_NHA data 2012'!D34 -> 245000 | AS34: ='B5_NHA data 2012'!E34 -> 42 | AT34: ='B5_NHA data 2012'!F34 -> 247933 | AU34: ='B5_NHA data 2012'!G34 -> 14 | AV34: =(AP34-AF34)/AF34 -> 0.070842333 | AW34: =(AR34-AH34)/AH34 -> 0.16666667 | AX34: =(AT34-AJ34)/AJ34 -> -0.0016790819 | AZ34: ='B5_NHA data 2013'!B34 -> 0 | BA34: ='B5_NHA data 2013'!C34 -> 0 | BB34: ='B5_NHA data 2013'!D34 -> 0 | BC34: ='B5_NHA data 2013'!E34 -> 0 | BD34: ='B5_NHA data 2013'!F34 -> 0 | BE34: ='B5_NHA data 2013'!G34 -> 0 | BF34: =(AZ34-AP34)/AP34 -> -1 | BG34: =(BB34-AR34)/AR34 -> -1 | BH34: =(BD34-AT34)/AT34 -> -1
A35: Northwood | B35: ='B5_NHA data 2008'!B35 -> 230000 | C35: ='B5_NHA data 2008'!C35 -> 24 | D35: ='B5_NHA data 2008'!D35 -> 199900 | E35: ='B5_NHA data 2008'!E35 -> 15 | F35: ='B5_NHA data 2008'!F35 -> 282000 | G35: ='B5_NHA data 2008'!G35 -> 9 | H35: =(B35-'B5_NHA data 2007'!B35)/'B5_NHA data 2007'!B35 -> -0.18439716 | I35: =(D35-'B5_NHA data 2007'!D35)/'B5_NHA data 2007'!D35 -> -0.2004 | J35: =(F35-'B5_NHA data 2007'!F35)/'B5_NHA data 2007'!F35 -> -0.044067797 | L35: ='B5_NHA data 2009'!B35 -> 217500 | M35: ='B5_NHA data 2009'!C35 -> 46 | N35: ='B5_NHA data 2009'!D35 -> 200000 | O35: ='B5_NHA data 2009'!E35 -> 30 | P35: ='B5_NHA data 2009'!F35 -> 233400 | Q35: ='B5_NHA data 2009'!G35 -> 16 | R35: =(L35-B35)/B35 -> -0.054347826 | S35: =(N35-D35)/D35 -> 0.00050025013 | T35: =(P35-F35)/F35 -> -0.17234043 | V35: ='B5_NHA data 2010'!B35 -> 210000 | W35: ='B5_NHA data 2010'!C35 -> 41 | X35: ='B5_NHA data 2010'!D35 -> 205000 | Y35: ='B5_NHA data 2010'!E35 -> 37 | Z35: ='B5_NHA data 2010'!F35 -> 216900 | AA35: ='B5_NHA data 2010'!G35 -> 4 | AB35: =(V35-L35)/L35 -> -0.034482759 | AC35: =(X35-N35)/N35 -> 0.025 | AD35: =(Z35-P35)/P35 -> -0.070694087 | AF35: ='B5_NHA data 2011'!B35 -> 190000 | AG35: ='B5_NHA data 2011'!C35 -> 38 | AH35: ='B5_NHA data 2011'!D35 -> 183000 | AI35: ='B5_NHA data 2011'!E35 -> 33 | AJ35: ='B5_NHA data 2011'!F35 -> 239000 | AK35: ='B5_NHA data 2011'!G35 -> 5 | AL35: =(AF35-V35)/V35 -> -0.095238095 | AM35: =(AH35-X35)/X35 -> -0.10731707 | AN35: =(AJ35-Z35)/Z35 -> 0.10189027 | AP35: ='B5_NHA data 2012'!B35 -> 155000 | AQ35: ='B5_NHA data 2012'!C35 -> 31 | AR35: ='B5_NHA data 2012'!D35 -> 149000 | AS35: ='B5_NHA data 2012'!E35 -> 27 | AT35: ='B5_NHA data 2012'!F35 -> 186550 | AU35: ='B5_NHA data 2012'!G35 -> 4 | AV35: =(AP35-AF35)/AF35 -> -0.18421053 | AW35: =(AR35-AH35)/AH35 -> -0.18579235 | AX35: =(AT35-AJ35)/AJ35 -> -0.21945607 | AZ35: ='B5_NHA data 2013'!B35 -> 0 | BA35: ='B5_NHA data 2013'!C35 -> 0 | BB35: ='B5_NHA data 2013'!D35 -> 0 | BC35: ='B5_NHA data 2013'!E35 -> 0 | BD35: ='B5_NHA data 2013'!F35 -> 0 | BE35: ='B5_NHA data 2013'!G35 -> 0 | BF35: =(AZ35-AP35)/AP35 -> -1 | BG35: =(BB35-AR35)/AR35 -> -1 | BH35: =(BD35-AT35)/AT35 -> -1
A36: Nottingham | B36: ='B5_NHA data 2008'!B36 -> 282500 | C36: ='B5_NHA data 2008'!C36 -> 38 | D36: ='B5_NHA data 2008'!D36 -> 255000 | E36: ='B5_NHA data 2008'!E36 -> 26 | F36: ='B5_NHA data 2008'!F36 -> 300600 | G36: ='B5_NHA data 2008'!G36 -> 12 | H36: =(B36-'B5_NHA data 2007'!B36)/'B5_NHA data 2007'!B36 -> -0.042372881 | I36: =(D36-'B5_NHA data 2007'!D36)/'B5_NHA data 2007'!D36 -> -0.12671233 | J36: =(F36-'B5_NHA data 2007'!F36)/'B5_NHA data 2007'!F36 -> -0.097297297 | L36: ='B5_NHA data 2009'!B36 -> 245000 | M36: ='B5_NHA data 2009'!C36 -> 48 | N36: ='B5_NHA data 2009'!D36 -> 245000 | O36: ='B5_NHA data 2009'!E36 -> 39 | P36: ='B5_NHA data 2009'!F36 -> 260000 | Q36: ='B5_NHA data 2009'!G36 -> 9 | R36: =(L36-B36)/B36 -> -0.13274336 | S36: =(N36-D36)/D36 -> -0.039215686 | T36: =(P36-F36)/F36 -> -0.13506321 | V36: ='B5_NHA data 2010'!B36 -> 240000 | W36: ='B5_NHA data 2010'!C36 -> 59 | X36: ='B5_NHA data 2010'!D36 -> 210000 | Y36: ='B5_NHA data 2010'!E36 -> 49 | Z36: ='B5_NHA data 2010'!F36 -> 263400 | AA36: ='B5_NHA data 2010'!G36 -> 10 | AB36: =(V36-L36)/L36 -> -0.020408163 | AC36: =(X36-N36)/N36 -> -0.14285714 | AD36: =(Z36-P36)/P36 -> 0.013076923 | AF36: ='B5_NHA data 2011'!B36 -> 235000 | AG36: ='B5_NHA data 2011'!C36 -> 48 | AH36: ='B5_NHA data 2011'!D36 -> 222000 | AI36: ='B5_NHA data 2011'!E36 -> 40 | AJ36: ='B5_NHA data 2011'!F36 -> 249900 | AK36: ='B5_NHA data 2011'!G36 -> 8 | AL36: =(AF36-V36)/V36 -> -0.020833333 | AM36: =(AH36-X36)/X36 -> 0.057142857 | AN36: =(AJ36-Z36)/Z36 -> -0.051252847 | AP36: ='B5_NHA data 2012'!B36 -> 238000 | AQ36: ='B5_NHA data 2012'!C36 -> 41 | AR36: ='B5_NHA data 2012'!D36 -> 229000 | AS36: ='B5_NHA data 2012'!E36 -> 36 | AT36: ='B5_NHA data 2012'!F36 -> 267700 | AU36: ='B5_NHA data 2012'!G36 -> 5 | AV36: =(AP36-AF36)/AF36 -> 0.012765957 | AW36: =(AR36-AH36)/AH36 -> 0.031531532 | AX36: =(AT36-AJ36)/AJ36 -> 0.071228491 | AZ36: ='B5_NHA data 2013'!B36 -> 0 | BA36: ='B5_NHA data 2013'!C36 -> 0 | BB36: ='B5_NHA data 2013'!D36 -> 0 | BC36: ='B5_NHA data 2013'!E36 -> 0 | BD36: ='B5_NHA data 2013'!F36 -> 0 | BE36: ='B5_NHA data 2013'!G36 -> 0 | BF36: =(AZ36-AP36)/AP36 -> -1 | BG36: =(BB36-AR36)/AR36 -> -1 | BH36: =(BD36-AT36)/AT36 -> -1
A37: Plaistow | B37: ='B5_NHA data 2008'!B37 -> 200000 | C37: ='B5_NHA data 2008'!C37 -> 39 | D37: ='B5_NHA data 2008'!D37 -> 200000 | E37: ='B5_NHA data 2008'!E37 -> 35 | F37: ='B5_NHA data 2008'!F37 -> 164950 | G37: ='B5_NHA data 2008'!G37 -> 4 | H37: =(B37-'B5_NHA data 2007'!B37)/'B5_NHA data 2007'!B37 -> -0.16666667 | I37: =(D37-'B5_NHA data 2007'!D37)/'B5_NHA data 2007'!D37 -> -0.069767442 | J37: =(F37-'B5_NHA data 2007'!F37)/'B5_NHA data 2007'!F37 -> -0.45740132 | L37: ='B5_NHA data 2009'!B37 -> 190000 | M37: ='B5_NHA data 2009'!C37 -> 60 | N37: ='B5_NHA data 2009'!D37 -> 190000 | O37: ='B5_NHA data 2009'!E37 -> 57 | P37: ='B5_NHA data 2009'!F37 -> 200000 | Q37: ='B5_NHA data 2009'!G37 -> 3 | R37: =(L37-B37)/B37 -> -0.05 | S37: =(N37-D37)/D37 -> -0.05 | T37: =(P37-F37)/F37 -> 0.21248863 | V37: ='B5_NHA data 2010'!B37 -> 188000 | W37: ='B5_NHA data 2010'!C37 -> 39 | X37: ='B5_NHA data 2010'!D37 -> 188000 | Y37: ='B5_NHA data 2010'!E37 -> 39 | Z37: ='B5_NHA data 2010'!F37 -> n/a | AA37: ='B5_NHA data 2010'!G37 -> n/a | AB37: =(V37-L37)/L37 -> -0.010526316 | AC37: =(X37-N37)/N37 -> -0.010526316 | AD37: n/a | AF37: ='B5_NHA data 2011'!B37 -> 207900 | AG37: ='B5_NHA data 2011'!C37 -> 52 | AH37: ='B5_NHA data 2011'!D37 -> 208000 | AI37: ='B5_NHA data 2011'!E37 -> 49 | AJ37: ='B5_NHA data 2011'!F37 -> 190000 | AK37: ='B5_NHA data 2011'!G37 -> 3 | AL37: =(AF37-V37)/V37 -> 0.10585106 | AM37: =(AH37-X37)/X37 -> 0.10638298 | AN37: 1 | AP37: ='B5_NHA data 2012'!B37 -> 205000 | AQ37: ='B5_NHA data 2012'!C37 -> 59 | AR37: ='B5_NHA data 2012'!D37 -> 205000 | AS37: ='B5_NHA data 2012'!E37 -> 58 | AT37: ='B5_NHA data 2012'!F37 -> 159900 | AU37: ='B5_NHA data 2012'!G37 -> 1 | AV37: =(AP37-AF37)/AF37 -> -0.013949014 | AW37: =(AR37-AH37)/AH37 -> -0.014423077 | AX37: =(AT37-AJ37)/AJ37 -> -0.15842105 | AZ37: ='B5_NHA data 2013'!B37 -> 0 | BA37: ='B5_NHA data 2013'!C37 -> 0 | BB37: ='B5_NHA data 2013'!D37 -> 0 | BC37: ='B5_NHA data 2013'!E37 -> 0 | BD37: ='B5_NHA data 2013'!F37 -> 0 | BE37: ='B5_NHA data 2013'!G37 -> 0 | BF37: =(AZ37-AP37)/AP37 -> -1 | BG37: =(BB37-AR37)/AR37 -> -1 | BH37: =(BD37-AT37)/AT37 -> -1
A38: Raymond | B38: ='B5_NHA data 2008'!B38 -> 234900 | C38: ='B5_NHA data 2008'!C38 -> 87 | D38: ='B5_NHA data 2008'!D38 -> 214900 | E38: ='B5_NHA data 2008'!E38 -> 61 | F38: ='B5_NHA data 2008'!F38 -> 290455 | G38: ='B5_NHA data 2008'!G38 -> 26 | H38: =(B38-'B5_NHA data 2007'!B38)/'B5_NHA data 2007'!B38 -> 0 | I38: =(D38-'B5_NHA data 2007'!D38)/'B5_NHA data 2007'!D38 -> -0.044888889 | J38: =(F38-'B5_NHA data 2007'!F38)/'B5_NHA data 2007'!F38 -> 0.21073364 | L38: ='B5_NHA data 2009'!B38 -> 198000 | M38: ='B5_NHA data 2009'!C38 -> 133 | N38: ='B5_NHA data 2009'!D38 -> 180000 | O38: ='B5_NHA data 2009'!E38 -> 102 | P38: ='B5_NHA data 2009'!F38 -> 242800 | Q38: ='B5_NHA data 2009'!G38 -> 31 | R38: =(L38-B38)/B38 -> -0.15708812 | S38: =(N38-D38)/D38 -> -0.16240112 | T38: =(P38-F38)/F38 -> -0.16407017 | V38: ='B5_NHA data 2010'!B38 -> 200000 | W38: ='B5_NHA data 2010'!C38 -> 118 | X38: ='B5_NHA data 2010'!D38 -> 192500 | Y38: ='B5_NHA data 2010'!E38 -> 99 | Z38: ='B5_NHA data 2010'!F38 -> 249000 | AA38: ='B5_NHA data 2010'!G38 -> 19 | AB38: =(V38-L38)/L38 -> 0.01010101 | AC38: =(X38-N38)/N38 -> 0.069444444 | AD38: =(Z38-P38)/P38 -> 0.02553542 | AF38: ='B5_NHA data 2011'!B38 -> 218000 | AG38: ='B5_NHA data 2011'!C38 -> 96 | AH38: ='B5_NHA data 2011'!D38 -> 200000 | AI38: ='B5_NHA data 2011'!E38 -> 79 | AJ38: ='B5_NHA data 2011'!F38 -> 224900 | AK38: ='B5_NHA data 2011'!G38 -> 17 | AL38: =(AF38-V38)/V38 -> 0.09 | AM38: =(AH38-X38)/X38 -> 0.038961039 | AN38: =(AJ38-Z38)/Z38 -> -0.096787149 | AP38: ='B5_NHA data 2012'!B38 -> 179000 | AQ38: ='B5_NHA data 2012'!C38 -> 104 | AR38: ='B5_NHA data 2012'!D38 -> 175500 | AS38: ='B5_NHA data 2012'!E38 -> 93 | AT38: ='B5_NHA data 2012'!F38 -> 214900 | AU38: ='B5_NHA data 2012'!G38 -> 11 | AV38: =(AP38-AF38)/AF38 -> -0.17889908 | AW38: =(AR38-AH38)/AH38 -> -0.1225 | AX38: =(AT38-AJ38)/AJ38 -> -0.044464206 | AZ38: ='B5_NHA data 2013'!B38 -> 0 | BA38: ='B5_NHA data 2013'!C38 -> 0 | BB38: ='B5_NHA data 2013'!D38 -> 0 | BC38: ='B5_NHA data 2013'!E38 -> 0 | BD38: ='B5_NHA data 2013'!F38 -> 0 | BE38: ='B5_NHA data 2013'!G38 -> 0 | BF38: =(AZ38-AP38)/AP38 -> -1 | BG38: =(BB38-AR38)/AR38 -> -1 | BH38: =(BD38-AT38)/AT38 -> -1
A39: Sandown | B39: ='B5_NHA data 2008'!B39 -> 275000 | C39: ='B5_NHA data 2008'!C39 -> 52 | D39: ='B5_NHA data 2008'!D39 -> 275000 | E39: ='B5_NHA data 2008'!E39 -> 36 | F39: ='B5_NHA data 2008'!F39 -> 303500 | G39: ='B5_NHA data 2008'!G39 -> 16 | H39: =(B39-'B5_NHA data 2007'!B39)/'B5_NHA data 2007'!B39 -> 0 | I39: =(D39-'B5_NHA data 2007'!D39)/'B5_NHA data 2007'!D39 -> 0.018518519 | J39: =(F39-'B5_NHA data 2007'!F39)/'B5_NHA data 2007'!F39 -> -0.11952933 | L39: ='B5_NHA data 2009'!B39 -> 243000 | M39: ='B5_NHA data 2009'!C39 -> 67 | N39: ='B5_NHA data 2009'!D39 -> 232000 | O39: ='B5_NHA data 2009'!E39 -> 51 | P39: ='B5_NHA data 2009'!F39 -> 255900 | Q39: ='B5_NHA data 2009'!G39 -> 16 | R39: =(L39-B39)/B39 -> -0.11636364 | S39: =(N39-D39)/D39 -> -0.15636364 | T39: =(P39-F39)/F39 -> -0.1568369 | V39: ='B5_NHA data 2010'!B39 -> 233500 | W39: ='B5_NHA data 2010'!C39 -> 80 | X39: ='B5_NHA data 2010'!D39 -> 218900 | Y39: ='B5_NHA data 2010'!E39 -> 52 | Z39: ='B5_NHA data 2010'!F39 -> 265000 | AA39: ='B5_NHA data 2010'!G39 -> 28 | AB39: =(V39-L39)/L39 -> -0.03909465 | AC39: =(X39-N39)/N39 -> -0.056465517 | AD39: =(Z39-P39)/P39 -> 0.035560766 | AF39: ='B5_NHA data 2011'!B39 -> 239000 | AG39: ='B5_NHA data 2011'!C39 -> 73 | AH39: ='B5_NHA data 2011'!D39 -> 199900 | AI39: ='B5_NHA data 2011'!E39 -> 48 | AJ39: ='B5_NHA data 2011'!F39 -> 273200 | AK39: ='B5_NHA data 2011'!G39 -> 25 | AL39: =(AF39-V39)/V39 -> 0.023554604 | AM39: =(AH39-X39)/X39 -> -0.086797624 | AN39: =(AJ39-Z39)/Z39 -> 0.030943396 | AP39: ='B5_NHA data 2012'!B39 -> 229900 | AQ39: ='B5_NHA data 2012'!C39 -> 74 | AR39: ='B5_NHA data 2012'!D39 -> 215000 | AS39: ='B5_NHA data 2012'!E39 -> 54 | AT39: ='B5_NHA data 2012'!F39 -> 279933 | AU39: ='B5_NHA data 2012'!G39 -> 20 | AV39: =(AP39-AF39)/AF39 -> -0.038075314 | AW39: =(AR39-AH39)/AH39 -> 0.075537769 | AX39: =(AT39-AJ39)/AJ39 -> 0.024644949 | AZ39: ='B5_NHA data 2013'!B39 -> 0 | BA39: ='B5_NHA data 2013'!C39 -> 0 | BB39: ='B5_NHA data 2013'!D39 -> 0 | BC39: ='B5_NHA data 2013'!E39 -> 0 | BD39: ='B5_NHA data 2013'!F39 -> 0 | BE39: ='B5_NHA data 2013'!G39 -> 0 | BF39: =(AZ39-AP39)/AP39 -> -1 | BG39: =(BB39-AR39)/AR39 -> -1 | BH39: =(BD39-AT39)/AT39 -> -1
