Workbook
Name _Jen1: 'B1 Housing Units'!#REF!
Name _Jen1: 'B1 Housing Units'!#REF!
Name _Jen1: 'B1 Housing Units'!#REF!
Name _Jen1: 'B1 Housing Units'!#REF!
Name _Jen1: 'B1 Housing Units'!#REF!
Name _Jen1: 'B1 Housing Units'!#REF!
Name _Jen1: 'B1 Housing Units'!#REF!
Name _Jen1: 'B1 Housing Units'!#REF!
Name _Jen1: 'B1 Housing Units'!#REF!
Name _Jen1: 'B1 Housing Units'!#REF!
Name _Jen1: 'B1 Housing Units'!#REF!
Name _Jen1: 'B1 Housing Units'!#REF!
Name _Jen1: 'B1 Housing Units'!#REF!
Name _Jen1: 'B1 Housing Units'!#REF!
Name _Jen1: 'B1 Housing Units'!#REF!
Name _Jen1: 'B1 Housing Units'!#REF!
Name _Jen1: 'B1 Housing Units'!#REF!
Name _Jen1: 'B1 Housing Units'!#REF!
Name _Jen1: 'B1 Housing Units'!#REF!
Name _Jen1: 'B1 Housing Units'!#REF!
Name _Jen2: 'B1 Housing Units'!#REF!
Name _Jen2: 'B1 Housing Units'!#REF!
Name _Jen2: 'B1 Housing Units'!#REF!
Name _Jen2: 'B1 Housing Units'!#REF!
Name _Jen2: 'B1 Housing Units'!#REF!
Name _Jen2: 'B1 Housing Units'!#REF!
Name _Jen2: 'B1 Housing Units'!#REF!
Name _Jen2: 'B1 Housing Units'!#REF!
Name _Jen2: 'B1 Housing Units'!#REF!
Name _Jen2: 'B1 Housing Units'!#REF!
Name _Jen2: 'B1 Housing Units'!#REF!
Name _Jen2: 'B1 Housing Units'!#REF!
Name _Jen2: 'B1 Housing Units'!#REF!
Name _Jen2: 'B1 Housing Units'!#REF!
Name _Jen2: 'B1 Housing Units'!#REF!
Name _Jen2: 'B1 Housing Units'!#REF!
Name _Jen2: 'B1 Housing Units'!#REF!
Name _Jen2: 'B1 Housing Units'!#REF!
Name _Jen2: 'B1 Housing Units'!#REF!
Name _Jen2: 'B1 Housing Units'!#REF!
Name _Key1: 'B1 Housing Units'!#REF!
Name _Key1: #REF!
Name _Key1: 'B1 Housing Units'!#REF!
Name _Key1: 'B1 Housing Units'!#REF!
Name _Key1: 'B1 Housing Units'!#REF!
Name _Key1: 'B1 Housing Units'!#REF!
Name _Key1: 'B1 Housing Units'!#REF!
Name _Key1: 'B1 Housing Units'!#REF!
Name _Key1: 'B1 Housing Units'!#REF!
Name _Key1: 'B1 Housing Units'!#REF!
Name _Key1: 'B1 Housing Units'!#REF!
Name _Key1: 'B1 Housing Units'!#REF!
Name _Key1: 'B1 Housing Units'!#REF!
Name _Key1: 'B1 Housing Units'!#REF!
Name _Key1: 'B1 Housing Units'!#REF!
Name _Key1: 'B1 Housing Units'!#REF!
Name _Key1: 'B1 Housing Units'!#REF!
Name _Key1: 'B1 Housing Units'!#REF!
Name _Key1: 'B1 Housing Units'!#REF!
Name _Key1: 'B1 Housing Units'!#REF!

Sheet DIRECTIONS
A1: When filling in data, be sure not to override any existing formulas.
A3: FOR 2017 CEDS Update:
A4: TAB - B5 Purchase Prices - Towns
A5: DO NOTHING ON THIS TAB!
A8: Wait for FULL YEAR 2016 data.
A10: TAB - B5_NHA data 2016
A11: Data entry in Columns B-G -please wait until full year data is available.

Sheet OEP RAW Data
A1: ENTER DATA in ROSE SHADED AREA BELOW | C1: OEP updates its housing data by giving the NET CHANGE in units. In order to get the Housing Estimates (Table B-1), you have to add the # of permit in this table to the previous year's housing stock in Table B-1. Enter raw data in rose shaded area, below.
A4: Total Housing for Towns within Rockinham County RAW DATA
D5: Residential Permits, net change of units
A6: town | B6: county | C6: 2000 Census | D6: 2000 | E6: 2001 | F6: 2002 | G6: 2003 | H6: 2004 | I6: 2005 | J6: 2006 | K6: 2007 | L6: 2008 | M6: 2009 | N6: 2010 Census | O6: 2010 | P6: 2011
A7: Atkinson | B7: RC | C7: 2431 | D7: 76 | E7: 88 | F7: 25 | G7: 24 | H7: 6 | I7: 18 | J7: 6 | K7: 8 | L7: 3 | M7: 3 | N7: 2788 | O7: 6755 | P7: 6741
A8: Auburn | B8: RC | C8: 1622 | D8: 42 | E8: 32 | F8: 29 | G8: 44 | H8: 44 | I8: 0 | J8: 11 | K8: 10 | L8: 6 | M8: 5 | N8: 1814 | O8: 4956 | P8: 4974
A9: Brentwood | B9: RC | C9: 920 | D9: 61 | E9: 88 | F9: 69 | G9: 44 | H9: 39 | I9: 17 | J9: 29 | K9: 13 | L9: 14 | M9: 18 | N9: 1350 | O9: 4489 | P9: 4497
A10: Candia | B10: RC | C10: 1384 | D10: 33 | E10: 33 | F10: 7 | G10: 12 | H10: 7 | I10: 13 | J10: 18 | K10: 5 | L10: 7 | M10: -1 | N10: 1494 | O10: 3911 | P10: 3913
A11: Chester | B11: RC | C11: 1247 | D11: 91 | E11: 79 | F11: 47 | G11: 29 | H11: 34 | I11: 10 | J11: 18 | K11: 8 | L11: 5 | M11: 5 | N11: 1596 | O11: 4771 | P11: 4762
A12: Danville | B12: RC | C12: 1479 | D12: 25 | E12: 31 | F12: 53 | G12: 33 | H12: 41 | I12: 4 | J12: 5 | K12: 16 | L12: 0 | M12: 9 | N12: 1684 | O12: 4389 | P12: 4424
A13: Deerfield | B13: RC | C13: 1406 | D13: 81 | E13: 58 | F13: 30 | G13: 18 | H13: 51 | I13: 43 | J13: 28 | K13: 19 | L13: 11 | M13: 9 | N13: 1743 | O13: 4282 | P13: 4308
A14: Derry | B14: RC | C14: 12735 | D14: 105 | E14: 45 | F14: 55 | G14: 66 | H14: 91 | I14: 77 | J14: 65 | K14: 33 | L14: 68 | M14: 7 | N14: 13277 | O14: 33129 | P14: 33008
A15: East Kingston | B15: RC | C15: 648 | D15: 12 | E15: 13 | F15: 36 | G15: 34 | H15: 52 | I15: 36 | J15: 22 | K15: 18 | L15: 7 | M15: 5 | N15: 907 | O15: 2358 | P15: 2363
A16: Epping | B16: RC | C16: 2215 | D16: 99 | E16: 16 | F16: 40 | G16: 26 | H16: 43 | I16: 60 | J16: 26 | K16: 40 | L16: 61 | M16: 45 | N16: 2723 | O16: 6415 | P16: 5601
A17: Exeter | B17: RC | C17: 6107 | D17: 40 | E17: 26 | F17: 102 | G17: 73 | H17: 72 | I17: 83 | J17: 60 | K17: 55 | L17: 126 | M17: 7 | N17: 6496 | O17: 14314 | P17: 14354
A18: Fremont | B18: RC | C18: 1201 | D18: 61 | E18: 26 | F18: 30 | G18: 54 | H18: 52 | I18: 55 | J18: 10 | K18: 18 | L18: 11 | M18: 8 | N18: 1573 | O18: 4285 | P18: 4316
... A48: Windham | B48: RC | C48: 3906 | D48: 259 | E48: 166 | F48: 103 | G48: 114 | H48: 117 | I48: 72 | J48: 84 | K48: 94 | L48: 50 | M48: 35 | N48: 5164 | O48: 13600 | P48: 13756
A49: Hillsborough County Totals: | C49: 149961 | D49: 1868 | E49: 1768 | F49: 2429 | G49: 2206 | H49: 2142 | I49: 1790 | J49: 1358 | K49: 1048 | L49: 685 | M49: 486 | N49: 166053 | O49: =SUM(O23,O26,O28:O29,O38) -> 157712 | P49: =SUM(P23,P26,P28:P29,P38) -> 157503
A50: Rockingham County Totals: | C50: =SUM(C7:C22,C24:C25,C27,C30:C37,C39:C48) -> 113023 | D50: 2064 | E50: 1576 | F50: 1579 | G50: 2071 | H50: 2019 | I50: 1583 | J50: 944 | K50: 733 | L50: 669 | M50: 432 | N50: 126709 | O50: 295123 | P50: 295608
A51: State of NH Totals: | C51: 546524 | D51: 7544 | E51: 7079 | F51: 8898 | G51: 9263 | H51: 9070 | I51: 7702 | J51: 5728 | K51: 4373 | L51: 3078 | M51: 2160 | N51: 614754 | O51: 1317208 | P51: 1318000
A53: Organize by Region
A55: =A15 -> East Kingston | C55: =C15 -> 648 | D55: =D15 -> 12 | E55: =E15 -> 13 | F55: =F15 -> 36 | G55: =G15 -> 34 | H55: =H15 -> 52 | I55: =I15 -> 36 | J55: =J15 -> 22 | ... P55: =P15 -> 2363
A56: =A17 -> Exeter | C56: =C17 -> 6107 | D56: =D17 -> 40 | E56: =E17 -> 26 | F56: =F17 -> 102 | G56: =G17 -> 73 | H56: =H17 -> 72 | I56: =I17 -> 83 | J56: =J17 -> 60 | ... P56: =P17 -> 14354
A57: =A19 -> Greenland | C57: =C19 -> 1244 | D57: =D19 -> 28 | E57: =E19 -> 18 | F57: =F19 -> 22 | G57: =G19 -> 15 | H57: =H19 -> 8 | I57: =I19 -> 15 | J57: =J19 -> 14 | ... P57: =P19 -> 3586
A58: =A21 -> Hampton | C58: =C21 -> 9349 | D58: =D21 -> 52 | E58: =E21 -> 43 | F58: =F21 -> 122 | G58: =G21 -> 106 | H58: =H21 -> 108 | I58: =I21 -> 54 | J58: =J21 -> 36 | ... P58: =P21 -> 14868
A59: =A22 -> Hampton Falls | C59: =C22 -> 729 | D59: =D22 -> 13 | E59: =E22 -> 11 | F59: =F22 -> 18 | G59: =G22 -> 11 | H59: =H22 -> 18 | I59: =I22 -> 16 | J59: =J22 -> 23 | ... P59: =P22 -> 2235
A60: =A24 -> Kensington | C60: =C24 -> 672 | D60: =D24 -> 12 | E60: =E24 -> 22 | F60: =F24 -> 10 | G60: =G24 -> 20 | H60: =H24 -> 10 | I60: =I24 -> 15 | J60: =J24 -> 8 | ... P60: =P24 -> 2121
A61: =A30 -> New Castle | C61: =C30 -> 488 | D61: =D30 -> 3 | E61: =E30 -> 2 | F61: =F30 -> 5 | G61: =G30 -> 12 | H61: =H30 -> 1 | I61: =I30 -> 1 | J61: =J30 -> 4 | ... P61: =P30 -> 967
A62: =A31 -> Newfields | C62: =C31 -> 532 | D62: =D31 -> 8 | E62: =E31 -> 8 | F62: =F31 -> 10 | G62: =G31 -> 8 | H62: =H31 -> 2 | I62: =I31 -> 8 | J62: =J31 -> 11 | ... P62: =P31 -> 1678
A63: =A32 -> Newington | C63: =C32 -> 305 | D63: =D32 -> 4 | E63: =E32 -> 3 | F63: =F32 -> 0 | G63: =G32 -> 1 | H63: =H32 -> 7 | I63: =I32 -> 1 | J63: =J32 -> 0 | ... P63: =P32 -> 753
A64: =A33 -> Newmarket | C64: =C33 -> 3457 | D64: =D33 -> 81 | E64: =E33 -> 117 | F64: =F33 -> 130 | G64: =G33 -> 179 | H64: =H33 -> 112 | I64: =I33 -> 86 | J64: =J33 -> 19 | ... P64: =P33 -> 8950
A65: =A35 -> North Hampton | C65: =C35 -> 1782 | D65: =D35 -> 57 | E65: =E35 -> 20 | F65: =F35 -> 17 | G65: =G35 -> 13 | H65: =H35 -> 15 | I65: =I35 -> 5 | J65: =J35 -> 8 | ... P65: =P35 -> 4324
A66: =A40 -> Portsmouth | C66: =C40 -> 10186 | D66: =D40 -> 38 | E66: =E40 -> 30 | F66: =F40 -> 41 | G66: =G40 -> 68 | H66: =H40 -> 55 | I66: =I40 -> 77 | J66: =J40 -> 21 | ... P66: =P40 -> 21206
A67: =A42 -> Rye | C67: =C42 -> 2645 | D67: =D42 -> 17 | E67: =E42 -> 8 | F67: =F42 -> 13 | G67: =G42 -> 6 | H67: =H42 -> 15 | I67: =I42 -> 11 | J67: =J42 -> 0 | ... P67: =P42 -> 5324
A68: =A45 -> Seabrook | C68: =C45 -> 4066 | D68: =D45 -> 93 | E68: =E45 -> 88 | F68: =F45 -> 48 | G68: =G45 -> 27 | H68: =H45 -> 36 | I68: =I45 -> 95 | J68: =J45 -> 0 | ... P68: =P45 -> 8697
A69: =A46 -> South Hampton | C69: =C46 -> 308 | D69: =D46 -> 5 | E69: =E46 -> 4 | F69: =F46 -> 4 | G69: =G46 -> 2 | H69: =H46 -> 6 | I69: =I46 -> 3 | J69: =J46 -> 2 | ... P69: =P46 -> 813
A70: =A47 -> Stratham | C70: =C47 -> 2371 | D70: =D47 -> 52 | E70: =E47 -> 39 | F70: =F47 -> 56 | G70: =G47 -> 79 | H70: =H47 -> 95 | I70: =I47 -> 50 | J70: =J47 -> 32 | ... P70: =P47 -> 7245
A71: CEDS Eastern Towns Totals: | C71: =SUM(C55:C70) -> 44889 | D71: =SUM(D55:D70) -> 515 | E71: =SUM(E55:E70) -> 452 | F71: =SUM(F55:F70) -> 634 | G71: =SUM(G55:G70) -> 654 | H71: =SUM(H55:H70) -> 612 | I71: =SUM(I55:I70) -> 556 | J71: =SUM(J55:J70) -> 260 | ... P71: =SUM(P55:P70) -> 99484
A72: =A7 -> Atkinson | C72: =C7 -> 2431 | D72: =D7 -> 76 | E72: =E7 -> 88 | F72: =F7 -> 25 | G72: =G7 -> 24 | H72: =H7 -> 6 | I72: =I7 -> 18 | J72: =J7 -> 6 | ... P72: =P7 -> 6741
A73: =A8 -> Auburn | C73: =C8 -> 1622 | D73: =D8 -> 42 | E73: =E8 -> 32 | F73: =F8 -> 29 | G73: =G8 -> 44 | H73: =H8 -> 44 | I73: =I8 -> 0 | J73: =J8 -> 11 | ... P73: =P8 -> 4974
...

Sheet B1 Housing Units
A1: Table B-1 Housing Units -- Census Counts and Housing Estimates | AF1: 2012 CEDS Update | AT1: USED IN 2009 CEDS UPDATE
B2: Hide these columns for final reporting. | G2: Housing Units | K2: Avg. Annual Growth Rate | N2: Avg P/unit, Census Housing | P2: Avg. Persons/Unit (NH OEP) | W2: NHOEP Housing Estimates | AK2: POPULATION FROM OEP ** COPY AND PASTE FROM TABLE A-population | AT2: Recent Unit Growth | AW2: 2-year annualized growth
B3: SORT FUNCTIONS | G3: (US Census counts--all units) | AK3: 1980 | AL3: 1990 | AM3: 2000 | AN3: 2006 | AO3: 2007 | AP3: 2008 | AQ3: 2009 | AR3: 2010 | AT3: 2000-2007 | AW3: 2005-2007
A4: TOWN/AREA | B4: muni | C4: county | D4: NECTA | E4: cedssub | F4: rpa | G4: 1980 | H4: 1990 | I4: 2000 | J4: 2010 | K4: '80-'90 | L4: '90-'00 | M4: '00-'10 | N4: 1980 | O4: 1990 | P4: 2000 | Q4: 2006 | R4: 2007 | S4: 2008 | T4: 2009 | U4: 2010 | V4: 2011 | W4: 2000 | X4: 2001 | Y4: 2002 | Z4: 2003 | AA4: 2004 | AB4: 2005 | AC4: 2006 | AD4: 2007 | AE4: 2008 | AF4: 2009 | AG4: 2010 | AH4: 2011 | AT4: Units | AU4: Avg. An. Gr.
A5: ='OEP RAW Data'!A55 -> East Kingston | B5: 1 | C5: RC | D5: 23 | E5: E | F5: RPC | G5: 362 | H5: 494 | I5: ='OEP RAW Data'!C55 -> 648 | J5: ='OEP RAW Data'!N55 -> 907 | K5: =(H5/G5)^(1/(1990-1980))-1 -> 0.031577445 | L5: =(I5/H5)^(1/(2000-1990))-1 -> 0.027507039 | M5: =(J5/I5)^(1/(2010-2000))-1 -> 0.034196892 | N5: =AK5/G5 -> 3.1353591 | O5: =AL5/H5 -> 2.7368421 | P5: =AM5/W5 -> 2.7030303 | Q5: =AN5/AC5 -> 2.5568581 | R5: =AO5/AD5 -> 2.5510907 | S5: =AP5/AE5 -> 2.5694761 | T5: =AQ5/AF5 -> 2.583239 | W5: ='OEP RAW Data'!C55+'OEP RAW Data'!D55 -> 660 | X5: =W5+'OEP RAW Data'!E55 -> 673 | Y5: =X5+'OEP RAW Data'!F55 -> 709 | Z5: =Y5+'OEP RAW Data'!G55 -> 743 | AA5: =Z5+'OEP RAW Data'!H55 -> 795 | AB5: =AA5+'OEP RAW Data'!I55 -> 831 | AC5: =AB5+'OEP RAW Data'!J55 -> 853 | AD5: =AC5+'OEP RAW Data'!K55 -> 871 | AE5: =AD5+'OEP RAW Data'!L55 -> 878 | AF5: =AE5+'OEP RAW Data'!M55 -> 883 | AK5: 1135 | AL5: 1352 | AM5: 1784 | AN5: 2181 | AO5: 2222 | AP5: 2256 | AQ5: 2281 | AT5: =AD5-W5 -> 211 | AU5: =(AD5/W5)^(1/7)-1 -> 0.040424577 | AW5: =(AD5/AB5)^(1/2)-1 -> 0.023784537
A6: ='OEP RAW Data'!A56 -> Exeter | B6: 1 | C6: RC | D6: 23 | E6: E | F6: RPC | G6: 4406 | H6: 5346 | I6: ='OEP RAW Data'!C56 -> 6107 | J6: ='OEP RAW Data'!N56 -> 6496 | K6: =(H6/G6)^(1/(1990-1980))-1 -> 0.01952633 | L6: =(I6/H6)^(1/(2000-1990))-1 -> 0.013397659 | M6: =(J6/I6)^(1/(2010-2000))-1 -> 0.0061942001 | N6: =AK6/G6 -> 2.5020427 | O6: =AL6/H6 -> 2.3346427 | P6: =AM6/W6 -> 2.2869693 | Q6: =AN6/AC6 -> 2.2146884 | R6: =AO6/AD6 -> 2.1959807 | S6: =AP6/AE6 -> 2.1496145 | T6: =AQ6/AF6 -> 2.1888609 | W6: ='OEP RAW Data'!C56+'OEP RAW Data'!D56 -> 6147 | X6: =W6+'OEP RAW Data'!E56 -> 6173 | Y6: =X6+'OEP RAW Data'!F56 -> 6275 | Z6: =Y6+'OEP RAW Data'!G56 -> 6348 | AA6: =Z6+'OEP RAW Data'!H56 -> 6420 | AB6: =AA6+'OEP RAW Data'!I56 -> 6503 | AC6: =AB6+'OEP RAW Data'!J56 -> 6563 | AD6: =AC6+'OEP RAW Data'!K56 -> 6618 | AE6: =AD6+'OEP RAW Data'!L56 -> 6744 | AF6: =AE6+'OEP RAW Data'!M56 -> 6751 | AK6: 11024 | AL6: 12481 | AM6: 14058 | AN6: 14535 | AO6: 14533 | AP6: 14497 | AQ6: 14777 | AT6: =AD6-W6 -> 471 | AU6: =(AD6/W6)^(1/7)-1 -> 0.010602823 | AW6: =(AD6/AB6)^(1/2)-1 -> 0.0088033236
A7: ='OEP RAW Data'!A57 -> Greenland | B7: 1 | C7: RC | D7: 24 | E7: E | F7: RPC | G7: 728 | H7: 1082 | I7: ='OEP RAW Data'!C57 -> 1244 | J7: ='OEP RAW Data'!N57 -> 1443 | K7: =(H7/G7)^(1/(1990-1980))-1 -> 0.040422147 | L7: =(I7/H7)^(1/(2000-1990))-1 -> 0.014049866 | M7: =(J7/I7)^(1/(2010-2000))-1 -> 0.014949877 | N7: =AK7/G7 -> 2.9244505 | O7: =AL7/H7 -> 2.5582255 | P7: =AM7/W7 -> 2.5220126 | Q7: =AN7/AC7 -> 2.4802053 | R7: =AO7/AD7 -> 2.4496741 | S7: =AP7/AE7 -> 2.4414932 | T7: =AQ7/AF7 -> 2.4417614 | W7: ='OEP RAW Data'!C57+'OEP RAW Data'!D57 -> 1272 | X7: =W7+'OEP RAW Data'!E57 -> 1290 | Y7: =X7+'OEP RAW Data'!F57 -> 1312 | Z7: =Y7+'OEP RAW Data'!G57 -> 1327 | AA7: =Z7+'OEP RAW Data'!H57 -> 1335 | AB7: =AA7+'OEP RAW Data'!I57 -> 1350 | AC7: =AB7+'OEP RAW Data'!J57 -> 1364 | AD7: =AC7+'OEP RAW Data'!K57 -> 1381 | AE7: =AD7+'OEP RAW Data'!L57 -> 1393 | AF7: =AE7+'OEP RAW Data'!M57 -> 1408 | AK7: 2129 | AL7: 2768 | AM7: 3208 | AN7: 3383 | AO7: 3383 | AP7: 3401 | AQ7: 3438 | AT7: =AD7-W7 -> 109 | AU7: =(AD7/W7)^(1/7)-1 -> 0.011814592 | AW7: =(AD7/AB7)^(1/2)-1 -> 0.011416315
A8: ='OEP RAW Data'!A58 -> Hampton | B8: 1 | C8: RC | D8: 24 | E8: E | F8: RPC | G8: 4437 | H8: 8599 | I8: ='OEP RAW Data'!C58 -> 9349 | J8: ='OEP RAW Data'!N58 -> 9921 | K8: =(H8/G8)^(1/(1990-1980))-1 -> 0.068404853 | L8: =(I8/H8)^(1/(2000-1990))-1 -> 0.0083974089 | M8: =(J8/I8)^(1/(2010-2000))-1 -> 0.0059561011 | N8: =AK8/G8 -> 2.3648862 | O8: =AL8/H8 -> 1.4278404 | P8: =AM8/W8 -> 1.5888735 | Q8: =AN8/AC8 -> 1.547923 | R8: =AO8/AD8 -> 1.538033 | S8: =AP8/AE8 -> 1.6202122 | T8: =AQ8/AF8 -> 1.5207345 | W8: ='OEP RAW Data'!C58+'OEP RAW Data'!D58 -> 9401 | X8: =W8+'OEP RAW Data'!E58 -> 9444 | Y8: =X8+'OEP RAW Data'!F58 -> 9566 | Z8: =Y8+'OEP RAW Data'!G58 -> 9672 | AA8: =Z8+'OEP RAW Data'!H58 -> 9780 | AB8: =AA8+'OEP RAW Data'!I58 -> 9834 | AC8: =AB8+'OEP RAW Data'!J58 -> 9870 | AD8: =AC8+'OEP RAW Data'!K58 -> 9873 | AE8: =AD8+'OEP RAW Data'!L58 -> 9895 | AF8: =AE8+'OEP RAW Data'!M58 -> 9911 | AK8: 10493 | AL8: 12278 | AM8: 14937 | AN8: 15278 | AO8: 15185 | AP8: 16032 | AQ8: 15072 | AT8: =AD8-W8 -> 472 | AU8: =(AD8/W8)^(1/7)-1 -> 0.0070227866 | AW8: =(AD8/AB8)^(1/2)-1 -> 0.0019809543
A9: ='OEP RAW Data'!A59 -> Hampton Falls | B9: 1 | C9: RC | D9: 23 | E9: E | F9: RPC | G9: 483 | H9: 591 | I9: ='OEP RAW Data'!C59 -> 729 | J9: ='OEP RAW Data'!N59 -> 900 | K9: =(H9/G9)^(1/(1990-1980))-1 -> 0.020384928 | L9: =(I9/H9)^(1/(2000-1990))-1 -> 0.021207521 | M9: =(J9/I9)^(1/(2010-2000))-1 -> 0.021295688 | N9: =AK9/G9 -> 2.8405797 | O9: =AL9/H9 -> 2.5431472 | P9: =AM9/W9 -> 2.5336927 | Q9: =AN9/AC9 -> 2.4457688 | R9: =AO9/AD9 -> 2.4557261 | S9: =AP9/AE9 -> 2.4471831 | T9: =AQ9/AF9 -> 2.4584795 | W9: ='OEP RAW Data'!C59+'OEP RAW Data'!D59 -> 742 | X9: =W9+'OEP RAW Data'!E59 -> 753 | Y9: =X9+'OEP RAW Data'!F59 -> 771 | Z9: =Y9+'OEP RAW Data'!G59 -> 782 | AA9: =Z9+'OEP RAW Data'!H59 -> 800 | AB9: =AA9+'OEP RAW Data'!I59 -> 816 | AC9: =AB9+'OEP RAW Data'!J59 -> 839 | AD9: =AC9+'OEP RAW Data'!K59 -> 847 | AE9: =AD9+'OEP RAW Data'!L59 -> 852 | AF9: =AE9+'OEP RAW Data'!M59 -> 855 | AK9: 1372 | AL9: 1503 | AM9: 1880 | AN9: 2052 | AO9: 2080 | AP9: 2085 | AQ9: 2102 | AT9: =AD9-W9 -> 105 | AU9: =(AD9/W9)^(1/7)-1 -> 0.019087226 | AW9: =(AD9/AB9)^(1/2)-1 -> 0.018818039
A10: ='OEP RAW Data'!A60 -> Kensington | B10: 1 | C10: RC | D10: 23 | E10: E | F10: RPC | G10: 450 | H10: 585 | I10: ='OEP RAW Data'!C60 -> 672 | J10: ='OEP RAW Data'!N60 -> 806 | K10: =(H10/G10)^(1/(1990-1980))-1 -> 0.026583631 | L10: =(I10/H10)^(1/(2000-1990))-1 -> 0.013961209 | M10: =(J10/I10)^(1/(2010-2000))-1 -> 0.018348849 | N10: =AK10/G10 -> 2.9377778 | O10: =AL10/H10 -> 2.7880342 | P10: =AM10/W10 -> 2.7675439 | Q10: =AN10/AC10 -> 2.716515 | R10: =AO10/AD10 -> 2.6911197 | S10: =AP10/AE10 -> 2.6897436 | T10: =AQ10/AF10 -> 2.7051282 | W10: ='OEP RAW Data'!C60+'OEP RAW Data'!D60 -> 684 | X10: =W10+'OEP RAW Data'!E60 -> 706 | Y10: =X10+'OEP RAW Data'!F60 -> 716 | Z10: =Y10+'OEP RAW Data'!G60 -> 736 | AA10: =Z10+'OEP RAW Data'!H60 -> 746 | AB10: =AA10+'OEP RAW Data'!I60 -> 761 | AC10: =AB10+'OEP RAW Data'!J60 -> 769 | AD10: =AC10+'OEP RAW Data'!K60 -> 777 | AE10: =AD10+'OEP RAW Data'!L60 -> 780 | AF10: =AE10+'OEP RAW Data'!M60 -> 780 | AK10: 1322 | AL10: 1631 | AM10: 1893 | AN10: 2089 | AO10: 2091 | AP10: 2098 | AQ10: 2110 | AT10: =AD10-W10 -> 93 | AU10: =(AD10/W10)^(1/7)-1 -> 0.018378622 | AW10: =(AD10/AB10)^(1/2)-1 -> 0.010457801
A11: ='OEP RAW Data'!A61 -> New Castle | B11: 1 | C11: RC | D11: 24 | E11: E | F11: RPC | G11: 357 | H11: 399 | I11: ='OEP RAW Data'!C61 -> 488 | J11: ='OEP RAW Data'!N61 -> 537 | K11: =(H11/G11)^(1/(1990-1980))-1 -> 0.011184649 | L11: =(I11/H11)^(1/(2000-1990))-1 -> 0.020339484 | M11: =(J11/I11)^(1/(2010-2000))-1 -> 0.0096141911 | N11: =AK11/G11 -> 2.6218487 | O11: =AL11/H11 -> 2.1052632 | P11: =AM11/W11 -> 2.0570265 | Q11: =AN11/AC11 -> 1.9844961 | R11: =AO11/AD11 -> 1.972973 | S11: =AP11/AE11 -> 1.9614644 | T11: =AQ11/AF11 -> 1.9635317 | W11: ='OEP RAW Data'!C61+'OEP RAW Data'!D61 -> 491 | X11: =W11+'OEP RAW Data'!E61 -> 493 | Y11: =X11+'OEP RAW Data'!F61 -> 498 | Z11: =Y11+'OEP RAW Data'!G61 -> 510 | AA11: =Z11+'OEP RAW Data'!H61 -> 511 | AB11: =AA11+'OEP RAW Data'!I61 -> 512 | AC11: =AB11+'OEP RAW Data'!J61 -> 516 | AD11: =AC11+'OEP RAW Data'!K61 -> 518 | AE11: =AD11+'OEP RAW Data'!L61 -> 519 | AF11: =AE11+'OEP RAW Data'!M61 -> 521 | AK11: 936 | AL11: 840 | AM11: 1010 | AN11: 1024 | AO11: 1022 | AP11: 1018 | AQ11: 1023 | AT11: =AD11-W11 -> 27 | AU11: =(AD11/W11)^(1/7)-1 -> 0.0076766174 | AW11: =(AD11/AB11)^(1/2)-1 -> 0.0058423087
A12: ='OEP RAW Data'!A62 -> Newfields | B12: 1 | C12: RC | D12: 23 | E12: E | F12: RPC | G12: 301 | H12: 324 | I12: ='OEP RAW Data'!C62 -> 532 | J12: ='OEP RAW Data'!N62 -> 591 | K12: =(H12/G12)^(1/(1990-1980))-1 -> 0.007390501 | L12: =(I12/H12)^(1/(2000-1990))-1 -> 0.050840161 | M12: =(J12/I12)^(1/(2010-2000))-1 -> 0.010572754 | N12: =AK12/G12 -> 2.7142857 | O12: =AL12/H12 -> 2.7407407 | P12: =AM12/W12 -> 2.8722222 | Q12: =AN12/AC12 -> 2.7836457 | R12: =AO12/AD12 -> 2.7777778 | S12: =AP12/AE12 -> 2.7755444 | T12: =AQ12/AF12 -> 2.7833333 | W12: ='OEP RAW Data'!C62+'OEP RAW Data'!D62 -> 540 | X12: =W12+'OEP RAW Data'!E62 -> 548 | Y12: =X12+'OEP RAW Data'!F62 -> 558 | Z12: =Y12+'OEP RAW Data'!G62 -> 566 | AA12: =Z12+'OEP RAW Data'!H62 -> 568 | AB12: =AA12+'OEP RAW Data'!I62 -> 576 | AC12: =AB12+'OEP RAW Data'!J62 -> 587 | AD12: =AC12+'OEP RAW Data'!K62 -> 594 | AE12: =AD12+'OEP RAW Data'!L62 -> 597 | AF12: =AE12+'OEP RAW Data'!M62 -> 600 | AK12: 817 | AL12: 888 | AM12: 1551 | AN12: 1634 | AO12: 1650 | AP12: 1657 | AQ12: 1670 | AT12: =AD12-W12 -> 54 | AU12: =(AD12/W12)^(1/7)-1 -> 0.013708856 | AW12: =(AD12/AB12)^(1/2)-1 -> 0.015504801
A13: ='OEP RAW Data'!A63 -> Newington | B13: 1 | C13: RC | D13: 16 | E13: E | F13: RPC | G13: 257 | H13: 320 | I13: ='OEP RAW Data'!C63 -> 305 | J13: ='OEP RAW Data'!N63 -> 322 | K13: =(H13/G13)^(1/(1990-1980))-1 -> 0.022166599 | L13: =(I13/H13)^(1/(2000-1990))-1 -> -0.0047894159 | M13: =(J13/I13)^(1/(2010-2000))-1 -> 0.0054387133 | N13: =AK13/G13 -> 2.7859922 | O13: =AL13/H13 -> 3.09375 | P13: =AM13/W13 -> 2.5080906 | Q13: =AN13/AC13 -> 2.4766355 | R13: =AO13/AD13 -> 2.4365325 | S13: =AP13/AE13 -> 2.4290123 | T13: =AQ13/AF13 -> 2.4489164 | W13: ='OEP RAW Data'!C63+'OEP RAW Data'!D63 -> 309 | X13: =W13+'OEP RAW Data'!E63 -> 312 | Y13: =X13+'OEP RAW Data'!F63 -> 312 | Z13: =Y13+'OEP RAW Data'!G63 -> 313 | AA13: =Z13+'OEP RAW Data'!H63 -> 320 | AB13: =AA13+'OEP RAW Data'!I63 -> 321 | AC13: =AB13+'OEP RAW Data'!J63 -> 321 | AD13: =AC13+'OEP RAW Data'!K63 -> 323 | AE13: =AD13+'OEP RAW Data'!L63 -> 324 | AF13: =AE13+'OEP RAW Data'!M63 -> 323 | AK13: 716 | AL13: 990 | AM13: 775 | AN13: 795 | AO13: 787 | AP13: 787 | AQ13: 791 | AT13: =AD13-W13 -> 14 | AU13: =(AD13/W13)^(1/7)-1 -> 0.0063502272 | AW13: =(AD13/AB13)^(1/2)-1 -> 0.0031104274
A14: ='OEP RAW Data'!A64 -> Newmarket | B14: 1 | C14: RC | D14: U | E14: E | F14: SRPC | G14: 1832 | H14: 3285 | I14: ='OEP RAW Data'!C64 -> 3457 | J14: ='OEP RAW Data'!N64 -> 4139 | K14: =(H14/G14)^(1/(1990-1980))-1 -> 0.060134555 | L14: =(I14/H14)^(1/(2000-1990))-1 -> 0.0051164957 | M14: =(J14/I14)^(1/(2010-2000))-1 -> 0.018168378 | N14: =AK14/G14 -> 2.3417031 | O14: =AL14/H14 -> 2.178691 | P14: =AM14/W14 -> 2.2687959 | Q14: =AN14/AC14 -> 2.2379813 | R14: =AO14/AD14 -> 2.2276967 | S14: =AP14/AE14 -> 2.2075472 | T14: =AQ14/AF14 -> 2.214371 | W14: ='OEP RAW Data'!C64+'OEP RAW Data'!D64 -> 3538 | X14: =W14+'OEP RAW Data'!E64 -> 3655 | Y14: =X14+'OEP RAW Data'!F64 -> 3785 | Z14: =Y14+'OEP RAW Data'!G64 -> 3964 | AA14: =Z14+'OEP RAW Data'!H64 -> 4076 | AB14: =AA14+'OEP RAW Data'!I64 -> 4162 | AC14: =AB14+'OEP RAW Data'!J64 -> 4181 | AD14: =AC14+'OEP RAW Data'!K64 -> 4181 | AE14: =AD14+'OEP RAW Data'!L64 -> 4187 | AF14: =AE14+'OEP RAW Data'!M64 -> 4189 | AK14: 4290 | AL14: 7157 | AM14: 8027 | AN14: 9357 | AO14: 9314 | AP14: 9243 | AQ14: 9276 | AT14: =AD14-W14 -> 643 | AU14: =(AD14/W14)^(1/7)-1 -> 0.024142371 | AW14: =(AD14/AB14)^(1/2)-1 -> 0.0022799574
A15: ='OEP RAW Data'!A65 -> North Hampton | B15: 1 | C15: RC | D15: 24 | E15: E | F15: RPC | G15: 1255 | H15: 1495 | I15: ='OEP RAW Data'!C65 -> 1782 | J15: ='OEP RAW Data'!N65 -> 1914 | K15: =(H15/G15)^(1/(1990-1980))-1 -> 0.017653069 | L15: =(I15/H15)^(1/(2000-1990))-1 -> 0.017716113 | M15: =(J15/I15)^(1/(2010-2000))-1 -> 0.0071714892 | N15: =AK15/G15 -> 2.7290837 | O15: =AL15/H15 -> 2.4327759 | P15: =AM15/W15 -> 2.3159326 | Q15: =AN15/AC15 -> 2.3281168 | R15: =AO15/AD15 -> 2.3 | S15: =AP15/AE15 -> 2.2859351 | T15: =AQ15/AF15 -> 2.2898105 | W15: ='OEP RAW Data'!C65+'OEP RAW Data'!D65 -> 1839 | X15: =W15+'OEP RAW Data'!E65 -> 1859 | Y15: =X15+'OEP RAW Data'!F65 -> 1876 | Z15: =Y15+'OEP RAW Data'!G65 -> 1889 | AA15: =Z15+'OEP RAW Data'!H65 -> 1904 | AB15: =AA15+'OEP RAW Data'!I65 -> 1909 | AC15: =AB15+'OEP RAW Data'!J65 -> 1917 | AD15: =AC15+'OEP RAW Data'!K65 -> 1930 | AE15: =AD15+'OEP RAW Data'!L65 -> 1941 | AF15: =AE15+'OEP RAW Data'!M65 -> 1953 | AK15: 3425 | AL15: 3637 | AM15: 4259 | AN15: 4463 | AO15: 4439 | AP15: 4437 | AQ15: 4472 | AT15: =AD15-W15 -> 91 | AU15: =(AD15/W15)^(1/7)-1 -> 0.0069235804 | AW15: =(AD15/AB15)^(1/2)-1 -> 0.0054852181
A16: ='OEP RAW Data'!A66 -> Portsmouth | B16: 1 | C16: RC | D16: 24 | E16: E | F16: RPC | G16: 8634 | H16: 11369 | I16: ='OEP RAW Data'!C66 -> 10186 | J16: ='OEP RAW Data'!N66 -> 10625 | K16: =(H16/G16)^(1/(1990-1980))-1 -> 0.02790037 | L16: =(I16/H16)^(1/(2000-1990))-1 -> -0.010927469 | M16: =(J16/I16)^(1/(2010-2000))-1 -> 0.0042284635 | N16: =AK16/G16 -> 3.0407691 | O16: =AL16/H16 -> 2.2803237 | P16: =AM16/W16 -> 2.0328638 | Q16: =AN16/AC16 -> 1.9789844 | R16: =AO16/AD16 -> 1.9539249 | S16: =AP16/AE16 -> 1.9365798 | T16: =AQ16/AF16 -> 1.9498113 | W16: ='OEP RAW Data'!C66+'OEP RAW Data'!D66 -> 10224 | X16: =W16+'OEP RAW Data'!E66 -> 10254 | Y16: =X16+'OEP RAW Data'!F66 -> 10295 | Z16: =Y16+'OEP RAW Data'!G66 -> 10363 | AA16: =Z16+'OEP RAW Data'!H66 -> 10418 | AB16: =AA16+'OEP RAW Data'!I66 -> 10495 | AC16: =AB16+'OEP RAW Data'!J66 -> 10516 | AD16: =AC16+'OEP RAW Data'!K66 -> 10548 | AE16: =AD16+'OEP RAW Data'!L66 -> 10596 | AF16: =AE16+'OEP RAW Data'!M66 -> 10600 | AK16: 26254 | AL16: 25925 | AM16: 20784 | AN16: 20811 | AO16: 20610 | AP16: 20520 | AQ16: 20668 | AT16: =AD16-W16 -> 324 | AU16: =(AD16/W16)^(1/7)-1 -> 0.0044668569 | AW16: =(AD16/AB16)^(1/2)-1 -> 0.0025218321
A17: ='OEP RAW Data'!A67 -> Rye | B17: 1 | C17: RC | D17: 24 | E17: E | F17: RPC | G17: 1812 | H17: 2443 | I17: ='OEP RAW Data'!C67 -> 2645 | J17: ='OEP RAW Data'!N67 -> 2852 | K17: =(H17/G17)^(1/(1990-1980))-1 -> 0.030330432 | L17: =(I17/H17)^(1/(2000-1990))-1 -> 0.007976068 | M17: =(J17/I17)^(1/(2010-2000))-1 -> 0.0075634028 | N17: =AK17/G17 -> 2.4878587 | O17: =AL17/H17 -> 1.8878428 | P17: =AM17/W17 -> 1.9466566 | Q17: =AN17/AC17 -> 1.9222836 | R17: =AO17/AD17 -> 1.9060081 | S17: =AP17/AE17 -> 1.889216 | T17: =AQ17/AF17 -> 1.8951435 | W17: ='OEP RAW Data'!C67+'OEP RAW Data'!D67 -> 2662 | X17: =W17+'OEP RAW Data'!E67 -> 2670 | Y17: =X17+'OEP RAW Data'!F67 -> 2683 | Z17: =Y17+'OEP RAW Data'!G67 -> 2689 | AA17: =Z17+'OEP RAW Data'!H67 -> 2704 | AB17: =AA17+'OEP RAW Data'!I67 -> 2715 | AC17: =AB17+'OEP RAW Data'!J67 -> 2715 | AD17: =AC17+'OEP RAW Data'!K67 -> 2713 | AE17: =AD17+'OEP RAW Data'!L67 -> 2717 | AF17: =AE17+'OEP RAW Data'!M67 -> 2718 | AK17: 4508 | AL17: 4612 | AM17: 5182 | AN17: 5219 | AO17: 5171 | AP17: 5133 | AQ17: 5151 | AT17: =AD17-W17 -> 51 | AU17: =(AD17/W17)^(1/7)-1 -> 0.002714723 | AW17: =(AD17/AB17)^(1/2)-1 -> -0.00036839198
A18: ='OEP RAW Data'!A68 -> Seabrook | B18: 1 | C18: RC | D18: 23 | E18: E | F18: RPC | G18: 2523 | H18: 3469 | I18: ='OEP RAW Data'!C68 -> 4066 | J18: ='OEP RAW Data'!N68 -> 4544 | K18: =(H18/G18)^(1/(1990-1980))-1 -> 0.032354143 | L18: =(I18/H18)^(1/(2000-1990))-1 -> 0.016006081 | M18: =(J18/I18)^(1/(2010-2000))-1 -> 0.011176795 | N18: =AK18/G18 -> 2.3452239 | O18: =AL18/H18 -> 1.8746036 | P18: =AM18/W18 -> 1.9076701 | Q18: =AN18/AC18 -> 1.9027622 | R18: =AO18/AD18 -> 1.8968449 | S18: =AP18/AE18 -> 1.8671578 | T18: =AQ18/AF18 -> 1.8602533 | W18: ='OEP RAW Data'!C68+'OEP RAW Data'!D68 -> 4159 | X18: =W18+'OEP RAW Data'!E68 -> 4247 | Y18: =X18+'OEP RAW Data'!F68 -> 4295 | Z18: =Y18+'OEP RAW Data'!G68 -> 4322 | AA18: =Z18+'OEP RAW Data'!H68 -> 4358 | AB18: =AA18+'OEP RAW Data'!I68 -> 4453 | AC18: =AB18+'OEP RAW Data'!J68 -> 4453 | AD18: =AC18+'OEP RAW Data'!K68 -> 4469 | AE18: =AD18+'OEP RAW Data'!L68 -> 4479 | AF18: =AE18+'OEP RAW Data'!M68 -> 4501 | AK18: 5917 | AL18: 6503 | AM18: 7934 | AN18: 8473 | AO18: 8477 | AP18: 8363 | AQ18: 8373 | AT18: =AD18-W18 -> 310 | AU18: =(AD18/W18)^(1/7)-1 -> 0.010322919 | AW18: =(AD18/AB18)^(1/2)-1 -> 0.0017949308
A19: ='OEP RAW Data'!A69 -> South Hampton | B19: 1 | C19: RC | D19: 23 | E19: E | F19: RPC | G19: 223 | H19: 263 | I19: ='OEP RAW Data'!C69 -> 308 | J19: ='OEP RAW Data'!N69 -> 504 | K19: =(H19/G19)^(1/(1990-1980))-1 -> 0.016635073 | L19: =(I19/H19)^(1/(2000-1990))-1 -> 0.015919969 | M19: =(J19/I19)^(1/(2010-2000))-1 -> 0.050480468 | N19: =AK19/G19 -> 2.9596413 | O19: =AL19/H19 -> 2.8136882 | P19: =AM19/W19 -> 2.6964856 | Q19: =AN19/AC19 -> 2.6586826 | R19: =AO19/AD19 -> 2.6261128 | S19: =AP19/AE19 -> 2.6213018 | T19: =AQ19/AF19 -> 2.6360947 | W19: ='OEP RAW Data'!C69+'OEP RAW Data'!D69 -> 313 | X19: =W19+'OEP RAW Data'!E69 -> 317 | Y19: =X19+'OEP RAW Data'!F69 -> 321 | Z19: =Y19+'OEP RAW Data'!G69 -> 323 | AA19: =Z19+'OEP RAW Data'!H69 -> 329 | AB19: =AA19+'OEP RAW Data'!I69 -> 332 | AC19: =AB19+'OEP RAW Data'!J69 -> 334 | AD19: =AC19+'OEP RAW Data'!K69 -> 337 | AE19: =AD19+'OEP RAW Data'!L69 -> 338 | AF19: =AE19+'OEP RAW Data'!M69 -> 338 | AK19: 660 | AL19: 740 | AM19: 844 | AN19: 888 | AO19: 885 | AP19: 886 | AQ19: 891 | AT19: =AD19-W19 -> 24 | AU19: =(AD19/W19)^(1/7)-1 -> 0.010610141 | AW19: =(AD19/AB19)^(1/2)-1 -> 0.0075019806
A20: ='OEP RAW Data'!A70 -> Stratham | B20: 1 | C20: RC | D20: 24 | E20: E | F20: RPC | G20: 844 | H20: 1917 | I20: ='OEP RAW Data'!C70 -> 2371 | J20: ='OEP RAW Data'!N70 -> 2864 | K20: =(H20/G20)^(1/(1990-1980))-1 -> 0.085495348 | L20: =(I20/H20)^(1/(2000-1990))-1 -> 0.021482532 | M20: =(J20/I20)^(1/(2010-2000))-1 -> 0.019070303 | N20: =AK20/G20 -> 2.9703791 | O20: =AL20/H20 -> 2.5847679 | P20: =AM20/W20 -> 2.6227817 | Q20: =AN20/AC20 -> 2.5883201 | R20: =AO20/AD20 -> 2.5634355 | S20: =AP20/AE20 -> 2.5666075 | T20: =AQ20/AF20 -> 2.5804047 | W20: ='OEP RAW Data'!C70+'OEP RAW Data'!D70 -> 2423 | X20: =W20+'OEP RAW Data'!E70 -> 2462 | Y20: =X20+'OEP RAW Data'!F70 -> 2518 | Z20: =Y20+'OEP RAW Data'!G70 -> 2597 | AA20: =Z20+'OEP RAW Data'!H70 -> 2692 | AB20: =AA20+'OEP RAW Data'!I70 -> 2742 | AC20: =AB20+'OEP RAW Data'!J70 -> 2774 | AD20: =AC20+'OEP RAW Data'!K70 -> 2806 | AE20: =AD20+'OEP RAW Data'!L70 -> 2815 | AF20: =AE20+'OEP RAW Data'!M70 -> 2817 | AK20: 2507 | AL20: 4955 | AM20: 6355 | AN20: 7180 | AO20: 7193 | AP20: 7225 | AQ20: 7269 | AT20: =AD20-W20 -> 383 | AU20: =(AD20/W20)^(1/7)-1 -> 0.021186096 | AW20: =(AD20/AB20)^(1/2)-1 -> 0.011602999
A21: ='OEP RAW Data'!A71 -> CEDS Eastern Towns Totals: | B21: 0 | E21: ET | G21: =SUM(G5:G20) -> 28904 | H21: =SUM(H5:H20) -> 41981 | I21: =SUM(I5:I20) -> 44889 | J21: ='OEP RAW Data'!N71 -> 49365 | K21: =(H21/G21)^(1/(1990-1980))-1 -> 0.038028991 | L21: =(I21/H21)^(1/(2000-1990))-1 -> 0.0067200429 | M21: =(J21/I21)^(1/(2010-2000))-1 -> 0.0095502044 | N21: =AK21/G21 -> 2.6814628 | O21: =AL21/H21 -> 2.1023796 | P21: =AM21/W21 -> 2.080896 | Q21: =AN21/AC21 -> 2.0456642 | R21: =AO21/AD21 -> 2.0301316 | S21: =AP21/AE21 -> 2.0311487 | T21: =AQ21/AF21 -> 2.0217303 | W21: ='OEP RAW Data'!C71+'OEP RAW Data'!D71 -> 45404 | X21: =W21+'OEP RAW Data'!E71 -> 45856 | Y21: =X21+'OEP RAW Data'!F71 -> 46490 | Z21: =Y21+'OEP RAW Data'!G71 -> 47144 | AA21: =Z21+'OEP RAW Data'!H71 -> 47756 | AB21: =AA21+'OEP RAW Data'!I71 -> 48312 | AC21: =AB21+'OEP RAW Data'!J71 -> 48572 | AD21: =AC21+'OEP RAW Data'!K71 -> 48786 | AE21: =AD21+'OEP RAW Data'!L71 -> 49055 | AF21: =AE21+'OEP RAW Data'!M71 -> 49148 | AK21: =SUM(AK5:AK20) -> 77505 | AL21: =SUM(AL5:AL20) -> 88260 | AM21: =SUM(AM5:AM20) -> 94481 | AN21: 99362 | AO21: =SUM(AO5:AO20) -> 99042 | AP21: =SUM(AP5:AP20) -> 99638 | AQ21: 99364 | AT21: =AD21-W21 -> 3382 | AU21: =(AD21/W21)^(1/7)-1 -> 0.01031616 | AW21: =(AD21/AB21)^(1/2)-1 -> 0.0048936397
A22: ='OEP RAW Data'!A72 -> Atkinson | B22: 1 | C22: RC | D22: 23 | E22: C | F22: RPC | G22: 1428 | H22: 1885 | I22: ='OEP RAW Data'!C72 -> 2431 | J22: ='OEP RAW Data'!N72 -> 2788 | K22: =(H22/G22)^(1/(1990-1980))-1 -> 0.028154344 | L22: =(I22/H22)^(1/(2000-1990))-1 -> 0.025763781 | M22: =(J22/I22)^(1/(2010-2000))-1 -> 0.013796485 | N22: =AK22/G22 -> 3.0791317 | O22: =AL22/H22 -> 2.7522546 | P22: =AM22/W22 -> 2.4643 | Q22: =AN22/AC22 -> 2.4367988 | R22: =AO22/AD22 -> 2.4116331 | S22: =AP22/AE22 -> 2.3996276 | T22: =AQ22/AF22 -> 2.405506 | W22: ='OEP RAW Data'!C72+'OEP RAW Data'!D72 -> 2507 | X22: =W22+'OEP RAW Data'!E72 -> 2595 | Y22: =X22+'OEP RAW Data'!F72 -> 2620 | Z22: =Y22+'OEP RAW Data'!G72 -> 2644 | AA22: =Z22+'OEP RAW Data'!H72 -> 2650 | AB22: =AA22+'OEP RAW Data'!I72 -> 2668 | AC22: =AB22+'OEP RAW Data'!J72 -> 2674 | AD22: =AC22+'OEP RAW Data'!K72 -> 2682 | AE22: =AD22+'OEP RAW Data'!L72 -> 2685 | AF22: =AE22+'OEP RAW Data'!M72 -> 2688 | AK22: 4397 | AL22: 5188 | AM22: 6178 | AN22: 6516 | AO22: 6468 | AP22: 6443 | AQ22: 6466 | AT22: =AD22-W22 -> 175 | AU22: =(AD22/W22)^(1/7)-1 -> 0.0096860326 | AW22: =(AD22/AB22)^(1/2)-1 -> 0.0026202553
A23: ='OEP RAW Data'!A73 -> Auburn | B23: 1 | C23: RC | D23: 19 | E23: C | F23: SNHPC | G23: 936 | H23: 1354 | I23: ='OEP RAW Data'!C73 -> 1622 | J23: ='OEP RAW Data'!N73 -> 1814 | K23: =(H23/G23)^(1/(1990-1980))-1 -> 0.037610318 | L23: =(I23/H23)^(1/(2000-1990))-1 -> 0.01822374 | M23: =(J23/I23)^(1/(2010-2000))-1 -> 0.011250253 | N23: =AK23/G23 -> 3.0801282 | O23: =AL23/H23 -> 3.0169867 | P23: =AM23/W23 -> 2.8137019 | Q23: =AN23/AC23 -> 2.8015351 | R23: =AO23/AD23 -> 2.7764449 | S23: =AP23/AE23 -> 2.763587 | T23: =AQ23/AF23 -> 2.7696477 | W23: ='OEP RAW Data'!C73+'OEP RAW Data'!D73 -> 1664 | X23: =W23+'OEP RAW Data'!E73 -> 1696 | Y23: =X23+'OEP RAW Data'!F73 -> 1725 | Z23: =Y23+'OEP RAW Data'!G73 -> 1769 | AA23: =Z23+'OEP RAW Data'!H73 -> 1813 | AB23: =AA23+'OEP RAW Data'!I73 -> 1813 | AC23: =AB23+'OEP RAW Data'!J73 -> 1824 | AD23: =AC23+'OEP RAW Data'!K73 -> 1834 | AE23: =AD23+'OEP RAW Data'!L73 -> 1840 | AF23: =AE23+'OEP RAW Data'!M73 -> 1845 | AK23: 2883 | AL23: 4085 | AM23: 4682 | AN23: 5110 | AO23: 5092 | AP23: 5085 | AQ23: 5110 | AT23: =AD23-W23 -> 170 | AU23: =(AD23/W23)^(1/7)-1 -> 0.013993437 | AW23: =(AD23/AB23)^(1/2)-1 -> 0.0057748315
A24: ='OEP RAW Data'!A74 -> Brentwood | B24: 1 | C24: RC | D24: 23 | E24: C | F24: RPC | G24: 598 | H24: 778 | I24: ='OEP RAW Data'!C74 -> 920 | J24: ='OEP RAW Data'!N74 -> 1350 | K24: =(H24/G24)^(1/(1990-1980))-1 -> 0.026662836 | L24: =(I24/H24)^(1/(2000-1990))-1 -> 0.016906031 | M24: =(J24/I24)^(1/(2010-2000))-1 -> 0.039093419 | N24: =AK24/G24 -> 3.3511706 | O24: =AL24/H24 -> 3.3290488 | P24: =AM24/W24 -> 3.2589195 | Q24: =AN24/AC24 -> 3.2588792 | R24: =AO24/AD24 -> 3.25 | S24: =AP24/AE24 -> 3.2326121 | T24: =AQ24/AF24 -> 3.2614329 | W24: ='OEP RAW Data'!C74+'OEP RAW Data'!D74 -> 981 | X24: =W24+'OEP RAW Data'!E74 -> 1069 | Y24: =X24+'OEP RAW Data'!F74 -> 1138 | Z24: =Y24+'OEP RAW Data'!G74 -> 1182 | AA24: =Z24+'OEP RAW Data'!H74 -> 1221 | AB24: =AA24+'OEP RAW Data'!I74 -> 1238 | AC24: =AB24+'OEP RAW Data'!J74 -> 1267 | AD24: =AC24+'OEP RAW Data'!K74 -> 1280 | AE24: =AD24+'OEP RAW Data'!L74 -> 1294 | AF24: =AE24+'OEP RAW Data'!M74 -> 1312 | AK24: 2004 | AL24: 2590 | AM24: 3197 | AN24: 4129 | AO24: 4160 | AP24: 4183 | AQ24: 4279 | AT24: =AD24-W24 -> 299 | AU24: =(AD24/W24)^(1/7)-1 -> 0.038737598 | AW24: =(AD24/AB24)^(1/2)-1 -> 0.016821364
A25: ='OEP RAW Data'!A75 -> Candia | B25: 1 | C25: RC | D25: 19 | E25: C | F25: SNHPC | G25: 992 | H25: 1192 | I25: ='OEP RAW Data'!C75 -> 1384 | J25: ='OEP RAW Data'!N75 -> 1494 | K25: =(H25/G25)^(1/(1990-1980))-1 -> 0.018536175 | L25: =(I25/H25)^(1/(2000-1990))-1 -> 0.015046606 | M25: =(J25/I25)^(1/(2010-2000))-1 -> 0.007677243 | N25: =AK25/G25 -> 3.0131048 | O25: =AL25/H25 -> 2.9840604 | P25: =AM25/W25 -> 2.7600565 | Q25: =AN25/AC25 -> 2.7146649 | R25: =AO25/AD25 -> 2.7116402 | S25: =AP25/AE25 -> 2.6892693 | T25: =AQ25/AF25 -> 2.7088274 | W25: ='OEP RAW Data'!C75+'OEP RAW Data'!D75 -> 1417 | X25: =W25+'OEP RAW Data'!E75 -> 1450 | Y25: =X25+'OEP RAW Data'!F75 -> 1457 | Z25: =Y25+'OEP RAW Data'!G75 -> 1469 | AA25: =Z25+'OEP RAW Data'!H75 -> 1476 | AB25: =AA25+'OEP RAW Data'!I75 -> 1489 | AC25: =AB25+'OEP RAW Data'!J75 -> 1507 | AD25: =AC25+'OEP RAW Data'!K75 -> 1512 | AE25: =AD25+'OEP RAW Data'!L75 -> 1519 | AF25: =AE25+'OEP RAW Data'!M75 -> 1518 | AK25: 2989 | AL25: 3557 | AM25: 3911 | AN25: 4091 | AO25: 4100 | AP25: 4085 | AQ25: 4112 | AT25: =AD25-W25 -> 95 | AU25: =(AD25/W25)^(1/7)-1 -> 0.0093132894 | AW25: =(AD25/AB25)^(1/2)-1 -> 0.0076937077
A26: ='OEP RAW Data'!A76 -> Chester | B26: 1 | C26: RC | D26: 22 | E26: C | F26: SNHPC | G26: 655 | H26: 924 | I26: ='OEP RAW Data'!C76 -> 1247 | J26: ='OEP RAW Data'!N76 -> 1596 | K26: =(H26/G26)^(1/(1990-1980))-1 -> 0.035006476 | L26: =(I26/H26)^(1/(2000-1990))-1 -> 0.030432263 | M26: =(J26/I26)^(1/(2010-2000))-1 -> 0.024982955 | N26: =AK26/G26 -> 3.0625954 | O26: =AL26/H26 -> 2.9123377 | P26: =AM26/W26 -> 2.8340807 | Q26: =AN26/AC26 -> 2.985209 | R26: =AO26/AD26 -> 2.9539347 | S26: =AP26/AE26 -> 2.9470663 | T26: =AQ26/AF26 -> 2.9396058 | W26: ='OEP RAW Data'!C76+'OEP RAW Data'!D76 -> 1338 | X26: =W26+'OEP RAW Data'!E76 -> 1417 | Y26: =X26+'OEP RAW Data'!F76 -> 1464 | Z26: =Y26+'OEP RAW Data'!G76 -> 1493 | AA26: =Z26+'OEP RAW Data'!H76 -> 1527 | AB26: =AA26+'OEP RAW Data'!I76 -> 1537 | AC26: =AB26+'OEP RAW Data'!J76 -> 1555 | AD26: =AC26+'OEP RAW Data'!K76 -> 1563 | AE26: =AD26+'OEP RAW Data'!L76 -> 1568 | AF26: =AE26+'OEP RAW Data'!M76 -> 1573 | AK26: 2006 | AL26: 2691 | AM26: 3792 | AN26: 4642 | AO26: 4617 | AP26: 4621 | AQ26: 4624 | AT26: =AD26-W26 -> 225 | AU26: =(AD26/W26)^(1/7)-1 -> 0.022452795 | AW26: =(AD26/AB26)^(1/2)-1 -> 0.0084225653
A27: ='OEP RAW Data'!A77 -> Danville | B27: 1 | C27: RC | D27: 23 | E27: C | F27: RPC | G27: 439 | H27: 960 | I27: ='OEP RAW Data'!C77 -> 1479 | J27: ='OEP RAW Data'!N77 -> 1684 | K27: =(H27/G27)^(1/(1990-1980))-1 -> 0.081385822 | L27: =(I27/H27)^(1/(2000-1990))-1 -> 0.044166352 | M27: =(J27/I27)^(1/(2010-2000))-1 -> 0.013065187 | N27: =AK27/G27 -> 3.0022779 | O27: =AL27/H27 -> 2.6395833 | P27: =AM27/W27 -> 2.674867 | Q27: =AN27/AC27 -> 2.6600838 | R27: =AO27/AD27 -> 2.6182573 | S27: =AP27/AE27 -> 2.6241849 | T27: =AQ27/AF27 -> 2.6167453 | W27: ='OEP RAW Data'!C77+'OEP RAW Data'!D77 -> 1504 | X27: =W27+'OEP RAW Data'!E77 -> 1535 | Y27: =X27+'OEP RAW Data'!F77 -> 1588 | Z27: =Y27+'OEP RAW Data'!G77 -> 1621 | AA27: =Z27+'OEP RAW Data'!H77 -> 1662 | AB27: =AA27+'OEP RAW Data'!I77 -> 1666 | AC27: =AB27+'OEP RAW Data'!J77 -> 1671 | AD27: =AC27+'OEP RAW Data'!K77 -> 1687 | AE27: =AD27+'OEP RAW Data'!L77 -> 1687 | AF27: =AE27+'OEP RAW Data'!M77 -> 1696 | AK27: 1318 | AL27: 2534 | AM27: 4023 | AN27: 4445 | AO27: 4417 | AP27: 4427 | AQ27: 4438 | AT27: =AD27-W27 -> 183 | AU27: =(AD27/W27)^(1/7)-1 -> 0.016538642 | AW27: =(AD27/AB27)^(1/2)-1 -> 0.0062827843
A28: ='OEP RAW Data'!A78 -> Deerfield | B28: 1 | C28: RC | D28: U | E28: C | F28: SNHPC | G28: 694 | H28: 1227 | I28: ='OEP RAW Data'!C78 -> 1406 | J28: ='OEP RAW Data'!N78 -> 1743 | K28: =(H28/G28)^(1/(1990-1980))-1 -> 0.058640511 | L28: =(I28/H28)^(1/(2000-1990))-1 -> 0.013710805 | M28: =(J28/I28)^(1/(2010-2000))-1 -> 0.021718381 | N28: =AK28/G28 -> 2.851585 | O28: =AL28/H28 -> 2.5460473 | P28: =AM28/W28 -> 2.4734364 | Q28: =AN28/AC28 -> 2.5154519 | R28: =AO28/AD28 -> 2.5080738 | S28: =AP28/AE28 -> 2.5020057 | T28: =AQ28/AF28 -> 2.5102623 | W28: ='OEP RAW Data'!C78+'OEP RAW Data'!D78 -> 1487 | X28: =W28+'OEP RAW Data'!E78 -> 1545 | Y28: =X28+'OEP RAW Data'!F78 -> 1575 | Z28: =Y28+'OEP RAW Data'!G78 -> 1593 | AA28: =Z28+'OEP RAW Data'!H78 -> 1644 | AB28: =AA28+'OEP RAW Data'!I78 -> 1687 | AC28: =AB28+'OEP RAW Data'!J78 -> 1715 | AD28: =AC28+'OEP RAW Data'!K78 -> 1734 | AE28: =AD28+'OEP RAW Data'!L78 -> 1745 | AF28: =AE28+'OEP RAW Data'!M78 -> 1754 | AK28: 1979 | AL28: 3124 | AM28: 3678 | AN28: 4314 | AO28: 4349 | AP28: 4366 | AQ28: 4403 | AT28: =AD28-W28 -> 247 | AU28: =(AD28/W28)^(1/7)-1 -> 0.022195625 | AW28: =(AD28/AB28)^(1/2)-1 -> 0.013834359
A29: ='OEP RAW Data'!A79 -> Epping | B29: 1 | C29: RC | D29: 23 | E29: C | F29: RPC | G29: 1181 | H29: 2059 | I29: ='OEP RAW Data'!C79 -> 2215 | J29: ='OEP RAW Data'!N79 -> 2723 | K29: =(H29/G29)^(1/(1990-1980))-1 -> 0.057159812 | L29: =(I29/H29)^(1/(2000-1990))-1 -> 0.0073299309 | M29: =(J29/I29)^(1/(2010-2000))-1 -> 0.02086283 | N29: =AK29/G29 -> 2.9297206 | O29: =AL29/H29 -> 2.5070423 | P29: =AM29/W29 -> 2.366465 | Q29: =AN29/AC29 -> 2.3968317 | R29: =AO29/AD29 -> 2.3598441 | S29: =AP29/AE29 -> 2.3244478 | T29: =AQ29/AF29 -> 2.3421939 | W29: ='OEP RAW Data'!C79+'OEP RAW Data'!D79 -> 2314 | X29: =W29+'OEP RAW Data'!E79 -> 2330 | Y29: =X29+'OEP RAW Data'!F79 -> 2370 | Z29: =Y29+'OEP RAW Data'!G79 -> 2396 | AA29: =Z29+'OEP RAW Data'!H79 -> 2439 | AB29: =AA29+'OEP RAW Data'!I79 -> 2499 | AC29: =AB29+'OEP RAW Data'!J79 -> 2525 | AD29: =AC29+'OEP RAW Data'!K79 -> 2565 | AE29: =AD29+'OEP RAW Data'!L79 -> 2626 | AF29: =AE29+'OEP RAW Data'!M79 -> 2671 | AK29: 3460 | AL29: 5162 | AM29: 5476 | AN29: 6052 | AO29: 6053 | AP29: 6104 | AQ29: 6256 | AT29: =AD29-W29 -> 251 | AU29: =(AD29/W29)^(1/7)-1 -> 0.014820297 | AW29: =(AD29/AB29)^(1/2)-1 -> 0.013119225
A30: ='OEP RAW Data'!A80 -> Fremont | B30: 1 | C30: RC | D30: 23 | E30: C | F30: RPC | G30: 461 | H30: 920 | I30: ='OEP RAW Data'!C80 -> 1201 | J30: ='OEP RAW Data'!N80 -> 1573 | K30: =(H30/G30)^(1/(1990-1980))-1 -> 0.071540746 | L30: =(I30/H30)^(1/(2000-1990))-1 -> 0.027012 | M30: =(J30/I30)^(1/(2010-2000))-1 -> 0.027350346 | N30: =AK30/G30 -> 2.8915401 | O30: =AL30/H30 -> 2.8 | P30: =AM30/W30 -> 2.7812995 | Q30: =AN30/AC30 -> 2.7931498 | R30: =AO30/AD30 -> 2.7498341 | S30: =AP30/AE30 -> 2.7397892 | T30: =AQ30/AF30 -> 2.7522936 | W30: ='OEP RAW Data'!C80+'OEP RAW Data'!D80 -> 1262 | X30: =W30+'OEP RAW Data'!E80 -> 1288 | Y30: =X30+'OEP RAW Data'!F80 -> 1318 | Z30: =Y30+'OEP RAW Data'!G80 -> 1372 | AA30: =Z30+'OEP RAW Data'!H80 -> 1424 | AB30: =AA30+'OEP RAW Data'!I80 -> 1479 | AC30: =AB30+'OEP RAW Data'!J80 -> 1489 | AD30: =AC30+'OEP RAW Data'!K80 -> 1507 | AE30: =AD30+'OEP RAW Data'!L80 -> 1518 | AF30: =AE30+'OEP RAW Data'!M80 -> 1526 | AK30: 1333 | AL30: 2576 | AM30: 3510 | AN30: 4159 | AO30: 4144 | AP30: 4159 | AQ30: 4200 | AT30: =AD30-W30 -> 245 | AU30: =(AD30/W30)^(1/7)-1 -> 0.02567011 | AW30: =(AD30/AB30)^(1/2)-1 -> 0.0094214732
A31: ='OEP RAW Data'!A81 -> Hampstead | B31: 1 | C31: RC | D31: 23 | E31: C | F31: RPC | G31: 1319 | H31: 2661 | I31: ='OEP RAW Data'!C81 -> 3276 | J31: ='OEP RAW Data'!N81 -> 3727 | K31: =(H31/G31)^(1/(1990-1980))-1 -> 0.072704266 | L31: =(I31/H31)^(1/(2000-1990))-1 -> 0.021009779 | M31: =(J31/I31)^(1/(2010-2000))-1 -> 0.012981584 | N31: =AK31/G31 -> 2.8695982 | O31: =AL31/H31 -> 2.529876 | P31: =AM31/W31 -> 2.5096794 | Q31: =AN31/AC31 -> 2.3990623 | R31: =AO31/AD31 -> 2.3870527 | S31: =AP31/AE31 -> 2.3746265 | T31: =AQ31/AF31 -> 2.3652501 | W31: ='OEP RAW Data'!C81+'OEP RAW Data'!D81 -> 3306 | X31: =W31+'OEP RAW Data'!E81 -> 3320 | Y31: =X31+'OEP RAW Data'!F81 -> 3363 | Z31: =Y31+'OEP RAW Data'!G81 -> 3434 | AA31: =Z31+'OEP RAW Data'!H81 -> 3468 | AB31: =AA31+'OEP RAW Data'!I81 -> 3560 | AC31: =AB31+'OEP RAW Data'!J81 -> 3626 | AD31: =AC31+'OEP RAW Data'!K81 -> 3661 | AE31: =AD31+'OEP RAW Data'!L81 -> 3681 | AF31: =AE31+'OEP RAW Data'!M81 -> 3718 | AK31: 3785 | AL31: 6732 | AM31: 8297 | AN31: 8699 | AO31: 8739 | AP31: 8741 | AQ31: 8794 | AT31: =AD31-W31 -> 355 | AU31: =(AD31/W31)^(1/7)-1 -> 0.014677723 | AW31: =(AD31/AB31)^(1/2)-1 -> 0.014086183
A32: ='OEP RAW Data'!A82 -> Kingston | B32: 1 | C32: RC | D32: 23 | E32: C | F32: RPC | G32: 1518 | H32: 2115 | I32: ='OEP RAW Data'!C82 -> 2265 | J32: ='OEP RAW Data'!N82 -> 2480 | K32: =(H32/G32)^(1/(1990-1980))-1 -> 0.03372224 | L32: =(I32/H32)^(1/(2000-1990))-1 -> 0.0068755233 | M32: =(J32/I32)^(1/(2010-2000))-1 -> 0.0091096225 | N32: =AK32/G32 -> 2.7081686 | O32: =AL32/H32 -> 2.6434988 | P32: =AM32/W32 -> 2.4944681 | Q32: =AN32/AC32 -> 2.4853119 | R32: =AO32/AD32 -> 2.4762862 | S32: =AP32/AE32 -> 2.4529435 | T32: =AQ32/AF32 -> 2.461262 | W32: ='OEP RAW Data'!C82+'OEP RAW Data'!D82 -> 2350 | X32: =W32+'OEP RAW Data'!E82 -> 2357 | Y32: =X32+'OEP RAW Data'!F82 -> 2375 | Z32: =Y32+'OEP RAW Data'!G82 -> 2415 | AA32: =Z32+'OEP RAW Data'!H82 -> 2439 | AB32: =AA32+'OEP RAW Data'!I82 -> 2465 | AC32: =AB32+'OEP RAW Data'!J82 -> 2485 | AD32: =AC32+'OEP RAW Data'!K82 -> 2488 | AE32: =AD32+'OEP RAW Data'!L82 -> 2497 | AF32: =AE32+'OEP RAW Data'!M82 -> 2504 | AK32: 4111 | AL32: 5591 | AM32: 5862 | AN32: 6176 | AO32: 6161 | AP32: 6125 | AQ32: 6163 | AT32: =AD32-W32 -> 138 | AU32: =(AD32/W32)^(1/7)-1 -> 0.008185296 | AW32: =(AD32/AB32)^(1/2)-1 -> 0.0046544823
A33: ='OEP RAW Data'!A83 -> Newton | B33: 1 | C33: RC | D33: 23 | E33: C | F33: RPC | G33: 1073 | H33: 1251 | I33: ='OEP RAW Data'!C83 -> 1552 | J33: ='OEP RAW Data'!N83 -> 1751 | K33: =(H33/G33)^(1/(1990-1980))-1 -> 0.01546687 | L33: =(I33/H33)^(1/(2000-1990))-1 -> 0.021794218 | M33: =(J33/I33)^(1/(2010-2000))-1 -> 0.01213733 | N33: =AK33/G33 -> 2.8592731 | O33: =AL33/H33 -> 2.7761791 | P33: =AM33/W33 -> 2.6739401 | Q33: =AN33/AC33 -> 2.6848019 | R33: =AO33/AD33 -> 2.6545455 | S33: =AP33/AE33 -> 2.6333527 | T33: =AQ33/AF33 -> 2.6510687 | W33: ='OEP RAW Data'!C83+'OEP RAW Data'!D83 -> 1604 | X33: =W33+'OEP RAW Data'!E83 -> 1615 | Y33: =X33+'OEP RAW Data'!F83 -> 1623 | Z33: =Y33+'OEP RAW Data'!G83 -> 1630 | AA33: =Z33+'OEP RAW Data'!H83 -> 1640 | AB33: =AA33+'OEP RAW Data'!I83 -> 1680 | AC33: =AB33+'OEP RAW Data'!J83 -> 1691 | AD33: =AC33+'OEP RAW Data'!K83 -> 1705 | AE33: =AD33+'OEP RAW Data'!L83 -> 1721 | AF33: =AE33+'OEP RAW Data'!M83 -> 1731 | AK33: 3068 | AL33: 3473 | AM33: 4289 | AN33: 4540 | AO33: 4526 | AP33: 4532 | AQ33: 4589 | AT33: =AD33-W33 -> 101 | AU33: =(AD33/W33)^(1/7)-1 -> 0.0087616752 | AW33: =(AD33/AB33)^(1/2)-1 -> 0.0074129999
A34: ='OEP RAW Data'!A84 -> Northwood | B34: 1 | C34: RC | D34: U | E34: C | F34: SRPC | G34: 874 | H34: 1791 | I34: ='OEP RAW Data'!C84 -> 1905 | J34: ='OEP RAW Data'!N84 -> 2129 | K34: =(H34/G34)^(1/(1990-1980))-1 -> 0.074381237 | L34: =(I34/H34)^(1/(2000-1990))-1 -> 0.0061898671 | M34: =(J34/I34)^(1/(2010-2000))-1 -> 0.011179062 | N34: =AK34/G34 -> 2.4885584 | O34: =AL34/H34 -> 1.7442769 | P34: =AM34/W34 -> 1.8830833 | Q34: =AN34/AC34 -> 1.8288166 | R34: =AO34/AD34 -> 1.7997342 | S34: =AP34/AE34 -> 1.8137688 | T34: =AQ34/AF34 -> 1.8124452 | W34: ='OEP RAW Data'!C84+'OEP RAW Data'!D84 -> 1933 | X34: =W34+'OEP RAW Data'!E84 -> 1950 | Y34: =X34+'OEP RAW Data'!F84 -> 1981 | Z34: =Y34+'OEP RAW Data'!G84 -> 2046 | AA34: =Z34+'OEP RAW Data'!H84 -> 2116 | AB34: =AA34+'OEP RAW Data'!I84 -> 2185 | AC34: =AB34+'OEP RAW Data'!J84 -> 2214 | AD34: =AC34+'OEP RAW Data'!K84 -> 2257 | AE34: =AD34+'OEP RAW Data'!L84 -> 2266 | AF34: =AE34+'OEP RAW Data'!M84 -> 2282 | AK34: 2175 | AL34: 3124 | AM34: 3640 | AN34: 4049 | AO34: 4062 | AP34: 4110 | AQ34: 4136 | AT34: =AD34-W34 -> 324 | AU34: =(AD34/W34)^(1/7)-1 -> 0.022384469 | AW34: =(AD34/AB34)^(1/2)-1 -> 0.016342435
A35: ='OEP RAW Data'!A85 -> Nottingham | B35: 1 | C35: RC | D35: U | E35: C | F35: SRPC | G35: 712 | H35: 1314 | I35: ='OEP RAW Data'!C85 -> 1592 | J35: ='OEP RAW Data'!N85 -> 1986 | K35: =(H35/G35)^(1/(1990-1980))-1 -> 0.063191601 | L35: =(I35/H35)^(1/(2000-1990))-1 -> 0.019376858 | M35: =(J35/I35)^(1/(2010-2000))-1 -> 0.022359456 | N35: =AK35/G35 -> 2.741573 | O35: =AL35/H35 -> 2.2366819 | P35: =AM35/W35 -> 2.2649939 | Q35: =AN35/AC35 -> 2.2227797 | R35: =AO35/AD35 -> 2.2097971 | S35: =AP35/AE35 -> 2.2103194 | T35: =AQ35/AF35 -> 2.2092457 | W35: ='OEP RAW Data'!C85+'OEP RAW Data'!D85 -> 1634 | X35: =W35+'OEP RAW Data'!E85 -> 1675 | Y35: =X35+'OEP RAW Data'!F85 -> 1730 | Z35: =Y35+'OEP RAW Data'!G85 -> 1804 | AA35: =Z35+'OEP RAW Data'!H85 -> 1907 | AB35: =AA35+'OEP RAW Data'!I85 -> 1958 | AC35: =AB35+'OEP RAW Data'!J85 -> 1993 | AD35: =AC35+'OEP RAW Data'!K85 -> 2021 | AE35: =AD35+'OEP RAW Data'!L85 -> 2035 | AF35: =AE35+'OEP RAW Data'!M85 -> 2055 | AK35: 1952 | AL35: 2939 | AM35: 3701 | AN35: 4430 | AO35: 4466 | AP35: 4498 | AQ35: 4540 | AT35: =AD35-W35 -> 387 | AU35: =(AD35/W35)^(1/7)-1 -> 0.030831667 | AW35: =(AD35/AB35)^(1/2)-1 -> 0.015960476
A36: ='OEP RAW Data'!A86 -> Plaistow | B36: 1 | C36: RC | D36: 23 | E36: C | F36: RPC | G36: 1827 | H36: 2691 | I36: ='OEP RAW Data'!C86 -> 2927 | J36: ='OEP RAW Data'!N86 -> 3016 | K36: =(H36/G36)^(1/(1990-1980))-1 -> 0.039483297 | L36: =(I36/H36)^(1/(2000-1990))-1 -> 0.0084419476 | M36: =(J36/I36)^(1/(2010-2000))-1 -> 0.0029998348 | N36: =AK36/G36 -> 3.0700602 | O36: =AL36/H36 -> 2.7186919 | P36: =AM36/W36 -> 2.6314538 | Q36: =AN36/AC36 -> 2.5778593 | R36: =AO36/AD36 -> 2.5546667 | S36: =AP36/AE36 -> 2.5381794 | T36: =AQ36/AF36 -> 2.543 | W36: ='OEP RAW Data'!C86+'OEP RAW Data'!D86 -> 2944 | X36: =W36+'OEP RAW Data'!E86 -> 2960 | Y36: =X36+'OEP RAW Data'!F86 -> 2985 | Z36: =Y36+'OEP RAW Data'!G86 -> 2990 | AA36: =Z36+'OEP RAW Data'!H86 -> 2990 | AB36: =AA36+'OEP RAW Data'!I86 -> 2996 | AC36: =AB36+'OEP RAW Data'!J86 -> 2999 | AD36: =AC36+'OEP RAW Data'!K86 -> 3000 | AE36: =AD36+'OEP RAW Data'!L86 -> 2999 | AF36: =AE36+'OEP RAW Data'!M86 -> 3000 | AK36: 5609 | AL36: 7316 | AM36: 7747 | AN36: 7731 | AO36: 7664 | AP36: 7612 | AQ36: 7629 | AT36: =AD36-W36 -> 56 | AU36: =(AD36/W36)^(1/7)-1 -> 0.002695496 | AW36: =(AD36/AB36)^(1/2)-1 -> 0.00066733407
A37: ='OEP RAW Data'!A87 -> Raymond | B37: 1 | C37: RC | D37: 22 | E37: C | F37: SNHPC | G37: 1985 | H37: 3350 | I37: ='OEP RAW Data'!C87 -> 3710 | J37: ='OEP RAW Data'!N87 -> 4254 | K37: =(H37/G37)^(1/(1990-1980))-1 -> 0.05372778 | L37: =(I37/H37)^(1/(2000-1990))-1 -> 0.010259424 | M37: =(J37/I37)^(1/(2010-2000))-1 -> 0.013776822 | N37: =AK37/G37 -> 2.7471033 | O37: =AL37/H37 -> 2.6008955 | P37: =AM37/W37 -> 2.5518333 | Q37: =AN37/AC37 -> 2.504065 | R37: =AO37/AD37 -> 2.4806808 | S37: =AP37/AE37 -> 2.4686431 | T37: =AQ37/AF37 -> 2.4829932 | W37: ='OEP RAW Data'!C87+'OEP RAW Data'!D87 -> 3791 | X37: =W37+'OEP RAW Data'!E87 -> 3842 | Y37: =X37+'OEP RAW Data'!F87 -> 3916 | Z37: =Y37+'OEP RAW Data'!G87 -> 3997 | AA37: =Z37+'OEP RAW Data'!H87 -> 4138 | AB37: =AA37+'OEP RAW Data'!I87 -> 4263 | AC37: =AB37+'OEP RAW Data'!J87 -> 4305 | AD37: =AC37+'OEP RAW Data'!K87 -> 4348 | AE37: =AD37+'OEP RAW Data'!L87 -> 4385 | AF37: =AE37+'OEP RAW Data'!M87 -> 4410 | AK37: 5453 | AL37: 8713 | AM37: 9674 | AN37: 10780 | AO37: 10786 | AP37: 10825 | AQ37: 10950 | AT37: =AD37-W37 -> 557 | AU37: =(AD37/W37)^(1/7)-1 -> 0.019776753 | AW37: =(AD37/AB37)^(1/2)-1 -> 0.0099202989
A38: ='OEP RAW Data'!A88 -> Sandown | B38: 1 | C38: RC | D38: 23 | E38: C | F38: RPC | G38: 736 | H38: 1488 | I38: ='OEP RAW Data'!C88 -> 1777 | J38: ='OEP RAW Data'!N88 -> 2214 | K38: =(H38/G38)^(1/(1990-1980))-1 -> 0.072932774 | L38: =(I38/H38)^(1/(2000-1990))-1 -> 0.017907817 | M38: =(J38/I38)^(1/(2010-2000))-1 -> 0.022230933 | N38: =AK38/G38 -> 2.794837 | O38: =AL38/H38 -> 2.7284946 | P38: =AM38/W38 -> 2.8667781 | Q38: =AN38/AC38 -> 2.7795572 | R38: =AO38/AD38 -> 2.7529029 | S38: =AP38/AE38 -> 2.7546211 | T38: =AQ38/AF38 -> 2.7439415 | W38: ='OEP RAW Data'!C88+'OEP RAW Data'!D88 -> 1794 | X38: =W38+'OEP RAW Data'!E88 -> 1855 | Y38: =X38+'OEP RAW Data'!F88 -> 1925 | Z38: =Y38+'OEP RAW Data'!G88 -> 1978 | AA38: =Z38+'OEP RAW Data'!H88 -> 2051 | AB38: =AA38+'OEP RAW Data'!I88 -> 2094 | AC38: =AB38+'OEP RAW Data'!J88 -> 2123 | AD38: =AC38+'OEP RAW Data'!K88 -> 2153 | AE38: =AD38+'OEP RAW Data'!L88 -> 2164 | AF38: =AE38+'OEP RAW Data'!M88 -> 2187 | AK38: 2057 | AL38: 4060 | AM38: 5143 | AN38: 5901 | AO38: 5927 | AP38: 5961 | AQ38: 6001 | AT38: =AD38-W38 -> 359 | AU38: =(AD38/W38)^(1/7)-1 -> 0.026401718 | AW38: =(AD38/AB38)^(1/2)-1 -> 0.01399001
A39: ='OEP RAW Data'!A89 -> CEDS Central Towns Totals: | B39: 0 | E39: CT | G39: =SUM(G22:G38) -> 17428 | H39: =SUM(H22:H38) -> 27960 | I39: ='OEP RAW Data'!C89 -> 32909 | J39: ='OEP RAW Data'!N89 -> 38322 | K39: =(H39/G39)^(1/(1990-1980))-1 -> 0.048404706 | L39: =(I39/H39)^(1/(2000-1990))-1 -> 0.016430648 | M39: =(J39/I39)^(1/(2010-2000))-1 -> 0.01534433 | N39: =AK39/G39 -> 2.9021689 | O39: =AL39/H39 -> 2.6271459 | P39: =AM39/W39 -> 2.56577 | Q39: =AN39/AC39 -> 2.5426546 | R39: =AO39/AD39 -> 2.5194357 | S39: =AP39/AE39 -> 2.5078996 | T39: =AQ39/AF39 -> 2.5133871 | W39: ='OEP RAW Data'!C89+'OEP RAW Data'!D89 -> 33830 | X39: =W39+'OEP RAW Data'!E89 -> 34499 | Y39: =X39+'OEP RAW Data'!F89 -> 35153 | Z39: =Y39+'OEP RAW Data'!G89 -> 35833 | AA39: =Z39+'OEP RAW Data'!H89 -> 36605 | AB39: =AA39+'OEP RAW Data'!I89 -> 37277 | AC39: =AB39+'OEP RAW Data'!J89 -> 37663 | AD39: =AC39+'OEP RAW Data'!K89 -> 37997 | AE39: =AD39+'OEP RAW Data'!L89 -> 38230 | AF39: =AE39+'OEP RAW Data'!M89 -> 38470 | AK39: =SUM(AK22:AK38) -> 50579 | AL39: =SUM(AL22:AL38) -> 73455 | AM39: =SUM(AM22:AM38) -> 86800 | AN39: 95764 | AO39: =SUM(AO22:AO38) -> 95731 | AP39: =SUM(AP22:AP38) -> 95877 | AQ39: 96690 | AT39: =AD39-W39 -> 4167 | AU39: =(AD39/W39)^(1/7)-1 -> 0.016732623 | AW39: =(AD39/AB39)^(1/2)-1 -> 0.0096112415
A40: ='OEP RAW Data'!A90 -> Derry | B40: 1 | C40: RC | D40: 22 | E40: W | F40: SNHPC | G40: 7068 | H40: 11869 | I40: ='OEP RAW Data'!C90 -> 12735 | J40: ='OEP RAW Data'!N90 -> 13277 | K40: =(H40/G40)^(1/(1990-1980))-1 -> 0.053202203 | L40: =(I40/H40)^(1/(2000-1990))-1 -> 0.0070672711 | M40: =(J40/I40)^(1/(2010-2000))-1 -> 0.0041766085 | N40: =AK40/G40 -> 2.6704867 | O40: =AL40/H40 -> 2.4941444 | P40: =AM40/W40 -> 2.6496106 | Q40: =AN40/AC40 -> 2.5973261 | R40: =AO40/AD40 -> 2.5768535 | S40: =AP40/AE40 -> 2.554048 | T40: =AQ40/AF40 -> 2.5712145 | W40: ='OEP RAW Data'!C90+'OEP RAW Data'!D90 -> 12840 | X40: =W40+'OEP RAW Data'!E90 -> 12885 | Y40: =X40+'OEP RAW Data'!F90 -> 12940 | Z40: =Y40+'OEP RAW Data'!G90 -> 13006 | AA40: =Z40+'OEP RAW Data'!H90 -> 13097 | AB40: =AA40+'OEP RAW Data'!I90 -> 13174 | AC40: =AB40+'OEP RAW Data'!J90 -> 13239 | AD40: =AC40+'OEP RAW Data'!K90 -> 13272 | AE40: =AD40+'OEP RAW Data'!L90 -> 13340 | AF40: =AE40+'OEP RAW Data'!M90 -> 13347 | AK40: 18875 | AL40: 29603 | AM40: 34021 | AN40: 34386 | AO40: 34200 | AP40: 34071 | AQ40: 34318 | AT40: =AD40-W40 -> 432 | AU40: =(AD40/W40)^(1/7)-1 -> 0.0047385135 | AW40: =(AD40/AB40)^(1/2)-1 -> 0.0037125559
...

Sheet B5_NHA data 2010
A1: 2010 Data
A2: ** CEDS SUBREGION averages are weighted averages.
B4: All Homes | D4: Existing Homes | F4: New Homes
A5: Town/Area | B5: Median Purchase Price | C5: Sample Size | D5: Median Purchase Price | E5: Sample Size | F5: Median Purchase Price | G5: Sample Size
A6: East Kingston | B6: 303500 | C6: 33 | D6: 303500 | E6: 25 | F6: 302000 | G6: 8
A7: Exeter | B7: 262500 | C7: 142 | D7: 247000 | E7: 125 | F7: 305000 | G7: 17
A8: Greenland | B8: 375000 | C8: 35 | D8: 375000 | E8: 25 | F8: 365750 | G8: 10
A9: Hampton | B9: 284900 | C9: 140 | D9: 284900 | E9: 131 | F9: 304900 | G9: 9
A10: Hampton Falls | B10: 380000 | C10: 34 | D10: 380000 | E10: 32 | F10: 285000 | G10: 2
A11: Kensington | B11: 300000 | C11: 11 | D11: 300000 | E11: 11 | F11: n/a | G11: n/a
A12: New Castle | B12: 825000 | C12: 11 | D12: 825000 | E12: 11 | F12: n/a | G12: n/a
A13: Newfields | B13: 395700 | C13: 10 | D13: 395700 | E13: 10 | F13: n/a | G13: n/a
A14: Newington | B14: 459000 | C14: 7 | D14: 459000 | E14: 7 | F14: n/a | G14: n/a
A15: Newmarket | B15: 205000 | C15: 68 | D15: 201000 | E15: 66 | F15: 250000 | G15: 2
A16: North Hampton | B16: 506000 | C16: 39 | D16: 520000 | E16: 37 | F16: 369200 | G16: 2
A17: Portsmouth | B17: 319533 | C17: 201 | D17: 319900 | E17: 180 | F17: 289900 | G17: 21
A18: Rye | B18: 555000 | C18: 53 | D18: 555000 | E18: 53 | F18: n/a | G18: n/a
A19: Seabrook | B19: 339480 | C19: 35 | D19: 253000 | E19: 19 | F19: 364775 | G19: 16
A20: South Hampton | B20: 269000 | C20: 3 | D20: 200000 | E20: 2 | F20: 0 | G20: 1
A21: Stratham | B21: 300000 | C21: 96 | D21: 299900 | E21: 90 | F21: 342500 | G21: 6
A22: CEDS Eastern Towns | B22: =(B6*C6+B7*C7+B8*C8+B9*C9+B10*C10+B11*C11+B12*C12+B13*C13+B14*C14+B15*C15+B16*C16+B17*C17+B18*C18+B19*C19+B20*C20+B21*C21)/C22 -> 328508.1 | C22: =SUM(C6:C21) -> 918 | D22: =(D6*E6+D7*E7+D8*E8+D9*E9+D10*E10+D11*E11+D12*E12+D13*E13+D14*E14+D15*E15+D16*E16+D17*E17+D18*E18+D19*E19+D20*E20+D21*E21)/E22 -> 325928.88 | E22: =SUM(E6:E21) -> 824 | F22: =(F6*G6+F7*G7+F8*G8+F9*G9+F15*G15+F16*G16+F17*G17+F19*G19+F20*G20+F21*G21)/G22 -> 310854.26 | G22: =SUM(G6:G21) -> 94
A23: Atkinson | B23: 250000 | C23: 74 | D23: 249900 | E23: 70 | F23: 255000 | G23: 4
A24: Auburn | B24: 288000 | C24: 30 | D24: 262000 | E24: 24 | F24: 395000 | G24: 6
A25: Brentwood | B25: 299730 | C25: 39 | D25: 299900 | E25: 29 | F25: 269900 | G25: 10
A26: Candia | B26: 246000 | C26: 31 | D26: 238500 | E26: 30 | F26: 0 | G26: 1
A27: Chester | B27: 279900 | C27: 36 | D27: 290000 | E27: 31 | F27: 255400 | G27: 5
A28: Danville | B28: 230000 | C28: 38 | D28: 209000 | E28: 31 | F28: 270900 | G28: 7
A29: Deerfield | B29: 235000 | C29: 42 | D29: 324900 | E29: 35 | F29: 275000 | G29: 7
A30: Epping | B30: 245200 | C30: 60 | D30: 195000 | E30: 32 | F30: 248900 | G30: 28
A31: Fremont | B31: 230000 | C31: 45 | D31: 225000 | E31: 37 | F31: 259933 | G31: 8
A32: Hampstead | B32: 260000 | C32: 67 | D32: 257500 | E32: 57 | F32: 289559 | G32: 10
A33: Kingston | B33: 230000 | C33: 43 | D33: 220000 | E33: 39 | F33: 289900 | G33: 4
A34: Newton | B34: 230000 | C34: 33 | D34: 220000 | E34: 29 | F34: 315000 | G34: 4
... A36: Nottingham | B36: 240000 | C36: 59 | D36: 210000 | E36: 49 | F36: 263400 | G36: 10
A37: Plaistow | B37: 188000 | C37: 39 | D37: 188000 | E37: 39 | F37: n/a | G37: n/a
A38: Raymond | B38: 200000 | C38: 118 | D38: 192500 | E38: 99 | F38: 249000 | G38: 19
A39: Sandown | B39: 233500 | C39: 80 | D39: 218900 | E39: 52 | F39: 265000 | G39: 28
A40: CEDS Central Towns | B40: =(B23*C23+B24*C24+B25*C25+B26*C26+B27*C27+B28*C28+B29*C29+B30*C30+B31*C31+B32*C32+B33*C33+B34*C34+B35*C35+B36*C36+B37*C37+B38*C38+B39*C39)/C40 -> 237126.71 | C40: =SUM(C23:C39) -> 875 | D40: =(D23*E23+D24*E24+D25*E25+D26*E26+D27*E27+D28*E28+D29*E29+D30*E30+D31*E31+D32*E32+D33*E33+D34*E34+D35*E35+D36*E36+D37*E37+D38*E38+D39*E39)/E40 -> 231004.72 | E40: =SUM(E23:E39) -> 720 | F40: =(F23*G23+F24*G24+F25*G25+F26*G26+F27*G27+F28*G28+F29*G29+F30*G30+F31*G31+F32*G32+F33*G33+F34*G34+F35*G35+F36*G36+F38*G38+F39*G39)/G40 -> 265830.67 | G40: =SUM(G23:G39) -> 155
A41: Derry | B41: 190000 | C41: 255 | D41: 189900 | E41: 240 | F41: 239900 | G41: 15
A42: Hudson | B42: 245000 | C42: 205 | D42: 235700 | E42: 175 | F42: 300933 | G42: 30
...

Sheet B7 Forclosure Data FOR PRiNT
A1: Table B-7: Foreclosure Data | R1: 2012 CEDS Update
K2: Year-to-Year Change
A3: Town/Area | B3: 2005 | C3: 2006 | D3: 2007 | E3: 2008 | F3: 2009 | G3: 2010 | H3: 2011 | I3: 2012 | J3: 2013 | K3: 2005-2006 | L3: 2006-2007 | M3: 2007-2008 | N3: 2008-2009 | O3: 2009-2010 | P3: 2008 | Q3: 2009 | R3: 2010 *
A4: East Kingston | B4: 0 | C4: 4 | D4: 2 | E4: 9 | F4: 7 | G4: 8 | K4: =C4-B4 -> 4 | L4: =D4-C4 -> -2 | M4: =E4-D4 -> 7 | N4: =F4-E4 -> -2 | O4: =G4-F4 -> 1 | P4: =E4/'B1 Housing Units'!AE5 -> 0.010250569 | Q4: =F4/'B1 Housing Units'!AF5 -> 0.0079275198 | R4: =G4/'B1 Housing Units'!J5 -> 0.0088202867
A5: Exeter | B5: 3 | C5: 8 | D5: 14 | E5: 38 | F5: 21 | G5: 25 | K5: =C5-B5 -> 5 | L5: =D5-C5 -> 6 | M5: =E5-D5 -> 24 | N5: =F5-E5 -> -17 | O5: =G5-F5 -> 4 | P5: =E5/'B1 Housing Units'!AE6 -> 0.0056346382 | Q5: =F5/'B1 Housing Units'!AF6 -> 0.0031106503 | R5: =G5/'B1 Housing Units'!J6 -> 0.0038485222
A6: Greenland | B6: 1 | C6: 1 | D6: 1 | E6: 4 | F6: 6 | G6: 6 | K6: =C6-B6 -> 0 | L6: =D6-C6 -> 0 | M6: =E6-D6 -> 3 | N6: =F6-E6 -> 2 | O6: =G6-F6 -> 0 | P6: =E6/'B1 Housing Units'!AE7 -> 0.0028715004 | Q6: =F6/'B1 Housing Units'!AF7 -> 0.0042613636 | R6: =G6/'B1 Housing Units'!J7 -> 0.0041580042
A7: Hampton | B7: 3 | C7: 12 | D7: 22 | E7: 35 | F7: 32 | G7: 46 | K7: =C7-B7 -> 9 | L7: =D7-C7 -> 10 | M7: =E7-D7 -> 13 | N7: =F7-E7 -> -3 | O7: =G7-F7 -> 14 | P7: =E7/'B1 Housing Units'!AE8 -> 0.00353714 | Q7: =F7/'B1 Housing Units'!AF8 -> 0.0032287357 | R7: =G7/'B1 Housing Units'!J8 -> 0.0046366294
A8: Hampton Falls | B8: 1 | C8: 0 | D8: 5 | E8: 4 | F8: 3 | G8: 3 | K8: =C8-B8 -> -1 | L8: =D8-C8 -> 5 | M8: =E8-D8 -> -1 | N8: =F8-E8 -> -1 | O8: =G8-F8 -> 0 | P8: =E8/'B1 Housing Units'!AE9 -> 0.0046948357 | Q8: =F8/'B1 Housing Units'!AF9 -> 0.0035087719 | R8: =G8/'B1 Housing Units'!J9 -> 0.0033333333
A9: Kensington | B9: 1 | C9: 0 | D9: 4 | E9: 4 | F9: 3 | G9: 8 | K9: =C9-B9 -> -1 | L9: =D9-C9 -> 4 | M9: =E9-D9 -> 0 | N9: =F9-E9 -> -1 | O9: =G9-F9 -> 5 | P9: =E9/'B1 Housing Units'!AE10 -> 0.0051282051 | Q9: =F9/'B1 Housing Units'!AF10 -> 0.0038461538 | R9: =G9/'B1 Housing Units'!J10 -> 0.0099255583
A10: New Castle | B10: 0 | C10: 0 | D10: 1 | E10: 0 | F10: 0 | G10: 0 | K10: =C10-B10 -> 0 | L10: =D10-C10 -> 1 | M10: =E10-D10 -> -1 | N10: =F10-E10 -> 0 | O10: =G10-F10 -> 0 | P10: =E10/'B1 Housing Units'!AE11 -> 0 | Q10: =F10/'B1 Housing Units'!AF11 -> 0 | R10: =G10/'B1 Housing Units'!J11 -> 0
A11: Newfields | B11: 0 | C11: 1 | D11: 1 | E11: 2 | F11: 1 | G11: 0 | K11: =C11-B11 -> 1 | L11: =D11-C11 -> 0 | M11: =E11-D11 -> 1 | N11: =F11-E11 -> -1 | O11: =G11-F11 -> -1 | P11: =E11/'B1 Housing Units'!AE12 -> 0.0033500838 | Q11: =F11/'B1 Housing Units'!AF12 -> 0.0016666667 | R11: =G11/'B1 Housing Units'!J12 -> 0
