Workbook
Name _Jen1: 'B1 Housing Units'!#REF!
Name _Jen1: 'B1 Housing Units'!#REF!
Name _Jen1: 'B1 Housing Units'!#REF!
Name _Jen1: 'B1 Housing Units'!#REF!
Name _Jen1: 'B1 Housing Units'!#REF!
Name _Jen1: 'B1 Housing Units'!#REF!
Name _Jen1: 'B1 Housing Units'!#REF!
Name _Jen1: 'B1 Housing Units'!#REF!
Name _Jen1: 'B1 Housing Units'!#REF!
Name _Jen1: 'B1 Housing Units'!#REF!
Name _Jen1: 'B1 Housing Units'!#REF!
Name _Jen1: 'B1 Housing Units'!#REF!
Name _Jen1: 'B1 Housing Units'!#REF!
Name _Jen1: 'B1 Housing Units'!#REF!
Name _Jen1: 'B1 Housing Units'!#REF!
Name _Jen1: 'B1 Housing Units'!#REF!
Name _Jen1: 'B1 Housing Units'!#REF!
Name _Jen1: 'B1 Housing Units'!#REF!
Name _Jen1: 'B1 Housing Units'!#REF!
Name _Jen1: 'B1 Housing Units'!#REF!
Name _Jen2: 'B1 Housing Units'!#REF!
Name _Jen2: 'B1 Housing Units'!#REF!
Name _Jen2: 'B1 Housing Units'!#REF!
Name _Jen2: 'B1 Housing Units'!#REF!
Name _Jen2: 'B1 Housing Units'!#REF!
Name _Jen2: 'B1 Housing Units'!#REF!
Name _Jen2: 'B1 Housing Units'!#REF!
Name _Jen2: 'B1 Housing Units'!#REF!
Name _Jen2: 'B1 Housing Units'!#REF!
Name _Jen2: 'B1 Housing Units'!#REF!
Name _Jen2: 'B1 Housing Units'!#REF!
Name _Jen2: 'B1 Housing Units'!#REF!
Name _Jen2: 'B1 Housing Units'!#REF!
Name _Jen2: 'B1 Housing Units'!#REF!
Name _Jen2: 'B1 Housing Units'!#REF!
Name _Jen2: 'B1 Housing Units'!#REF!
Name _Jen2: 'B1 Housing Units'!#REF!
Name _Jen2: 'B1 Housing Units'!#REF!
Name _Jen2: 'B1 Housing Units'!#REF!
Name _Jen2: 'B1 Housing Units'!#REF!
Name _Key1: 'B1 Housing Units'!#REF!
Name _Key1: #REF!
Name _Key1: 'B1 Housing Units'!#REF!
Name _Key1: 'B1 Housing Units'!#REF!
Name _Key1: 'B1 Housing Units'!#REF!
Name _Key1: 'B1 Housing Units'!#REF!
Name _Key1: 'B1 Housing Units'!#REF!
Name _Key1: 'B1 Housing Units'!#REF!
Name _Key1: 'B1 Housing Units'!#REF!
Name _Key1: 'B1 Housing Units'!#REF!
Name _Key1: 'B1 Housing Units'!#REF!
Name _Key1: 'B1 Housing Units'!#REF!
Name _Key1: 'B1 Housing Units'!#REF!
Name _Key1: 'B1 Housing Units'!#REF!
Name _Key1: 'B1 Housing Units'!#REF!
Name _Key1: 'B1 Housing Units'!#REF!
Name _Key1: 'B1 Housing Units'!#REF!
Name _Key1: 'B1 Housing Units'!#REF!
Name _Key1: 'B1 Housing Units'!#REF!
Name _Key1: 'B1 Housing Units'!#REF!

Sheet DIRECTIONS
A1: When filling in data, be sure not to override any existing formulas.
A3: FOR 2017 CEDS Update:
A4: TAB - B5 Purchase Prices - Towns
A5: DO NOTHING ON THIS TAB!
A8: Wait for FULL YEAR 2016 data.
A10: TAB - B5_NHA data 2016
A11: Data entry in Columns B-G -please wait until full year data is available.

Sheet OEP RAW Data
A1: ENTER DATA in ROSE SHADED AREA BELOW | C1: OEP updates its housing data by giving the NET CHANGE in units. In order to get the Housing Estimates (Table B-1), you have to add the # of permit in this table to the previous year's housing stock in Table B-1. Enter raw data in rose shaded area, below.
A4: Total Housing for Towns within Rockinham County RAW DATA
D5: Residential Permits, net change of units
A6: town | B6: county | C6: 2000 Census | D6: 2000 | E6: 2001 | F6: 2002 | G6: 2003 | H6: 2004 | I6: 2005 | J6: 2006 | K6: 2007 | L6: 2008 | M6: 2009 | N6: 2010 Census | O6: 2010 | P6: 2011
A7: Atkinson | B7: RC | C7: 2431 | D7: 76 | E7: 88 | F7: 25 | G7: 24 | H7: 6 | I7: 18 | J7: 6 | K7: 8 | L7: 3 | M7: 3 | N7: 2788 | O7: 6755 | P7: 6741
A8: Auburn | B8: RC | C8: 1622 | D8: 42 | E8: 32 | F8: 29 | G8: 44 | H8: 44 | I8: 0 | J8: 11 | K8: 10 | L8: 6 | M8: 5 | N8: 1814 | O8: 4956 | P8: 4974
A9: Brentwood | B9: RC | C9: 920 | D9: 61 | E9: 88 | F9: 69 | G9: 44 | H9: 39 | I9: 17 | J9: 29 | K9: 13 | L9: 14 | M9: 18 | N9: 1350 | O9: 4489 | P9: 4497
A10: Candia | B10: RC | C10: 1384 | D10: 33 | E10: 33 | F10: 7 | G10: 12 | H10: 7 | I10: 13 | J10: 18 | K10: 5 | L10: 7 | M10: -1 | N10: 1494 | O10: 3911 | P10: 3913
A11: Chester | B11: RC | C11: 1247 | D11: 91 | E11: 79 | F11: 47 | G11: 29 | H11: 34 | I11: 10 | J11: 18 | K11: 8 | L11: 5 | M11: 5 | N11: 1596 | O11: 4771 | P11: 4762
A12: Danville | B12: RC | C12: 1479 | D12: 25 | E12: 31 | F12: 53 | G12: 33 | H12: 41 | I12: 4 | J12: 5 | K12: 16 | L12: 0 | M12: 9 | N12: 1684 | O12: 4389 | P12: 4424
A13: Deerfield | B13: RC | C13: 1406 | D13: 81 | E13: 58 | F13: 30 | G13: 18 | H13: 51 | I13: 43 | J13: 28 | K13: 19 | L13: 11 | M13: 9 | N13: 1743 | O13: 4282 | P13: 4308
A14: Derry | B14: RC | C14: 12735 | D14: 105 | E14: 45 | F14: 55 | G14: 66 | H14: 91 | I14: 77 | J14: 65 | K14: 33 | L14: 68 | M14: 7 | N14: 13277 | O14: 33129 | P14: 33008
A15: East Kingston | B15: RC | C15: 648 | D15: 12 | E15: 13 | F15: 36 | G15: 34 | H15: 52 | I15: 36 | J15: 22 | K15: 18 | L15: 7 | M15: 5 | N15: 907 | O15: 2358 | P15: 2363
A16: Epping | B16: RC | C16: 2215 | D16: 99 | E16: 16 | F16: 40 | G16: 26 | H16: 43 | I16: 60 | J16: 26 | K16: 40 | L16: 61 | M16: 45 | N16: 2723 | O16: 6415 | P16: 5601
A17: Exeter | B17: RC | C17: 6107 | D17: 40 | E17: 26 | F17: 102 | G17: 73 | H17: 72 | I17: 83 | J17: 60 | K17: 55 | L17: 126 | M17: 7 | N17: 6496 | O17: 14314 | P17: 14354
A18: Fremont | B18: RC | C18: 1201 | D18: 61 | E18: 26 | F18: 30 | G18: 54 | H18: 52 | I18: 55 | J18: 10 | K18: 18 | L18: 11 | M18: 8 | N18: 1573 | O18: 4285 | P18: 4316
... A48: Windham | B48: RC | C48: 3906 | D48: 259 | E48: 166 | F48: 103 | G48: 114 | H48: 117 | I48: 72 | J48: 84 | K48: 94 | L48: 50 | M48: 35 | N48: 5164 | O48: 13600 | P48: 13756
A49: Hillsborough County Totals: | C49: 149961 | D49: 1868 | E49: 1768 | F49: 2429 | G49: 2206 | H49: 2142 | I49: 1790 | J49: 1358 | K49: 1048 | L49: 685 | M49: 486 | N49: 166053 | O49: =SUM(O23,O26,O28:O29,O38) -> 157712 | P49: =SUM(P23,P26,P28:P29,P38) -> 157503
A50: Rockingham County Totals: | C50: =SUM(C7:C22,C24:C25,C27,C30:C37,C39:C48) -> 113023 | D50: 2064 | E50: 1576 | F50: 1579 | G50: 2071 | H50: 2019 | I50: 1583 | J50: 944 | K50: 733 | L50: 669 | M50: 432 | N50: 126709 | O50: 295123 | P50: 295608
A51: State of NH Totals: | C51: 546524 | D51: 7544 | E51: 7079 | F51: 8898 | G51: 9263 | H51: 9070 | I51: 7702 | J51: 5728 | K51: 4373 | L51: 3078 | M51: 2160 | N51: 614754 | O51: 1317208 | P51: 1318000
A53: Organize by Region
A55: =A15 -> East Kingston | C55: =C15 -> 648 | D55: =D15 -> 12 | E55: =E15 -> 13 | F55: =F15 -> 36 | G55: =G15 -> 34 | H55: =H15 -> 52 | I55: =I15 -> 36 | J55: =J15 -> 22 | ... P55: =P15 -> 2363
A56: =A17 -> Exeter | C56: =C17 -> 6107 | D56: =D17 -> 40 | E56: =E17 -> 26 | F56: =F17 -> 102 | G56: =G17 -> 73 | H56: =H17 -> 72 | I56: =I17 -> 83 | J56: =J17 -> 60 | ... P56: =P17 -> 14354
A57: =A19 -> Greenland | C57: =C19 -> 1244 | D57: =D19 -> 28 | E57: =E19 -> 18 | F57: =F19 -> 22 | G57: =G19 -> 15 | H57: =H19 -> 8 | I57: =I19 -> 15 | J57: =J19 -> 14 | ... P57: =P19 -> 3586
A58: =A21 -> Hampton | C58: =C21 -> 9349 | D58: =D21 -> 52 | E58: =E21 -> 43 | F58: =F21 -> 122 | G58: =G21 -> 106 | H58: =H21 -> 108 | I58: =I21 -> 54 | J58: =J21 -> 36 | ... P58: =P21 -> 14868
A59: =A22 -> Hampton Falls | C59: =C22 -> 729 | D59: =D22 -> 13 | E59: =E22 -> 11 | F59: =F22 -> 18 | G59: =G22 -> 11 | H59: =H22 -> 18 | I59: =I22 -> 16 | J59: =J22 -> 23 | ... P59: =P22 -> 2235
A60: =A24 -> Kensington | C60: =C24 -> 672 | D60: =D24 -> 12 | E60: =E24 -> 22 | F60: =F24 -> 10 | G60: =G24 -> 20 | H60: =H24 -> 10 | I60: =I24 -> 15 | J60: =J24 -> 8 | ... P60: =P24 -> 2121
A61: =A30 -> New Castle | C61: =C30 -> 488 | D61: =D30 -> 3 | E61: =E30 -> 2 | F61: =F30 -> 5 | G61: =G30 -> 12 | H61: =H30 -> 1 | I61: =I30 -> 1 | J61: =J30 -> 4 | ... P61: =P30 -> 967
A62: =A31 -> Newfields | C62: =C31 -> 532 | D62: =D31 -> 8 | E62: =E31 -> 8 | F62: =F31 -> 10 | G62: =G31 -> 8 | H62: =H31 -> 2 | I62: =I31 -> 8 | J62: =J31 -> 11 | ... P62: =P31 -> 1678
A63: =A32 -> Newington | C63: =C32 -> 305 | D63: =D32 -> 4 | E63: =E32 -> 3 | F63: =F32 -> 0 | G63: =G32 -> 1 | H63: =H32 -> 7 | I63: =I32 -> 1 | J63: =J32 -> 0 | ... P63: =P32 -> 753
A64: =A33 -> Newmarket | C64: =C33 -> 3457 | D64: =D33 -> 81 | E64: =E33 -> 117 | F64: =F33 -> 130 | G64: =G33 -> 179 | H64: =H33 -> 112 | I64: =I33 -> 86 | J64: =J33 -> 19 | ... P64: =P33 -> 8950
A65: =A35 -> North Hampton | C65: =C35 -> 1782 | D65: =D35 -> 57 | E65: =E35 -> 20 | F65: =F35 -> 17 | G65: =G35 -> 13 | H65: =H35 -> 15 | I65: =I35 -> 5 | J65: =J35 -> 8 | ... P65: =P35 -> 4324
A66: =A40 -> Portsmouth | C66: =C40 -> 10186 | D66: =D40 -> 38 | E66: =E40 -> 30 | F66: =F40 -> 41 | G66: =G40 -> 68 | H66: =H40 -> 55 | I66: =I40 -> 77 | J66: =J40 -> 21 | ... P66: =P40 -> 21206
A67: =A42 -> Rye | C67: =C42 -> 2645 | D67: =D42 -> 17 | E67: =E42 -> 8 | F67: =F42 -> 13 | G67: =G42 -> 6 | H67: =H42 -> 15 | I67: =I42 -> 11 | J67: =J42 -> 0 | ... P67: =P42 -> 5324
A68: =A45 -> Seabrook | C68: =C45 -> 4066 | D68: =D45 -> 93 | E68: =E45 -> 88 | F68: =F45 -> 48 | G68: =G45 -> 27 | H68: =H45 -> 36 | I68: =I45 -> 95 | J68: =J45 -> 0 | ... P68: =P45 -> 8697
A69: =A46 -> South Hampton | C69: =C46 -> 308 | D69: =D46 -> 5 | E69: =E46 -> 4 | F69: =F46 -> 4 | G69: =G46 -> 2 | H69: =H46 -> 6 | I69: =I46 -> 3 | J69: =J46 -> 2 | ... P69: =P46 -> 813
A70: =A47 -> Stratham | C70: =C47 -> 2371 | D70: =D47 -> 52 | E70: =E47 -> 39 | F70: =F47 -> 56 | G70: =G47 -> 79 | H70: =H47 -> 95 | I70: =I47 -> 50 | J70: =J47 -> 32 | ... P70: =P47 -> 7245
A71: CEDS Eastern Towns Totals: | C71: =SUM(C55:C70) -> 44889 | D71: =SUM(D55:D70) -> 515 | E71: =SUM(E55:E70) -> 452 | F71: =SUM(F55:F70) -> 634 | G71: =SUM(G55:G70) -> 654 | H71: =SUM(H55:H70) -> 612 | I71: =SUM(I55:I70) -> 556 | J71: =SUM(J55:J70) -> 260 | ... P71: =SUM(P55:P70) -> 99484
A72: =A7 -> Atkinson | C72: =C7 -> 2431 | D72: =D7 -> 76 | E72: =E7 -> 88 | F72: =F7 -> 25 | G72: =G7 -> 24 | H72: =H7 -> 6 | I72: =I7 -> 18 | J72: =J7 -> 6 | ... P72: =P7 -> 6741
A73: =A8 -> Auburn | C73: =C8 -> 1622 | D73: =D8 -> 42 | E73: =E8 -> 32 | F73: =F8 -> 29 | G73: =G8 -> 44 | H73: =H8 -> 44 | I73: =I8 -> 0 | J73: =J8 -> 11 | ... P73: =P8 -> 4974
A74: =A9 -> Brentwood | C74: =C9 -> 920 | D74: =D9 -> 61 | E74: =E9 -> 88 | F74: =F9 -> 69 | G74: =G9 -> 44 | H74: =H9 -> 39 | I74: =I9 -> 17 | J74: =J9 -> 29 | ... P74: =P9 -> 4497
A75: =A10 -> Candia | C75: =C10 -> 1384 | D75: =D10 -> 33 | E75: =E10 -> 33 | F75: =F10 -> 7 | G75: =G10 -> 12 | H75: =H10 -> 7 | I75: =I10 -> 13 | J75: =J10 -> 18 | ... P75: =P10 -> 3913
A76: =A11 -> Chester | C76: =C11 -> 1247 | D76: =D11 -> 91 | E76: =E11 -> 79 | F76: =F11 -> 47 | G76: =G11 -> 29 | H76: =H11 -> 34 | I76: =I11 -> 10 | J76: =J11 -> 18 | ... P76: =P11 -> 4762
A77: =A12 -> Danville | C77: =C12 -> 1479 | D77: =D12 -> 25 | E77: =E12 -> 31 | F77: =F12 -> 53 | G77: =G12 -> 33 | H77: =H12 -> 41 | I77: =I12 -> 4 | J77: =J12 -> 5 | ... P77: =P12 -> 4424
A78: =A13 -> Deerfield | C78: =C13 -> 1406 | D78: =D13 -> 81 | E78: =E13 -> 58 | F78: =F13 -> 30 | G78: =G13 -> 18 | H78: =H13 -> 51 | I78: =I13 -> 43 | J78: =J13 -> 28 | ... P78: =P13 -> 4308
A79: =A16 -> Epping | C79: =C16 -> 2215 | D79: =D16 -> 99 | E79: =E16 -> 16 | F79: =F16 -> 40 | G79: =G16 -> 26 | H79: =H16 -> 43 | I79: =I16 -> 60 | J79: =J16 -> 26 | ... P79: =P16 -> 5601
A80: =A18 -> Fremont | C80: =C18 -> 1201 | D80: =D18 -> 61 | E80: =E18 -> 26 | F80: =F18 -> 30 | G80: =G18 -> 54 | H80: =H18 -> 52 | I80: =I18 -> 55 | J80: =J18 -> 10 | ... P80: =P18 -> 4316
A81: =A20 -> Hampstead | C81: =C20 -> 3276 | D81: =D20 -> 30 | E81: =E20 -> 14 | F81: =F20 -> 43 | G81: =G20 -> 71 | H81: =H20 -> 34 | I81: =I20 -> 92 | J81: =J20 -> 66 | ... P81: =P20 -> 8526
A82: =A25 -> Kingston | C82: =C25 -> 2265 | D82: =D25 -> 85 | E82: =E25 -> 7 | F82: =F25 -> 18 | G82: =G25 -> 40 | H82: =H25 -> 24 | I82: =I25 -> 26 | J82: =J25 -> 20 | ... P82: =P25 -> 6010
A83: =A34 -> Newton | C83: =C34 -> 1552 | D83: =D34 -> 52 | E83: =E34 -> 11 | F83: =F34 -> 8 | G83: =G34 -> 7 | H83: =H34 -> 10 | I83: =I34 -> 40 | J83: =J34 -> 11 | ... P83: =P34 -> 4661
A84: =A36 -> Northwood | C84: =C36 -> 1905 | D84: =D36 -> 28 | E84: =E36 -> 17 | F84: =F36 -> 31 | G84: =G36 -> 65 | H84: =H36 -> 70 | I84: =I36 -> 69 | J84: =J36 -> 29 | ... P84: =P36 -> 4235
A85: =A37 -> Nottingham | C85: =C37 -> 1592 | D85: =D37 -> 42 | E85: =E37 -> 41 | F85: =F37 -> 55 | G85: =G37 -> 74 | H85: =H37 -> 103 | I85: =I37 -> 51 | J85: =J37 -> 35 | ... P85: =P37 -> 4813
A86: =A39 -> Plaistow | C86: =C39 -> 2927 | D86: =D39 -> 17 | E86: =E39 -> 16 | F86: =F39 -> 25 | G86: =G39 -> 5 | H86: =H39 -> 0 | I86: =I39 -> 6 | J86: =J39 -> 3 | ... P86: =P39 -> 7584
A87: =A41 -> Raymond | C87: =C41 -> 3710 | D87: =D41 -> 81 | E87: =E41 -> 51 | F87: =F41 -> 74 | G87: =G41 -> 81 | H87: =H41 -> 141 | I87: =I41 -> 125 | J87: =J41 -> 42 | ... P87: =P41 -> 10185
A88: =A44 -> Sandown | C88: =C44 -> 1777 | D88: =D44 -> 17 | E88: =E44 -> 61 | F88: =F44 -> 70 | G88: =G44 -> 53 | H88: =H44 -> 73 | I88: =I44 -> 43 | J88: =J44 -> 29 | ... P88: =P44 -> 6076
A89: CEDS Central Towns Totals: | C89: =SUM(C72:C88) -> 32909 | D89: =SUM(D72:D88) -> 921 | E89: =SUM(E72:E88) -> 669 | F89: =SUM(F72:F88) -> 654 | G89: =SUM(G72:G88) -> 680 | H89: =SUM(H72:H88) -> 772 | I89: =SUM(I72:I88) -> 672 | J89: =SUM(J72:J88) -> 386 | ... P89: =SUM(P72:P88) -> 95626
A90: =A14 -> Derry | C90: =C14 -> 12735 | D90: =D14 -> 105 | E90: =E14 -> 45 | F90: =F14 -> 55 | G90: =G14 -> 66 | H90: =H14 -> 91 | I90: =I14 -> 77 | J90: =J14 -> 65 | ... P90: =P14 -> 33008
A91: =A23 -> Hudson | B91: =B23 -> HC | C91: =C23 -> 8165 | D91: =D23 -> 48 | E91: =E23 -> 118 | F91: =F23 -> 214 | G91: =G23 -> 177 | H91: =H23 -> 140 | ... P91: =P23 -> 24514
A92: =A26 -> Litchfield | B92: =B26 -> HC | C92: =C26 -> 2389 | D92: =D26 -> 71 | E92: =E26 -> 17 | F92: =F26 -> 64 | G92: =G26 -> 66 | H92: =H26 -> 66 | ... P92: =P26 -> 8275
A93: =A27 -> Londonderry | C93: =C27 -> 7718 | D93: =D27 -> 146 | E93: =E27 -> 108 | F93: =F27 -> 40 | G93: =G27 -> 133 | H93: =H27 -> 175 | I93: =I27 -> 85 | J93: =J27 -> 91 | ... P93: =P27 -> 24132
A94: =A28 -> Merrimack | B94: =B28 -> HC | C94: =C28 -> 8959 | D94: =D28 -> 185 | E94: =E28 -> 239 | F94: =F28 -> 72 | G94: =G28 -> 97 | H94: =H28 -> 97 | ... P94: =P28 -> 25454
A95: =A29 -> Nashua | B95: =B29 -> HC | C95: =C29 -> 35387 | D95: =D29 -> 195 | E95: =E29 -> 155 | F95: =F29 -> 114 | G95: =G29 -> 338 | H95: =H29 -> 173 | ... P95: =P29 -> 86366
A96: =A38 -> Pelham | B96: =B38 -> HC | C96: =C38 -> 3740 | D96: =D38 -> 112 | E96: =E38 -> 115 | F96: =F38 -> 158 | G96: =G38 -> 119 | H96: =H38 -> 83 | ... P96: =P38 -> 12894
A97: =A43 -> Salem | C97: =C43 -> 10866 | D97: =D43 -> 118 | E97: =E43 -> 136 | F97: =F43 -> 93 | G97: =G43 -> 424 | H97: =H43 -> 252 | I97: =I43 -> 121 | J97: =J43 -> 58 | ... P97: =P43 -> 28702
A98: =A48 -> Windham | C98: =C48 -> 3906 | D98: =D48 -> 259 | E98: =E48 -> 166 | F98: =F48 -> 103 | G98: =G48 -> 114 | H98: =H48 -> 117 | I98: =I48 -> 72 | J98: =J48 -> 84 | ... P98: =P48 -> 13756
A99: CEDS Western Towns Totals: | C99: =SUM(C90:C98) -> 93865 | D99: =SUM(D90:D98) -> 1239 | E99: =SUM(E90:E98) -> 1099 | F99: =SUM(F90:F98) -> 913 | G99: =SUM(G90:G98) -> 1534 | H99: =SUM(H90:H98) -> 1194 | I99: =SUM(I90:I98) -> 929 | J99: =SUM(J90:J98) -> 724 | ... P99: =SUM(P90:P98) -> 257101
A100: REDC CEDS Region Totals: | C100: =SUM(C99,C89,C71) -> 171663 | D100: =SUM(D99,D89,D71) -> 2675 | E100: =SUM(E99,E89,E71) -> 2220 | F100: =SUM(F99,F89,F71) -> 2201 | G100: =SUM(G99,G89,G71) -> 2868 | H100: =SUM(H99,H89,H71) -> 2578 | I100: =SUM(I99,I89,I71) -> 2157 | J100: =SUM(J99,J89,J71) -> 1370 | ... P100: =SUM(P99,P89,P71) -> 452211
A101: =A49 -> Hillsborough County Totals: | C101: =C49 -> 149961 | D101: =D49 -> 1868 | E101: =E49 -> 1768 | F101: =F49 -> 2429 | G101: =G49 -> 2206 | H101: =H49 -> 2142 | I101: =I49 -> 1790 | J101: =J49 -> 1358 | ... P101: =P49 -> 157503
A102: =A50 -> Rockingham County Totals: | C102: =C50 -> 113023 | D102: =D50 -> 2064 | E102: =E50 -> 1576 | F102: =F50 -> 1579 | G102: =G50 -> 2071 | H102: =H50 -> 2019 | I102: =I50 -> 1583 | J102: =J50 -> 944 | ... P102: =P50 -> 295608
A103: =A51 -> State of NH Totals: | C103: =C51 -> 546524 | D103: =D51 -> 7544 | E103: =E51 -> 7079 | F103: =F51 -> 8898 | G103: =G51 -> 9263 | H103: =H51 -> 9070 | I103: =I51 -> 7702 | J103: =J51 -> 5728 | ... P103: =P51 -> 1318000

Sheet B1 Housing Units
A1: Table B-1 Housing Units -- Census Counts and Housing Estimates | AF1: 2012 CEDS Update | AT1: USED IN 2009 CEDS UPDATE
B2: Hide these columns for final reporting. | G2: Housing Units | K2: Avg. Annual Growth Rate | N2: Avg P/unit, Census Housing | P2: Avg. Persons/Unit (NH OEP) | W2: NHOEP Housing Estimates | AK2: POPULATION FROM OEP ** COPY AND PASTE FROM TABLE A-population | AT2: Recent Unit Growth | AW2: 2-year annualized growth
B3: SORT FUNCTIONS | G3: (US Census counts--all units) | AK3: 1980 | AL3: 1990 | AM3: 2000 | AN3: 2006 | AO3: 2007 | AP3: 2008 | AQ3: 2009 | AR3: 2010 | AT3: 2000-2007 | AW3: 2005-2007
A4: TOWN/AREA | B4: muni | C4: county | D4: NECTA | E4: cedssub | F4: rpa | G4: 1980 | H4: 1990 | I4: 2000 | J4: 2010 | K4: '80-'90 | L4: '90-'00 | M4: '00-'10 | N4: 1980 | O4: 1990 | P4: 2000 | Q4: 2006 | R4: 2007 | S4: 2008 | T4: 2009 | U4: 2010 | V4: 2011 | W4: 2000 | X4: 2001 | Y4: 2002 | Z4: 2003 | AA4: 2004 | AB4: 2005 | AC4: 2006 | AD4: 2007 | AE4: 2008 | AF4: 2009 | AG4: 2010 | AH4: 2011 | AT4: Units | AU4: Avg. An. Gr.
A5: ='OEP RAW Data'!A55 -> East Kingston | B5: 1 | C5: RC | D5: 23 | E5: E | F5: RPC | G5: 362 | H5: 494 | I5: ='OEP RAW Data'!C55 -> 648 | J5: ='OEP RAW Data'!N55 -> 907 | K5: =(H5/G5)^(1/(1990-1980))-1 -> 0.031577445 | L5: =(I5/H5)^(1/(2000-1990))-1 -> 0.027507039 | M5: =(J5/I5)^(1/(2010-2000))-1 -> 0.034196892 | N5: =AK5/G5 -> 3.1353591 | O5: =AL5/H5 -> 2.7368421 | P5: =AM5/W5 -> 2.7030303 | Q5: =AN5/AC5 -> 2.5568581 | R5: =AO5/AD5 -> 2.5510907 | S5: =AP5/AE5 -> 2.5694761 | T5: =AQ5/AF5 -> 2.583239 | W5: ='OEP RAW Data'!C55+'OEP RAW Data'!D55 -> 660 | X5: =W5+'OEP RAW Data'!E55 -> 673 | Y5: =X5+'OEP RAW Data'!F55 -> 709 | Z5: =Y5+'OEP RAW Data'!G55 -> 743 | AA5: =Z5+'OEP RAW Data'!H55 -> 795 | AB5: =AA5+'OEP RAW Data'!I55 -> 831 | AC5: =AB5+'OEP RAW Data'!J55 -> 853 | AD5: =AC5+'OEP RAW Data'!K55 -> 871 | AE5: =AD5+'OEP RAW Data'!L55 -> 878 | AF5: =AE5+'OEP RAW Data'!M55 -> 883 | AK5: 1135 | AL5: 1352 | AM5: 1784 | AN5: 2181 | AO5: 2222 | AP5: 2256 | AQ5: 2281 | AT5: =AD5-W5 -> 211 | AU5: =(AD5/W5)^(1/7)-1 -> 0.040424577 | AW5: =(AD5/AB5)^(1/2)-1 -> 0.023784537
A6: ='OEP RAW Data'!A56 -> Exeter | B6: 1 | C6: RC | D6: 23 | E6: E | F6: RPC | G6: 4406 | H6: 5346 | I6: ='OEP RAW Data'!C56 -> 6107 | J6: ='OEP RAW Data'!N56 -> 6496 | K6: =(H6/G6)^(1/(1990-1980))-1 -> 0.01952633 | L6: =(I6/H6)^(1/(2000-1990))-1 -> 0.013397659 | M6: =(J6/I6)^(1/(2010-2000))-1 -> 0.0061942001 | N6: =AK6/G6 -> 2.5020427 | O6: =AL6/H6 -> 2.3346427 | P6: =AM6/W6 -> 2.2869693 | Q6: =AN6/AC6 -> 2.2146884 | R6: =AO6/AD6 -> 2.1959807 | S6: =AP6/AE6 -> 2.1496145 | T6: =AQ6/AF6 -> 2.1888609 | W6: ='OEP RAW Data'!C56+'OEP RAW Data'!D56 -> 6147 | X6: =W6+'OEP RAW Data'!E56 -> 6173 | Y6: =X6+'OEP RAW Data'!F56 -> 6275 | Z6: =Y6+'OEP RAW Data'!G56 -> 6348 | AA6: =Z6+'OEP RAW Data'!H56 -> 6420 | AB6: =AA6+'OEP RAW Data'!I56 -> 6503 | AC6: =AB6+'OEP RAW Data'!J56 -> 6563 | AD6: =AC6+'OEP RAW Data'!K56 -> 6618 | AE6: =AD6+'OEP RAW Data'!L56 -> 6744 | AF6: =AE6+'OEP RAW Data'!M56 -> 6751 | AK6: 11024 | AL6: 12481 | AM6: 14058 | AN6: 14535 | AO6: 14533 | AP6: 14497 | AQ6: 14777 | AT6: =AD6-W6 -> 471 | AU6: =(AD6/W6)^(1/7)-1 -> 0.010602823 | AW6: =(AD6/AB6)^(1/2)-1 -> 0.0088033236
A7: ='OEP RAW Data'!A57 -> Greenland | B7: 1 | C7: RC | D7: 24 | E7: E | F7: RPC | G7: 728 | H7: 1082 | I7: ='OEP RAW Data'!C57 -> 1244 | J7: ='OEP RAW Data'!N57 -> 1443 | K7: =(H7/G7)^(1/(1990-1980))-1 -> 0.040422147 | L7: =(I7/H7)^(1/(2000-1990))-1 -> 0.014049866 | M7: =(J7/I7)^(1/(2010-2000))-1 -> 0.014949877 | N7: =AK7/G7 -> 2.9244505 | O7: =AL7/H7 -> 2.5582255 | P7: =AM7/W7 -> 2.5220126 | Q7: =AN7/AC7 -> 2.4802053 | R7: =AO7/AD7 -> 2.4496741 | S7: =AP7/AE7 -> 2.4414932 | T7: =AQ7/AF7 -> 2.4417614 | W7: ='OEP RAW Data'!C57+'OEP RAW Data'!D57 -> 1272 | X7: =W7+'OEP RAW Data'!E57 -> 1290 | Y7: =X7+'OEP RAW Data'!F57 -> 1312 | Z7: =Y7+'OEP RAW Data'!G57 -> 1327 | AA7: =Z7+'OEP RAW Data'!H57 -> 1335 | AB7: =AA7+'OEP RAW Data'!I57 -> 1350 | AC7: =AB7+'OEP RAW Data'!J57 -> 1364 | AD7: =AC7+'OEP RAW Data'!K57 -> 1381 | AE7: =AD7+'OEP RAW Data'!L57 -> 1393 | AF7: =AE7+'OEP RAW Data'!M57 -> 1408 | AK7: 2129 | AL7: 2768 | AM7: 3208 | AN7: 3383 | AO7: 3383 | AP7: 3401 | AQ7: 3438 | AT7: =AD7-W7 -> 109 | AU7: =(AD7/W7)^(1/7)-1 -> 0.011814592 | AW7: =(AD7/AB7)^(1/2)-1 -> 0.011416315
A8: ='OEP RAW Data'!A58 -> Hampton | B8: 1 | C8: RC | D8: 24 | E8: E | F8: RPC | G8: 4437 | H8: 8599 | I8: ='OEP RAW Data'!C58 -> 9349 | J8: ='OEP RAW Data'!N58 -> 9921 | K8: =(H8/G8)^(1/(1990-1980))-1 -> 0.068404853 | L8: =(I8/H8)^(1/(2000-1990))-1 -> 0.0083974089 | M8: =(J8/I8)^(1/(2010-2000))-1 -> 0.0059561011 | N8: =AK8/G8 -> 2.3648862 | O8: =AL8/H8 -> 1.4278404 | P8: =AM8/W8 -> 1.5888735 | Q8: =AN8/AC8 -> 1.547923 | R8: =AO8/AD8 -> 1.538033 | S8: =AP8/AE8 -> 1.6202122 | T8: =AQ8/AF8 -> 1.5207345 | W8: ='OEP RAW Data'!C58+'OEP RAW Data'!D58 -> 9401 | X8: =W8+'OEP RAW Data'!E58 -> 9444 | Y8: =X8+'OEP RAW Data'!F58 -> 9566 | Z8: =Y8+'OEP RAW Data'!G58 -> 9672 | AA8: =Z8+'OEP RAW Data'!H58 -> 9780 | AB8: =AA8+'OEP RAW Data'!I58 -> 9834 | AC8: =AB8+'OEP RAW Data'!J58 -> 9870 | AD8: =AC8+'OEP RAW Data'!K58 -> 9873 | AE8: =AD8+'OEP RAW Data'!L58 -> 9895 | AF8: =AE8+'OEP RAW Data'!M58 -> 9911 | AK8: 10493 | AL8: 12278 | AM8: 14937 | AN8: 15278 | AO8: 15185 | AP8: 16032 | AQ8: 15072 | AT8: =AD8-W8 -> 472 | AU8: =(AD8/W8)^(1/7)-1 -> 0.0070227866 | AW8: =(AD8/AB8)^(1/2)-1 -> 0.0019809543
A9: ='OEP RAW Data'!A59 -> Hampton Falls | B9: 1 | C9: RC | D9: 23 | E9: E | F9: RPC | G9: 483 | H9: 591 | I9: ='OEP RAW Data'!C59 -> 729 | J9: ='OEP RAW Data'!N59 -> 900 | K9: =(H9/G9)^(1/(1990-1980))-1 -> 0.020384928 | L9: =(I9/H9)^(1/(2000-1990))-1 -> 0.021207521 | M9: =(J9/I9)^(1/(2010-2000))-1 -> 0.021295688 | N9: =AK9/G9 -> 2.8405797 | O9: =AL9/H9 -> 2.5431472 | P9: =AM9/W9 -> 2.5336927 | Q9: =AN9/AC9 -> 2.4457688 | R9: =AO9/AD9 -> 2.4557261 | S9: =AP9/AE9 -> 2.4471831 | T9: =AQ9/AF9 -> 2.4584795 | W9: ='OEP RAW Data'!C59+'OEP RAW Data'!D59 -> 742 | X9: =W9+'OEP RAW Data'!E59 -> 753 | Y9: =X9+'OEP RAW Data'!F59 -> 771 | Z9: =Y9+'OEP RAW Data'!G59 -> 782 | AA9: =Z9+'OEP RAW Data'!H59 -> 800 | AB9: =AA9+'OEP RAW Data'!I59 -> 816 | AC9: =AB9+'OEP RAW Data'!J59 -> 839 | AD9: =AC9+'OEP RAW Data'!K59 -> 847 | AE9: =AD9+'OEP RAW Data'!L59 -> 852 | AF9: =AE9+'OEP RAW Data'!M59 -> 855 | AK9: 1372 | AL9: 1503 | AM9: 1880 | AN9: 2052 | AO9: 2080 | AP9: 2085 | AQ9: 2102 | AT9: =AD9-W9 -> 105 | AU9: =(AD9/W9)^(1/7)-1 -> 0.019087226 | AW9: =(AD9/AB9)^(1/2)-1 -> 0.018818039
A10: ='OEP RAW Data'!A60 -> Kensington | B10: 1 | C10: RC | D10: 23 | E10: E | F10: RPC | G10: 450 | H10: 585 | I10: ='OEP RAW Data'!C60 -> 672 | J10: ='OEP RAW Data'!N60 -> 806 | K10: =(H10/G10)^(1/(1990-1980))-1 -> 0.026583631 | L10: =(I10/H10)^(1/(2000-1990))-1 -> 0.013961209 | M10: =(J10/I10)^(1/(2010-2000))-1 -> 0.018348849 | N10: =AK10/G10 -> 2.9377778 | O10: =AL10/H10 -> 2.7880342 | P10: =AM10/W10 -> 2.7675439 | Q10: =AN10/AC10 -> 2.716515 | R10: =AO10/AD10 -> 2.6911197 | S10: =AP10/AE10 -> 2.6897436 | T10: =AQ10/AF10 -> 2.7051282 | W10: ='OEP RAW Data'!C60+'OEP RAW Data'!D60 -> 684 | X10: =W10+'OEP RAW Data'!E60 -> 706 | Y10: =X10+'OEP RAW Data'!F60 -> 716 | Z10: =Y10+'OEP RAW Data'!G60 -> 736 | AA10: =Z10+'OEP RAW Data'!H60 -> 746 | AB10: =AA10+'OEP RAW Data'!I60 -> 761 | AC10: =AB10+'OEP RAW Data'!J60 -> 769 | AD10: =AC10+'OEP RAW Data'!K60 -> 777 | AE10: =AD10+'OEP RAW Data'!L60 -> 780 | AF10: =AE10+'OEP RAW Data'!M60 -> 780 | AK10: 1322 | AL10: 1631 | AM10: 1893 | AN10: 2089 | AO10: 2091 | AP10: 2098 | AQ10: 2110 | AT10: =AD10-W10 -> 93 | AU10: =(AD10/W10)^(1/7)-1 -> 0.018378622 | AW10: =(AD10/AB10)^(1/2)-1 -> 0.010457801
A11: ='OEP RAW Data'!A61 -> New Castle | B11: 1 | C11: RC | D11: 24 | E11: E | F11: RPC | G11: 357 | H11: 399 | I11: ='OEP RAW Data'!C61 -> 488 | J11: ='OEP RAW Data'!N61 -> 537 | K11: =(H11/G11)^(1/(1990-1980))-1 -> 0.011184649 | L11: =(I11/H11)^(1/(2000-1990))-1 -> 0.020339484 | M11: =(J11/I11)^(1/(2010-2000))-1 -> 0.0096141911 | N11: =AK11/G11 -> 2.6218487 | O11: =AL11/H11 -> 2.1052632 | P11: =AM11/W11 -> 2.0570265 | Q11: =AN11/AC11 -> 1.9844961 | R11: =AO11/AD11 -> 1.972973 | S11: =AP11/AE11 -> 1.9614644 | T11: =AQ11/AF11 -> 1.9635317 | W11: ='OEP RAW Data'!C61+'OEP RAW Data'!D61 -> 491 | X11: =W11+'OEP RAW Data'!E61 -> 493 | Y11: =X11+'OEP RAW Data'!F61 -> 498 | Z11: =Y11+'OEP RAW Data'!G61 -> 510 | AA11: =Z11+'OEP RAW Data'!H61 -> 511 | AB11: =AA11+'OEP RAW Data'!I61 -> 512 | AC11: =AB11+'OEP RAW Data'!J61 -> 516 | AD11: =AC11+'OEP RAW Data'!K61 -> 518 | AE11: =AD11+'OEP RAW Data'!L61 -> 519 | AF11: =AE11+'OEP RAW Data'!M61 -> 521 | AK11: 936 | AL11: 840 | AM11: 1010 | AN11: 1024 | AO11: 1022 | AP11: 1018 | AQ11: 1023 | AT11: =AD11-W11 -> 27 | AU11: =(AD11/W11)^(1/7)-1 -> 0.0076766174 | AW11: =(AD11/AB11)^(1/2)-1 -> 0.0058423087
A12: ='OEP RAW Data'!A62 -> Newfields | B12: 1 | C12: RC | D12: 23 | E12: E | F12: RPC | G12: 301 | H12: 324 | I12: ='OEP RAW Data'!C62 -> 532 | J12: ='OEP RAW Data'!N62 -> 591 | K12: =(H12/G12)^(1/(1990-1980))-1 -> 0.007390501 | L12: =(I12/H12)^(1/(2000-1990))-1 -> 0.050840161 | M12: =(J12/I12)^(1/(2010-2000))-1 -> 0.010572754 | N12: =AK12/G12 -> 2.7142857 | O12: =AL12/H12 -> 2.7407407 | P12: =AM12/W12 -> 2.8722222 | Q12: =AN12/AC12 -> 2.7836457 | R12: =AO12/AD12 -> 2.7777778 | S12: =AP12/AE12 -> 2.7755444 | T12: =AQ12/AF12 -> 2.7833333 | W12: ='OEP RAW Data'!C62+'OEP RAW Data'!D62 -> 540 | X12: =W12+'OEP RAW Data'!E62 -> 548 | Y12: =X12+'OEP RAW Data'!F62 -> 558 | Z12: =Y12+'OEP RAW Data'!G62 -> 566 | AA12: =Z12+'OEP RAW Data'!H62 -> 568 | AB12: =AA12+'OEP RAW Data'!I62 -> 576 | AC12: =AB12+'OEP RAW Data'!J62 -> 587 | AD12: =AC12+'OEP RAW Data'!K62 -> 594 | AE12: =AD12+'OEP RAW Data'!L62 -> 597 | AF12: =AE12+'OEP RAW Data'!M62 -> 600 | AK12: 817 | AL12: 888 | AM12: 1551 | AN12: 1634 | AO12: 1650 | AP12: 1657 | AQ12: 1670 | AT12: =AD12-W12 -> 54 | AU12: =(AD12/W12)^(1/7)-1 -> 0.013708856 | AW12: =(AD12/AB12)^(1/2)-1 -> 0.015504801
A13: ='OEP RAW Data'!A63 -> Newington | B13: 1 | C13: RC | D13: 16 | E13: E | F13: RPC | G13: 257 | H13: 320 | I13: ='OEP RAW Data'!C63 -> 305 | J13: ='OEP RAW Data'!N63 -> 322 | K13: =(H13/G13)^(1/(1990-1980))-1 -> 0.022166599 | L13: =(I13/H13)^(1/(2000-1990))-1 -> -0.0047894159 | M13: =(J13/I13)^(1/(2010-2000))-1 -> 0.0054387133 | N13: =AK13/G13 -> 2.7859922 | O13: =AL13/H13 -> 3.09375 | P13: =AM13/W13 -> 2.5080906 | Q13: =AN13/AC13 -> 2.4766355 | R13: =AO13/AD13 -> 2.4365325 | S13: =AP13/AE13 -> 2.4290123 | T13: =AQ13/AF13 -> 2.4489164 | W13: ='OEP RAW Data'!C63+'OEP RAW Data'!D63 -> 309 | X13: =W13+'OEP RAW Data'!E63 -> 312 | Y13: =X13+'OEP RAW Data'!F63 -> 312 | Z13: =Y13+'OEP RAW Data'!G63 -> 313 | AA13: =Z13+'OEP RAW Data'!H63 -> 320 | AB13: =AA13+'OEP RAW Data'!I63 -> 321 | AC13: =AB13+'OEP RAW Data'!J63 -> 321 | AD13: =AC13+'OEP RAW Data'!K63 -> 323 | AE13: =AD13+'OEP RAW Data'!L63 -> 324 | AF13: =AE13+'OEP RAW Data'!M63 -> 323 | AK13: 716 | AL13: 990 | AM13: 775 | AN13: 795 | AO13: 787 | AP13: 787 | AQ13: 791 | AT13: =AD13-W13 -> 14 | AU13: =(AD13/W13)^(1/7)-1 -> 0.0063502272 | AW13: =(AD13/AB13)^(1/2)-1 -> 0.0031104274
A14: ='OEP RAW Data'!A64 -> Newmarket | B14: 1 | C14: RC | D14: U | E14: E | F14: SRPC | G14: 1832 | H14: 3285 | I14: ='OEP RAW Data'!C64 -> 3457 | J14: ='OEP RAW Data'!N64 -> 4139 | K14: =(H14/G14)^(1/(1990-1980))-1 -> 0.060134555 | L14: =(I14/H14)^(1/(2000-1990))-1 -> 0.0051164957 | M14: =(J14/I14)^(1/(2010-2000))-1 -> 0.018168378 | N14: =AK14/G14 -> 2.3417031 | O14: =AL14/H14 -> 2.178691 | P14: =AM14/W14 -> 2.2687959 | Q14: =AN14/AC14 -> 2.2379813 | R14: =AO14/AD14 -> 2.2276967 | S14: =AP14/AE14 -> 2.2075472 | T14: =AQ14/AF14 -> 2.214371 | W14: ='OEP RAW Data'!C64+'OEP RAW Data'!D64 -> 3538 | X14: =W14+'OEP RAW Data'!E64 -> 3655 | Y14: =X14+'OEP RAW Data'!F64 -> 3785 | Z14: =Y14+'OEP RAW Data'!G64 -> 3964 | AA14: =Z14+'OEP RAW Data'!H64 -> 4076 | AB14: =AA14+'OEP RAW Data'!I64 -> 4162 | AC14: =AB14+'OEP RAW Data'!J64 -> 4181 | AD14: =AC14+'OEP RAW Data'!K64 -> 4181 | AE14: =AD14+'OEP RAW Data'!L64 -> 4187 | AF14: =AE14+'OEP RAW Data'!M64 -> 4189 | AK14: 4290 | AL14: 7157 | AM14: 8027 | AN14: 9357 | AO14: 9314 | AP14: 9243 | AQ14: 9276 | AT14: =AD14-W14 -> 643 | AU14: =(AD14/W14)^(1/7)-1 -> 0.024142371 | AW14: =(AD14/AB14)^(1/2)-1 -> 0.0022799574
A15: ='OEP RAW Data'!A65 -> North Hampton | B15: 1 | C15: RC | D15: 24 | E15: E | F15: RPC | G15: 1255 | H15: 1495 | I15: ='OEP RAW Data'!C65 -> 1782 | J15: ='OEP RAW Data'!N65 -> 1914 | K15: =(H15/G15)^(1/(1990-1980))-1 -> 0.017653069 | L15: =(I15/H15)^(1/(2000-1990))-1 -> 0.017716113 | M15: =(J15/I15)^(1/(2010-2000))-1 -> 0.0071714892 | N15: =AK15/G15 -> 2.7290837 | O15: =AL15/H15 -> 2.4327759 | P15: =AM15/W15 -> 2.3159326 | Q15: =AN15/AC15 -> 2.3281168 | R15: =AO15/AD15 -> 2.3 | S15: =AP15/AE15 -> 2.2859351 | T15: =AQ15/AF15 -> 2.2898105 | W15: ='OEP RAW Data'!C65+'OEP RAW Data'!D65 -> 1839 | X15: =W15+'OEP RAW Data'!E65 -> 1859 | Y15: =X15+'OEP RAW Data'!F65 -> 1876 | Z15: =Y15+'OEP RAW Data'!G65 -> 1889 | AA15: =Z15+'OEP RAW Data'!H65 -> 1904 | AB15: =AA15+'OEP RAW Data'!I65 -> 1909 | AC15: =AB15+'OEP RAW Data'!J65 -> 1917 | AD15: =AC15+'OEP RAW Data'!K65 -> 1930 | AE15: =AD15+'OEP RAW Data'!L65 -> 1941 | AF15: =AE15+'OEP RAW Data'!M65 -> 1953 | AK15: 3425 | AL15: 3637 | AM15: 4259 | AN15: 4463 | AO15: 4439 | AP15: 4437 | AQ15: 4472 | AT15: =AD15-W15 -> 91 | AU15: =(AD15/W15)^(1/7)-1 -> 0.0069235804 | AW15: =(AD15/AB15)^(1/2)-1 -> 0.0054852181
A16: ='OEP RAW Data'!A66 -> Portsmouth | B16: 1 | C16: RC | D16: 24 | E16: E | F16: RPC | G16: 8634 | H16: 11369 | I16: ='OEP RAW Data'!C66 -> 10186 | J16: ='OEP RAW Data'!N66 -> 10625 | K16: =(H16/G16)^(1/(1990-1980))-1 -> 0.02790037 | L16: =(I16/H16)^(1/(2000-1990))-1 -> -0.010927469 | M16: =(J16/I16)^(1/(2010-2000))-1 -> 0.0042284635 | N16: =AK16/G16 -> 3.0407691 | O16: =AL16/H16 -> 2.2803237 | P16: =AM16/W16 -> 2.0328638 | Q16: =AN16/AC16 -> 1.9789844 | R16: =AO16/AD16 -> 1.9539249 | S16: =AP16/AE16 -> 1.9365798 | T16: =AQ16/AF16 -> 1.9498113 | W16: ='OEP RAW Data'!C66+'OEP RAW Data'!D66 -> 10224 | X16: =W16+'OEP RAW Data'!E66 -> 10254 | Y16: =X16+'OEP RAW Data'!F66 -> 10295 | Z16: =Y16+'OEP RAW Data'!G66 -> 10363 | AA16: =Z16+'OEP RAW Data'!H66 -> 10418 | AB16: =AA16+'OEP RAW Data'!I66 -> 10495 | AC16: =AB16+'OEP RAW Data'!J66 -> 10516 | AD16: =AC16+'OEP RAW Data'!K66 -> 10548 | AE16: =AD16+'OEP RAW Data'!L66 -> 10596 | AF16: =AE16+'OEP RAW Data'!M66 -> 10600 | AK16: 26254 | AL16: 25925 | AM16: 20784 | AN16: 20811 | AO16: 20610 | AP16: 20520 | AQ16: 20668 | AT16: =AD16-W16 -> 324 | AU16: =(AD16/W16)^(1/7)-1 -> 0.0044668569 | AW16: =(AD16/AB16)^(1/2)-1 -> 0.0025218321
A17: ='OEP RAW Data'!A67 -> Rye | B17: 1 | C17: RC | D17: 24 | E17: E | F17: RPC | G17: 1812 | H17: 2443 | I17: ='OEP RAW Data'!C67 -> 2645 | J17: ='OEP RAW Data'!N67 -> 2852 | K17: =(H17/G17)^(1/(1990-1980))-1 -> 0.030330432 | L17: =(I17/H17)^(1/(2000-1990))-1 -> 0.007976068 | M17: =(J17/I17)^(1/(2010-2000))-1 -> 0.0075634028 | N17: =AK17/G17 -> 2.4878587 | O17: =AL17/H17 -> 1.8878428 | P17: =AM17/W17 -> 1.9466566 | Q17: =AN17/AC17 -> 1.9222836 | R17: =AO17/AD17 -> 1.9060081 | S17: =AP17/AE17 -> 1.889216 | T17: =AQ17/AF17 -> 1.8951435 | W17: ='OEP RAW Data'!C67+'OEP RAW Data'!D67 -> 2662 | X17: =W17+'OEP RAW Data'!E67 -> 2670 | Y17: =X17+'OEP RAW Data'!F67 -> 2683 | Z17: =Y17+'OEP RAW Data'!G67 -> 2689 | AA17: =Z17+'OEP RAW Data'!H67 -> 2704 | AB17: =AA17+'OEP RAW Data'!I67 -> 2715 | AC17: =AB17+'OEP RAW Data'!J67 -> 2715 | AD17: =AC17+'OEP RAW Data'!K67 -> 2713 | AE17: =AD17+'OEP RAW Data'!L67 -> 2717 | AF17: =AE17+'OEP RAW Data'!M67 -> 2718 | AK17: 4508 | AL17: 4612 | AM17: 5182 | AN17: 5219 | AO17: 5171 | AP17: 5133 | AQ17: 5151 | AT17: =AD17-W17 -> 51 | AU17: =(AD17/W17)^(1/7)-1 -> 0.002714723 | AW17: =(AD17/AB17)^(1/2)-1 -> -0.00036839198
A18: ='OEP RAW Data'!A68 -> Seabrook | B18: 1 | C18: RC | D18: 23 | E18: E | F18: RPC | G18: 2523 | H18: 3469 | I18: ='OEP RAW Data'!C68 -> 4066 | J18: ='OEP RAW Data'!N68 -> 4544 | K18: =(H18/G18)^(1/(1990-1980))-1 -> 0.032354143 | L18: =(I18/H18)^(1/(2000-1990))-1 -> 0.016006081 | M18: =(J18/I18)^(1/(2010-2000))-1 -> 0.011176795 | N18: =AK18/G18 -> 2.3452239 | O18: =AL18/H18 -> 1.8746036 | P18: =AM18/W18 -> 1.9076701 | Q18: =AN18/AC18 -> 1.9027622 | R18: =AO18/AD18 -> 1.8968449 | S18: =AP18/AE18 -> 1.8671578 | T18: =AQ18/AF18 -> 1.8602533 | W18: ='OEP RAW Data'!C68+'OEP RAW Data'!D68 -> 4159 | X18: =W18+'OEP RAW Data'!E68 -> 4247 | Y18: =X18+'OEP RAW Data'!F68 -> 4295 | Z18: =Y18+'OEP RAW Data'!G68 -> 4322 | AA18: =Z18+'OEP RAW Data'!H68 -> 4358 | AB18: =AA18+'OEP RAW Data'!I68 -> 4453 | AC18: =AB18+'OEP RAW Data'!J68 -> 4453 | AD18: =AC18+'OEP RAW Data'!K68 -> 4469 | AE18: =AD18+'OEP RAW Data'!L68 -> 4479 | AF18: =AE18+'OEP RAW Data'!M68 -> 4501 | AK18: 5917 | AL18: 6503 | AM18: 7934 | AN18: 8473 | AO18: 8477 | AP18: 8363 | AQ18: 8373 | AT18: =AD18-W18 -> 310 | AU18: =(AD18/W18)^(1/7)-1 -> 0.010322919 | AW18: =(AD18/AB18)^(1/2)-1 -> 0.0017949308
A19: ='OEP RAW Data'!A69 -> South Hampton | B19: 1 | C19: RC | D19: 23 | E19: E | F19: RPC | G19: 223 | H19: 263 | I19: ='OEP RAW Data'!C69 -> 308 | J19: ='OEP RAW Data'!N69 -> 504 | K19: =(H19/G19)^(1/(1990-1980))-1 -> 0.016635073 | L19: =(I19/H19)^(1/(2000-1990))-1 -> 0.015919969 | M19: =(J19/I19)^(1/(2010-2000))-1 -> 0.050480468 | N19: =AK19/G19 -> 2.9596413 | O19: =AL19/H19 -> 2.8136882 | P19: =AM19/W19 -> 2.6964856 | Q19: =AN19/AC19 -> 2.6586826 | R19: =AO19/AD19 -> 2.6261128 | S19: =AP19/AE19 -> 2.6213018 | T19: =AQ19/AF19 -> 2.6360947 | W19: ='OEP RAW Data'!C69+'OEP RAW Data'!D69 -> 313 | X19: =W19+'OEP RAW Data'!E69 -> 317 | Y19: =X19+'OEP RAW Data'!F69 -> 321 | Z19: =Y19+'OEP RAW Data'!G69 -> 323 | AA19: =Z19+'OEP RAW Data'!H69 -> 329 | AB19: =AA19+'OEP RAW Data'!I69 -> 332 | AC19: =AB19+'OEP RAW Data'!J69 -> 334 | AD19: =AC19+'OEP RAW Data'!K69 -> 337 | AE19: =AD19+'OEP RAW Data'!L69 -> 338 | AF19: =AE19+'OEP RAW Data'!M69 -> 338 | AK19: 660 | AL19: 740 | AM19: 844 | AN19: 888 | AO19: 885 | AP19: 886 | AQ19: 891 | AT19: =AD19-W19 -> 24 | AU19: =(AD19/W19)^(1/7)-1 -> 0.010610141 | AW19: =(AD19/AB19)^(1/2)-1 -> 0.0075019806
A20: ='OEP RAW Data'!A70 -> Stratham | B20: 1 | C20: RC | D20: 24 | E20: E | F20: RPC | G20: 844 | H20: 1917 | I20: ='OEP RAW Data'!C70 -> 2371 | J20: ='OEP RAW Data'!N70 -> 2864 | K20: =(H20/G20)^(1/(1990-1980))-1 -> 0.085495348 | L20: =(I20/H20)^(1/(2000-1990))-1 -> 0.021482532 | M20: =(J20/I20)^(1/(2010-2000))-1 -> 0.019070303 | N20: =AK20/G20 -> 2.9703791 | O20: =AL20/H20 -> 2.5847679 | P20: =AM20/W20 -> 2.6227817 | Q20: =AN20/AC20 -> 2.5883201 | R20: =AO20/AD20 -> 2.5634355 | S20: =AP20/AE20 -> 2.5666075 | T20: =AQ20/AF20 -> 2.5804047 | W20: ='OEP RAW Data'!C70+'OEP RAW Data'!D70 -> 2423 | X20: =W20+'OEP RAW Data'!E70 -> 2462 | Y20: =X20+'OEP RAW Data'!F70 -> 2518 | Z20: =Y20+'OEP RAW Data'!G70 -> 2597 | AA20: =Z20+'OEP RAW Data'!H70 -> 2692 | AB20: =AA20+'OEP RAW Data'!I70 -> 2742 | AC20: =AB20+'OEP RAW Data'!J70 -> 2774 | AD20: =AC20+'OEP RAW Data'!K70 -> 2806 | AE20: =AD20+'OEP RAW Data'!L70 -> 2815 | AF20: =AE20+'OEP RAW Data'!M70 -> 2817 | AK20: 2507 | AL20: 4955 | AM20: 6355 | AN20: 7180 | AO20: 7193 | AP20: 7225 | AQ20: 7269 | AT20: =AD20-W20 -> 383 | AU20: =(AD20/W20)^(1/7)-1 -> 0.021186096 | AW20: =(AD20/AB20)^(1/2)-1 -> 0.011602999
A21: ='OEP RAW Data'!A71 -> CEDS Eastern Towns Totals: | B21: 0 | E21: ET | G21: =SUM(G5:G20) -> 28904 | H21: =SUM(H5:H20) -> 41981 | I21: =SUM(I5:I20) -> 44889 | J21: ='OEP RAW Data'!N71 -> 49365 | K21: =(H21/G21)^(1/(1990-1980))-1 -> 0.038028991 | L21: =(I21/H21)^(1/(2000-1990))-1 -> 0.0067200429 | M21: =(J21/I21)^(1/(2010-2000))-1 -> 0.0095502044 | N21: =AK21/G21 -> 2.6814628 | O21: =AL21/H21 -> 2.1023796 | P21: =AM21/W21 -> 2.080896 | Q21: =AN21/AC21 -> 2.0456642 | R21: =AO21/AD21 -> 2.0301316 | S21: =AP21/AE21 -> 2.0311487 | T21: =AQ21/AF21 -> 2.0217303 | W21: ='OEP RAW Data'!C71+'OEP RAW Data'!D71 -> 45404 | X21: =W21+'OEP RAW Data'!E71 -> 45856 | Y21: =X21+'OEP RAW Data'!F71 -> 46490 | Z21: =Y21+'OEP RAW Data'!G71 -> 47144 | AA21: =Z21+'OEP RAW Data'!H71 -> 47756 | AB21: =AA21+'OEP RAW Data'!I71 -> 48312 | AC21: =AB21+'OEP RAW Data'!J71 -> 48572 | AD21: =AC21+'OEP RAW Data'!K71 -> 48786 | AE21: =AD21+'OEP RAW Data'!L71 -> 49055 | AF21: =AE21+'OEP RAW Data'!M71 -> 49148 | AK21: =SUM(AK5:AK20) -> 77505 | AL21: =SUM(AL5:AL20) -> 88260 | AM21: =SUM(AM5:AM20) -> 94481 | AN21: 99362 | AO21: =SUM(AO5:AO20) -> 99042 | AP21: =SUM(AP5:AP20) -> 99638 | AQ21: 99364 | AT21: =AD21-W21 -> 3382 | AU21: =(AD21/W21)^(1/7)-1 -> 0.01031616 | AW21: =(AD21/AB21)^(1/2)-1 -> 0.0048936397
A22: ='OEP RAW Data'!A72 -> Atkinson | B22: 1 | C22: RC | D22: 23 | E22: C | F22: RPC | G22: 1428 | H22: 1885 | I22: ='OEP RAW Data'!C72 -> 2431 | J22: ='OEP RAW Data'!N72 -> 2788 | K22: =(H22/G22)^(1/(1990-1980))-1 -> 0.028154344 | L22: =(I22/H22)^(1/(2000-1990))-1 -> 0.025763781 | M22: =(J22/I22)^(1/(2010-2000))-1 -> 0.013796485 | N22: =AK22/G22 -> 3.0791317 | O22: =AL22/H22 -> 2.7522546 | P22: =AM22/W22 -> 2.4643 | Q22: =AN22/AC22 -> 2.4367988 | R22: =AO22/AD22 -> 2.4116331 | S22: =AP22/AE22 -> 2.3996276 | T22: =AQ22/AF22 -> 2.405506 | W22: ='OEP RAW Data'!C72+'OEP RAW Data'!D72 -> 2507 | X22: =W22+'OEP RAW Data'!E72 -> 2595 | Y22: =X22+'OEP RAW Data'!F72 -> 2620 | Z22: =Y22+'OEP RAW Data'!G72 -> 2644 | AA22: =Z22+'OEP RAW Data'!H72 -> 2650 | AB22: =AA22+'OEP RAW Data'!I72 -> 2668 | AC22: =AB22+'OEP RAW Data'!J72 -> 2674 | AD22: =AC22+'OEP RAW Data'!K72 -> 2682 | AE22: =AD22+'OEP RAW Data'!L72 -> 2685 | AF22: =AE22+'OEP RAW Data'!M72 -> 2688 | AK22: 4397 | AL22: 5188 | AM22: 6178 | AN22: 6516 | AO22: 6468 | AP22: 6443 | AQ22: 6466 | AT22: =AD22-W22 -> 175 | AU22: =(AD22/W22)^(1/7)-1 -> 0.0096860326 | AW22: =(AD22/AB22)^(1/2)-1 -> 0.0026202553
A23: ='OEP RAW Data'!A73 -> Auburn | B23: 1 | C23: RC | D23: 19 | E23: C | F23: SNHPC | G23: 936 | H23: 1354 | I23: ='OEP RAW Data'!C73 -> 1622 | J23: ='OEP RAW Data'!N73 -> 1814 | K23: =(H23/G23)^(1/(1990-1980))-1 -> 0.037610318 | L23: =(I23/H23)^(1/(2000-1990))-1 -> 0.01822374 | M23: =(J23/I23)^(1/(2010-2000))-1 -> 0.011250253 | N23: =AK23/G23 -> 3.0801282 | O23: =AL23/H23 -> 3.0169867 | P23: =AM23/W23 -> 2.8137019 | Q23: =AN23/AC23 -> 2.8015351 | R23: =AO23/AD23 -> 2.7764449 | S23: =AP23/AE23 -> 2.763587 | T23: =AQ23/AF23 -> 2.7696477 | W23: ='OEP RAW Data'!C73+'OEP RAW Data'!D73 -> 1664 | X23: =W23+'OEP RAW Data'!E73 -> 1696 | Y23: =X23+'OEP RAW Data'!F73 -> 1725 | Z23: =Y23+'OEP RAW Data'!G73 -> 1769 | AA23: =Z23+'OEP RAW Data'!H73 -> 1813 | AB23: =AA23+'OEP RAW Data'!I73 -> 1813 | AC23: =AB23+'OEP RAW Data'!J73 -> 1824 | AD23: =AC23+'OEP RAW Data'!K73 -> 1834 | AE23: =AD23+'OEP RAW Data'!L73 -> 1840 | AF23: =AE23+'OEP RAW Data'!M73 -> 1845 | AK23: 2883 | AL23: 4085 | AM23: 4682 | AN23: 5110 | AO23: 5092 | AP23: 5085 | AQ23: 5110 | AT23: =AD23-W23 -> 170 | AU23: =(AD23/W23)^(1/7)-1 -> 0.013993437 | AW23: =(AD23/AB23)^(1/2)-1 -> 0.0057748315
A24: ='OEP RAW Data'!A74 -> Brentwood | B24: 1 | C24: RC | D24: 23 | E24: C | F24: RPC | G24: 598 | H24: 778 | I24: ='OEP RAW Data'!C74 -> 920 | J24: ='OEP RAW Data'!N74 -> 1350 | K24: =(H24/G24)^(1/(1990-1980))-1 -> 0.026662836 | L24: =(I24/H24)^(1/(2000-1990))-1 -> 0.016906031 | M24: =(J24/I24)^(1/(2010-2000))-1 -> 0.039093419 | N24: =AK24/G24 -> 3.3511706 | O24: =AL24/H24 -> 3.3290488 | P24: =AM24/W24 -> 3.2589195 | Q24: =AN24/AC24 -> 3.2588792 | R24: =AO24/AD24 -> 3.25 | S24: =AP24/AE24 -> 3.2326121 | T24: =AQ24/AF24 -> 3.2614329 | W24: ='OEP RAW Data'!C74+'OEP RAW Data'!D74 -> 981 | X24: =W24+'OEP RAW Data'!E74 -> 1069 | Y24: =X24+'OEP RAW Data'!F74 -> 1138 | Z24: =Y24+'OEP RAW Data'!G74 -> 1182 | AA24: =Z24+'OEP RAW Data'!H74 -> 1221 | AB24: =AA24+'OEP RAW Data'!I74 -> 1238 | AC24: =AB24+'OEP RAW Data'!J74 -> 1267 | AD24: =AC24+'OEP RAW Data'!K74 -> 1280 | AE24: =AD24+'OEP RAW Data'!L74 -> 1294 | AF24: =AE24+'OEP RAW Data'!M74 -> 1312 | AK24: 2004 | AL24: 2590 | AM24: 3197 | AN24: 4129 | AO24: 4160 | AP24: 4183 | AQ24: 4279 | AT24: =AD24-W24 -> 299 | AU24: =(AD24/W24)^(1/7)-1 -> 0.038737598 | AW24: =(AD24/AB24)^(1/2)-1 -> 0.016821364
A25: ='OEP RAW Data'!A75 -> Candia | B25: 1 | C25: RC | D25: 19 | E25: C | F25: SNHPC | G25: 992 | H25: 1192 | I25: ='OEP RAW Data'!C75 -> 1384 | J25: ='OEP RAW Data'!N75 -> 1494 | K25: =(H25/G25)^(1/(1990-1980))-1 -> 0.018536175 | L25: =(I25/H25)^(1/(2000-1990))-1 -> 0.015046606 | M25: =(J25/I25)^(1/(2010-2000))-1 -> 0.007677243 | N25: =AK25/G25 -> 3.0131048 | O25: =AL25/H25 -> 2.9840604 | P25: =AM25/W25 -> 2.7600565 | Q25: =AN25/AC25 -> 2.7146649 | R25: =AO25/AD25 -> 2.7116402 | S25: =AP25/AE25 -> 2.6892693 | T25: =AQ25/AF25 -> 2.7088274 | W25: ='OEP RAW Data'!C75+'OEP RAW Data'!D75 -> 1417 | X25: =W25+'OEP RAW Data'!E75 -> 1450 | Y25: =X25+'OEP RAW Data'!F75 -> 1457 | Z25: =Y25+'OEP RAW Data'!G75 -> 1469 | AA25: =Z25+'OEP RAW Data'!H75 -> 1476 | AB25: =AA25+'OEP RAW Data'!I75 -> 1489 | AC25: =AB25+'OEP RAW Data'!J75 -> 1507 | AD25: =AC25+'OEP RAW Data'!K75 -> 1512 | AE25: =AD25+'OEP RAW Data'!L75 -> 1519 | AF25: =AE25+'OEP RAW Data'!M75 -> 1518 | AK25: 2989 | AL25: 3557 | AM25: 3911 | AN25: 4091 | AO25: 4100 | AP25: 4085 | AQ25: 4112 | AT25: =AD25-W25 -> 95 | AU25: =(AD25/W25)^(1/7)-1 -> 0.0093132894 | AW25: =(AD25/AB25)^(1/2)-1 -> 0.0076937077
A26: ='OEP RAW Data'!A76 -> Chester | B26: 1 | C26: RC | D26: 22 | E26: C | F26: SNHPC | G26: 655 | H26: 924 | I26: ='OEP RAW Data'!C76 -> 1247 | J26: ='OEP RAW Data'!N76 -> 1596 | K26: =(H26/G26)^(1/(1990-1980))-1 -> 0.035006476 | L26: =(I26/H26)^(1/(2000-1990))-1 -> 0.030432263 | M26: =(J26/I26)^(1/(2010-2000))-1 -> 0.024982955 | N26: =AK26/G26 -> 3.0625954 | O26: =AL26/H26 -> 2.9123377 | P26: =AM26/W26 -> 2.8340807 | Q26: =AN26/AC26 -> 2.985209 | R26: =AO26/AD26 -> 2.9539347 | S26: =AP26/AE26 -> 2.9470663 | T26: =AQ26/AF26 -> 2.9396058 | W26: ='OEP RAW Data'!C76+'OEP RAW Data'!D76 -> 1338 | X26: =W26+'OEP RAW Data'!E76 -> 1417 | Y26: =X26+'OEP RAW Data'!F76 -> 1464 | Z26: =Y26+'OEP RAW Data'!G76 -> 1493 | AA26: =Z26+'OEP RAW Data'!H76 -> 1527 | AB26: =AA26+'OEP RAW Data'!I76 -> 1537 | AC26: =AB26+'OEP RAW Data'!J76 -> 1555 | AD26: =AC26+'OEP RAW Data'!K76 -> 1563 | AE26: =AD26+'OEP RAW Data'!L76 -> 1568 | AF26: =AE26+'OEP RAW Data'!M76 -> 1573 | AK26: 2006 | AL26: 2691 | AM26: 3792 | AN26: 4642 | AO26: 4617 | AP26: 4621 | AQ26: 4624 | AT26: =AD26-W26 -> 225 | AU26: =(AD26/W26)^(1/7)-1 -> 0.022452795 | AW26: =(AD26/AB26)^(1/2)-1 -> 0.0084225653
A27: ='OEP RAW Data'!A77 -> Danville | B27: 1 | C27: RC | D27: 23 | E27: C | F27: RPC | G27: 439 | H27: 960 | I27: ='OEP RAW Data'!C77 -> 1479 | J27: ='OEP RAW Data'!N77 -> 1684 | K27: =(H27/G27)^(1/(1990-1980))-1 -> 0.081385822 | L27: =(I27/H27)^(1/(2000-1990))-1 -> 0.044166352 | M27: =(J27/I27)^(1/(2010-2000))-1 -> 0.013065187 | N27: =AK27/G27 -> 3.0022779 | O27: =AL27/H27 -> 2.6395833 | P27: =AM27/W27 -> 2.674867 | Q27: =AN27/AC27 -> 2.6600838 | R27: =AO27/AD27 -> 2.6182573 | S27: =AP27/AE27 -> 2.6241849 | T27: =AQ27/AF27 -> 2.6167453 | W27: ='OEP RAW Data'!C77+'OEP RAW Data'!D77 -> 1504 | X27: =W27+'OEP RAW Data'!E77 -> 1535 | Y27: =X27+'OEP RAW Data'!F77 -> 1588 | Z27: =Y27+'OEP RAW Data'!G77 -> 1621 | AA27: =Z27+'OEP RAW Data'!H77 -> 1662 | AB27: =AA27+'OEP RAW Data'!I77 -> 1666 | AC27: =AB27+'OEP RAW Data'!J77 -> 1671 | AD27: =AC27+'OEP RAW Data'!K77 -> 1687 | AE27: =AD27+'OEP RAW Data'!L77 -> 1687 | AF27: =AE27+'OEP RAW Data'!M77 -> 1696 | AK27: 1318 | AL27: 2534 | AM27: 4023 | AN27: 4445 | AO27: 4417 | AP27: 4427 | AQ27: 4438 | AT27: =AD27-W27 -> 183 | AU27: =(AD27/W27)^(1/7)-1 -> 0.016538642 | AW27: =(AD27/AB27)^(1/2)-1 -> 0.0062827843
A28: ='OEP RAW Data'!A78 -> Deerfield | B28: 1 | C28: RC | D28: U | E28: C | F28: SNHPC | G28: 694 | H28: 1227 | I28: ='OEP RAW Data'!C78 -> 1406 | J28: ='OEP RAW Data'!N78 -> 1743 | K28: =(H28/G28)^(1/(1990-1980))-1 -> 0.058640511 | L28: =(I28/H28)^(1/(2000-1990))-1 -> 0.013710805 | M28: =(J28/I28)^(1/(2010-2000))-1 -> 0.021718381 | N28: =AK28/G28 -> 2.851585 | O28: =AL28/H28 -> 2.5460473 | P28: =AM28/W28 -> 2.4734364 | Q28: =AN28/AC28 -> 2.5154519 | R28: =AO28/AD28 -> 2.5080738 | S28: =AP28/AE28 -> 2.5020057 | T28: =AQ28/AF28 -> 2.5102623 | W28: ='OEP RAW Data'!C78+'OEP RAW Data'!D78 -> 1487 | X28: =W28+'OEP RAW Data'!E78 -> 1545 | Y28: =X28+'OEP RAW Data'!F78 -> 1575 | Z28: =Y28+'OEP RAW Data'!G78 -> 1593 | AA28: =Z28+'OEP RAW Data'!H78 -> 1644 | AB28: =AA28+'OEP RAW Data'!I78 -> 1687 | AC28: =AB28+'OEP RAW Data'!J78 -> 1715 | AD28: =AC28+'OEP RAW Data'!K78 -> 1734 | AE28: =AD28+'OEP RAW Data'!L78 -> 1745 | AF28: =AE28+'OEP RAW Data'!M78 -> 1754 | AK28: 1979 | AL28: 3124 | AM28: 3678 | AN28: 4314 | AO28: 4349 | AP28: 4366 | AQ28: 4403 | AT28: =AD28-W28 -> 247 | AU28: =(AD28/W28)^(1/7)-1 -> 0.022195625 | AW28: =(AD28/AB28)^(1/2)-1 -> 0.013834359
A29: ='OEP RAW Data'!A79 -> Epping | B29: 1 | C29: RC | D29: 23 | E29: C | F29: RPC | G29: 1181 | H29: 2059 | I29: ='OEP RAW Data'!C79 -> 2215 | J29: ='OEP RAW Data'!N79 -> 2723 | K29: =(H29/G29)^(1/(1990-1980))-1 -> 0.057159812 | L29: =(I29/H29)^(1/(2000-1990))-1 -> 0.0073299309 | M29: =(J29/I29)^(1/(2010-2000))-1 -> 0.02086283 | N29: =AK29/G29 -> 2.9297206 | O29: =AL29/H29 -> 2.5070423 | P29: =AM29/W29 -> 2.366465 | Q29: =AN29/AC29 -> 2.3968317 | R29: =AO29/AD29 -> 2.3598441 | S29: =AP29/AE29 -> 2.3244478 | T29: =AQ29/AF29 -> 2.3421939 | W29: ='OEP RAW Data'!C79+'OEP RAW Data'!D79 -> 2314 | X29: =W29+'OEP RAW Data'!E79 -> 2330 | Y29: =X29+'OEP RAW Data'!F79 -> 2370 | Z29: =Y29+'OEP RAW Data'!G79 -> 2396 | AA29: =Z29+'OEP RAW Data'!H79 -> 2439 | AB29: =AA29+'OEP RAW Data'!I79 -> 2499 | AC29: =AB29+'OEP RAW Data'!J79 -> 2525 | AD29: =AC29+'OEP RAW Data'!K79 -> 2565 | AE29: =AD29+'OEP RAW Data'!L79 -> 2626 | AF29: =AE29+'OEP RAW Data'!M79 -> 2671 | AK29: 3460 | AL29: 5162 | AM29: 5476 | AN29: 6052 | AO29: 6053 | AP29: 6104 | AQ29: 6256 | AT29: =AD29-W29 -> 251 | AU29: =(AD29/W29)^(1/7)-1 -> 0.014820297 | AW29: =(AD29/AB29)^(1/2)-1 -> 0.013119225
A30: ='OEP RAW Data'!A80 -> Fremont | B30: 1 | C30: RC | D30: 23 | E30: C | F30: RPC | G30: 461 | H30: 920 | I30: ='OEP RAW Data'!C80 -> 1201 | J30: ='OEP RAW Data'!N80 -> 1573 | K30: =(H30/G30)^(1/(1990-1980))-1 -> 0.071540746 | L30: =(I30/H30)^(1/(2000-1990))-1 -> 0.027012 | M30: =(J30/I30)^(1/(2010-2000))-1 -> 0.027350346 | N30: =AK30/G30 -> 2.8915401 | O30: =AL30/H30 -> 2.8 | P30: =AM30/W30 -> 2.7812995 | Q30: =AN30/AC30 -> 2.7931498 | R30: =AO30/AD30 -> 2.7498341 | S30: =AP30/AE30 -> 2.7397892 | T30: =AQ30/AF30 -> 2.7522936 | W30: ='OEP RAW Data'!C80+'OEP RAW Data'!D80 -> 1262 | X30: =W30+'OEP RAW Data'!E80 -> 1288 | Y30: =X30+'OEP RAW Data'!F80 -> 1318 | Z30: =Y30+'OEP RAW Data'!G80 -> 1372 | AA30: =Z30+'OEP RAW Data'!H80 -> 1424 | AB30: =AA30+'OEP RAW Data'!I80 -> 1479 | AC30: =AB30+'OEP RAW Data'!J80 -> 1489 | AD30: =AC30+'OEP RAW Data'!K80 -> 1507 | AE30: =AD30+'OEP RAW Data'!L80 -> 1518 | AF30: =AE30+'OEP RAW Data'!M80 -> 1526 | AK30: 1333 | AL30: 2576 | AM30: 3510 | AN30: 4159 | AO30: 4144 | AP30: 4159 | AQ30: 4200 | AT30: =AD30-W30 -> 245 | AU30: =(AD30/W30)^(1/7)-1 -> 0.02567011 | AW30: =(AD30/AB30)^(1/2)-1 -> 0.0094214732
A31: ='OEP RAW Data'!A81 -> Hampstead | B31: 1 | C31: RC | D31: 23 | E31: C | F31: RPC | G31: 1319 | H31: 2661 | I31: ='OEP RAW Data'!C81 -> 3276 | J31: ='OEP RAW Data'!N81 -> 3727 | K31: =(H31/G31)^(1/(1990-1980))-1 -> 0.072704266 | L31: =(I31/H31)^(1/(2000-1990))-1 -> 0.021009779 | M31: =(J31/I31)^(1/(2010-2000))-1 -> 0.012981584 | N31: =AK31/G31 -> 2.8695982 | O31: =AL31/H31 -> 2.529876 | P31: =AM31/W31 -> 2.5096794 | Q31: =AN31/AC31 -> 2.3990623 | R31: =AO31/AD31 -> 2.3870527 | S31: =AP31/AE31 -> 2.3746265 | T31: =AQ31/AF31 -> 2.3652501 | W31: ='OEP RAW Data'!C81+'OEP RAW Data'!D81 -> 3306 | X31: =W31+'OEP RAW Data'!E81 -> 3320 | Y31: =X31+'OEP RAW Data'!F81 -> 3363 | Z31: =Y31+'OEP RAW Data'!G81 -> 3434 | AA31: =Z31+'OEP RAW Data'!H81 -> 3468 | AB31: =AA31+'OEP RAW Data'!I81 -> 3560 | AC31: =AB31+'OEP RAW Data'!J81 -> 3626 | AD31: =AC31+'OEP RAW Data'!K81 -> 3661 | AE31: =AD31+'OEP RAW Data'!L81 -> 3681 | AF31: =AE31+'OEP RAW Data'!M81 -> 3718 | AK31: 3785 | AL31: 6732 | AM31: 8297 | AN31: 8699 | AO31: 8739 | AP31: 8741 | AQ31: 8794 | AT31: =AD31-W31 -> 355 | AU31: =(AD31/W31)^(1/7)-1 -> 0.014677723 | AW31: =(AD31/AB31)^(1/2)-1 -> 0.014086183
A32: ='OEP RAW Data'!A82 -> Kingston | B32: 1 | C32: RC | D32: 23 | E32: C | F32: RPC | G32: 1518 | H32: 2115 | I32: ='OEP RAW Data'!C82 -> 2265 | J32: ='OEP RAW Data'!N82 -> 2480 | K32: =(H32/G32)^(1/(1990-1980))-1 -> 0.03372224 | L32: =(I32/H32)^(1/(2000-1990))-1 -> 0.0068755233 | M32: =(J32/I32)^(1/(2010-2000))-1 -> 0.0091096225 | N32: =AK32/G32 -> 2.7081686 | O32: =AL32/H32 -> 2.6434988 | P32: =AM32/W32 -> 2.4944681 | Q32: =AN32/AC32 -> 2.4853119 | R32: =AO32/AD32 -> 2.4762862 | S32: =AP32/AE32 -> 2.4529435 | T32: =AQ32/AF32 -> 2.461262 | W32: ='OEP RAW Data'!C82+'OEP RAW Data'!D82 -> 2350 | X32: =W32+'OEP RAW Data'!E82 -> 2357 | Y32: =X32+'OEP RAW Data'!F82 -> 2375 | Z32: =Y32+'OEP RAW Data'!G82 -> 2415 | AA32: =Z32+'OEP RAW Data'!H82 -> 2439 | AB32: =AA32+'OEP RAW Data'!I82 -> 2465 | AC32: =AB32+'OEP RAW Data'!J82 -> 2485 | AD32: =AC32+'OEP RAW Data'!K82 -> 2488 | AE32: =AD32+'OEP RAW Data'!L82 -> 2497 | AF32: =AE32+'OEP RAW Data'!M82 -> 2504 | AK32: 4111 | AL32: 5591 | AM32: 5862 | AN32: 6176 | AO32: 6161 | AP32: 6125 | AQ32: 6163 | AT32: =AD32-W32 -> 138 | AU32: =(AD32/W32)^(1/7)-1 -> 0.008185296 | AW32: =(AD32/AB32)^(1/2)-1 -> 0.0046544823
A33: ='OEP RAW Data'!A83 -> Newton | B33: 1 | C33: RC | D33: 23 | E33: C | F33: RPC | G33: 1073 | H33: 1251 | I33: ='OEP RAW Data'!C83 -> 1552 | J33: ='OEP RAW Data'!N83 -> 1751 | K33: =(H33/G33)^(1/(1990-1980))-1 -> 0.01546687 | L33: =(I33/H33)^(1/(2000-1990))-1 -> 0.021794218 | M33: =(J33/I33)^(1/(2010-2000))-1 -> 0.01213733 | N33: =AK33/G33 -> 2.8592731 | O33: =AL33/H33 -> 2.7761791 | P33: =AM33/W33 -> 2.6739401 | Q33: =AN33/AC33 -> 2.6848019 | R33: =AO33/AD33 -> 2.6545455 | S33: =AP33/AE33 -> 2.6333527 | T33: =AQ33/AF33 -> 2.6510687 | W33: ='OEP RAW Data'!C83+'OEP RAW Data'!D83 -> 1604 | X33: =W33+'OEP RAW Data'!E83 -> 1615 | Y33: =X33+'OEP RAW Data'!F83 -> 1623 | Z33: =Y33+'OEP RAW Data'!G83 -> 1630 | AA33: =Z33+'OEP RAW Data'!H83 -> 1640 | AB33: =AA33+'OEP RAW Data'!I83 -> 1680 | AC33: =AB33+'OEP RAW Data'!J83 -> 1691 | AD33: =AC33+'OEP RAW Data'!K83 -> 1705 | AE33: =AD33+'OEP RAW Data'!L83 -> 1721 | AF33: =AE33+'OEP RAW Data'!M83 -> 1731 | AK33: 3068 | AL33: 3473 | AM33: 4289 | AN33: 4540 | AO33: 4526 | AP33: 4532 | AQ33: 4589 | AT33: =AD33-W33 -> 101 | AU33: =(AD33/W33)^(1/7)-1 -> 0.0087616752 | AW33: =(AD33/AB33)^(1/2)-1 -> 0.0074129999
A34: ='OEP RAW Data'!A84 -> Northwood | B34: 1 | C34: RC | D34: U | E34: C | F34: SRPC | G34: 874 | H34: 1791 | I34: ='OEP RAW Data'!C84 -> 1905 | J34: ='OEP RAW Data'!N84 -> 2129 | K34: =(H34/G34)^(1/(1990-1980))-1 -> 0.074381237 | L34: =(I34/H34)^(1/(2000-1990))-1 -> 0.0061898671 | M34: =(J34/I34)^(1/(2010-2000))-1 -> 0.011179062 | N34: =AK34/G34 -> 2.4885584 | O34: =AL34/H34 -> 1.7442769 | P34: =AM34/W34 -> 1.8830833 | Q34: =AN34/AC34 -> 1.8288166 | R34: =AO34/AD34 -> 1.7997342 | S34: =AP34/AE34 -> 1.8137688 | T34: =AQ34/AF34 -> 1.8124452 | W34: ='OEP RAW Data'!C84+'OEP RAW Data'!D84 -> 1933 | X34: =W34+'OEP RAW Data'!E84 -> 1950 | Y34: =X34+'OEP RAW Data'!F84 -> 1981 | Z34: =Y34+'OEP RAW Data'!G84 -> 2046 | AA34: =Z34+'OEP RAW Data'!H84 -> 2116 | AB34: =AA34+'OEP RAW Data'!I84 -> 2185 | AC34: =AB34+'OEP RAW Data'!J84 -> 2214 | AD34: =AC34+'OEP RAW Data'!K84 -> 2257 | AE34: =AD34+'OEP RAW Data'!L84 -> 2266 | AF34: =AE34+'OEP RAW Data'!M84 -> 2282 | AK34: 2175 | AL34: 3124 | AM34: 3640 | AN34: 4049 | AO34: 4062 | AP34: 4110 | AQ34: 4136 | AT34: =AD34-W34 -> 324 | AU34: =(AD34/W34)^(1/7)-1 -> 0.022384469 | AW34: =(AD34/AB34)^(1/2)-1 -> 0.016342435
A35: ='OEP RAW Data'!A85 -> Nottingham | B35: 1 | C35: RC | D35: U | E35: C | F35: SRPC | G35: 712 | H35: 1314 | I35: ='OEP RAW Data'!C85 -> 1592 | J35: ='OEP RAW Data'!N85 -> 1986 | K35: =(H35/G35)^(1/(1990-1980))-1 -> 0.063191601 | L35: =(I35/H35)^(1/(2000-1990))-1 -> 0.019376858 | M35: =(J35/I35)^(1/(2010-2000))-1 -> 0.022359456 | N35: =AK35/G35 -> 2.741573 | O35: =AL35/H35 -> 2.2366819 | P35: =AM35/W35 -> 2.2649939 | Q35: =AN35/AC35 -> 2.2227797 | R35: =AO35/AD35 -> 2.2097971 | S35: =AP35/AE35 -> 2.2103194 | T35: =AQ35/AF35 -> 2.2092457 | W35: ='OEP RAW Data'!C85+'OEP RAW Data'!D85 -> 1634 | X35: =W35+'OEP RAW Data'!E85 -> 1675 | Y35: =X35+'OEP RAW Data'!F85 -> 1730 | Z35: =Y35+'OEP RAW Data'!G85 -> 1804 | AA35: =Z35+'OEP RAW Data'!H85 -> 1907 | AB35: =AA35+'OEP RAW Data'!I85 -> 1958 | AC35: =AB35+'OEP RAW Data'!J85 -> 1993 | AD35: =AC35+'OEP RAW Data'!K85 -> 2021 | AE35: =AD35+'OEP RAW Data'!L85 -> 2035 | AF35: =AE35+'OEP RAW Data'!M85 -> 2055 | AK35: 1952 | AL35: 2939 | AM35: 3701 | AN35: 4430 | AO35: 4466 | AP35: 4498 | AQ35: 4540 | AT35: =AD35-W35 -> 387 | AU35: =(AD35/W35)^(1/7)-1 -> 0.030831667 | AW35: =(AD35/AB35)^(1/2)-1 -> 0.015960476
A36: ='OEP RAW Data'!A86 -> Plaistow | B36: 1 | C36: RC | D36: 23 | E36: C | F36: RPC | G36: 1827 | H36: 2691 | I36: ='OEP RAW Data'!C86 -> 2927 | J36: ='OEP RAW Data'!N86 -> 3016 | K36: =(H36/G36)^(1/(1990-1980))-1 -> 0.039483297 | L36: =(I36/H36)^(1/(2000-1990))-1 -> 0.0084419476 | M36: =(J36/I36)^(1/(2010-2000))-1 -> 0.0029998348 | N36: =AK36/G36 -> 3.0700602 | O36: =AL36/H36 -> 2.7186919 | P36: =AM36/W36 -> 2.6314538 | Q36: =AN36/AC36 -> 2.5778593 | R36: =AO36/AD36 -> 2.5546667 | S36: =AP36/AE36 -> 2.5381794 | T36: =AQ36/AF36 -> 2.543 | W36: ='OEP RAW Data'!C86+'OEP RAW Data'!D86 -> 2944 | X36: =W36+'OEP RAW Data'!E86 -> 2960 | Y36: =X36+'OEP RAW Data'!F86 -> 2985 | Z36: =Y36+'OEP RAW Data'!G86 -> 2990 | AA36: =Z36+'OEP RAW Data'!H86 -> 2990 | AB36: =AA36+'OEP RAW Data'!I86 -> 2996 | AC36: =AB36+'OEP RAW Data'!J86 -> 2999 | AD36: =AC36+'OEP RAW Data'!K86 -> 3000 | AE36: =AD36+'OEP RAW Data'!L86 -> 2999 | AF36: =AE36+'OEP RAW Data'!M86 -> 3000 | AK36: 5609 | AL36: 7316 | AM36: 7747 | AN36: 7731 | AO36: 7664 | AP36: 7612 | AQ36: 7629 | AT36: =AD36-W36 -> 56 | AU36: =(AD36/W36)^(1/7)-1 -> 0.002695496 | AW36: =(AD36/AB36)^(1/2)-1 -> 0.00066733407
A37: ='OEP RAW Data'!A87 -> Raymond | B37: 1 | C37: RC | D37: 22 | E37: C | F37: SNHPC | G37: 1985 | H37: 3350 | I37: ='OEP RAW Data'!C87 -> 3710 | J37: ='OEP RAW Data'!N87 -> 4254 | K37: =(H37/G37)^(1/(1990-1980))-1 -> 0.05372778 | L37: =(I37/H37)^(1/(2000-1990))-1 -> 0.010259424 | M37: =(J37/I37)^(1/(2010-2000))-1 -> 0.013776822 | N37: =AK37/G37 -> 2.7471033 | O37: =AL37/H37 -> 2.6008955 | P37: =AM37/W37 -> 2.5518333 | Q37: =AN37/AC37 -> 2.504065 | R37: =AO37/AD37 -> 2.4806808 | S37: =AP37/AE37 -> 2.4686431 | T37: =AQ37/AF37 -> 2.4829932 | W37: ='OEP RAW Data'!C87+'OEP RAW Data'!D87 -> 3791 | X37: =W37+'OEP RAW Data'!E87 -> 3842 | Y37: =X37+'OEP RAW Data'!F87 -> 3916 | Z37: =Y37+'OEP RAW Data'!G87 -> 3997 | AA37: =Z37+'OEP RAW Data'!H87 -> 4138 | AB37: =AA37+'OEP RAW Data'!I87 -> 4263 | AC37: =AB37+'OEP RAW Data'!J87 -> 4305 | AD37: =AC37+'OEP RAW Data'!K87 -> 4348 | AE37: =AD37+'OEP RAW Data'!L87 -> 4385 | AF37: =AE37+'OEP RAW Data'!M87 -> 4410 | AK37: 5453 | AL37: 8713 | AM37: 9674 | AN37: 10780 | AO37: 10786 | AP37: 10825 | AQ37: 10950 | AT37: =AD37-W37 -> 557 | AU37: =(AD37/W37)^(1/7)-1 -> 0.019776753 | AW37: =(AD37/AB37)^(1/2)-1 -> 0.0099202989
A38: ='OEP RAW Data'!A88 -> Sandown | B38: 1 | C38: RC | D38: 23 | E38: C | F38: RPC | G38: 736 | H38: 1488 | I38: ='OEP RAW Data'!C88 -> 1777 | J38: ='OEP RAW Data'!N88 -> 2214 | K38: =(H38/G38)^(1/(1990-1980))-1 -> 0.072932774 | L38: =(I38/H38)^(1/(2000-1990))-1 -> 0.017907817 | M38: =(J38/I38)^(1/(2010-2000))-1 -> 0.022230933 | N38: =AK38/G38 -> 2.794837 | O38: =AL38/H38 -> 2.7284946 | P38: =AM38/W38 -> 2.8667781 | Q38: =AN38/AC38 -> 2.7795572 | R38: =AO38/AD38 -> 2.7529029 | S38: =AP38/AE38 -> 2.7546211 | T38: =AQ38/AF38 -> 2.7439415 | W38: ='OEP RAW Data'!C88+'OEP RAW Data'!D88 -> 1794 | X38: =W38+'OEP RAW Data'!E88 -> 1855 | Y38: =X38+'OEP RAW Data'!F88 -> 1925 | Z38: =Y38+'OEP RAW Data'!G88 -> 1978 | AA38: =Z38+'OEP RAW Data'!H88 -> 2051 | AB38: =AA38+'OEP RAW Data'!I88 -> 2094 | AC38: =AB38+'OEP RAW Data'!J88 -> 2123 | AD38: =AC38+'OEP RAW Data'!K88 -> 2153 | AE38: =AD38+'OEP RAW Data'!L88 -> 2164 | AF38: =AE38+'OEP RAW Data'!M88 -> 2187 | AK38: 2057 | AL38: 4060 | AM38: 5143 | AN38: 5901 | AO38: 5927 | AP38: 5961 | AQ38: 6001 | AT38: =AD38-W38 -> 359 | AU38: =(AD38/W38)^(1/7)-1 -> 0.026401718 | AW38: =(AD38/AB38)^(1/2)-1 -> 0.01399001
A39: ='OEP RAW Data'!A89 -> CEDS Central Towns Totals: | B39: 0 | E39: CT | G39: =SUM(G22:G38) -> 17428 | H39: =SUM(H22:H38) -> 27960 | I39: ='OEP RAW Data'!C89 -> 32909 | J39: ='OEP RAW Data'!N89 -> 38322 | K39: =(H39/G39)^(1/(1990-1980))-1 -> 0.048404706 | L39: =(I39/H39)^(1/(2000-1990))-1 -> 0.016430648 | M39: =(J39/I39)^(1/(2010-2000))-1 -> 0.01534433 | N39: =AK39/G39 -> 2.9021689 | O39: =AL39/H39 -> 2.6271459 | P39: =AM39/W39 -> 2.56577 | Q39: =AN39/AC39 -> 2.5426546 | R39: =AO39/AD39 -> 2.5194357 | S39: =AP39/AE39 -> 2.5078996 | T39: =AQ39/AF39 -> 2.5133871 | W39: ='OEP RAW Data'!C89+'OEP RAW Data'!D89 -> 33830 | X39: =W39+'OEP RAW Data'!E89 -> 34499 | Y39: =X39+'OEP RAW Data'!F89 -> 35153 | Z39: =Y39+'OEP RAW Data'!G89 -> 35833 | AA39: =Z39+'OEP RAW Data'!H89 -> 36605 | AB39: =AA39+'OEP RAW Data'!I89 -> 37277 | AC39: =AB39+'OEP RAW Data'!J89 -> 37663 | AD39: =AC39+'OEP RAW Data'!K89 -> 37997 | AE39: =AD39+'OEP RAW Data'!L89 -> 38230 | AF39: =AE39+'OEP RAW Data'!M89 -> 38470 | AK39: =SUM(AK22:AK38) -> 50579 | AL39: =SUM(AL22:AL38) -> 73455 | AM39: =SUM(AM22:AM38) -> 86800 | AN39: 95764 | AO39: =SUM(AO22:AO38) -> 95731 | AP39: =SUM(AP22:AP38) -> 95877 | AQ39: 96690 | AT39: =AD39-W39 -> 4167 | AU39: =(AD39/W39)^(1/7)-1 -> 0.016732623 | AW39: =(AD39/AB39)^(1/2)-1 -> 0.0096112415
A40: ='OEP RAW Data'!A90 -> Derry | B40: 1 | C40: RC | D40: 22 | E40: W | F40: SNHPC | G40: 7068 | H40: 11869 | I40: ='OEP RAW Data'!C90 -> 12735 | J40: ='OEP RAW Data'!N90 -> 13277 | K40: =(H40/G40)^(1/(1990-1980))-1 -> 0.053202203 | L40: =(I40/H40)^(1/(2000-1990))-1 -> 0.0070672711 | M40: =(J40/I40)^(1/(2010-2000))-1 -> 0.0041766085 | N40: =AK40/G40 -> 2.6704867 | O40: =AL40/H40 -> 2.4941444 | P40: =AM40/W40 -> 2.6496106 | Q40: =AN40/AC40 -> 2.5973261 | R40: =AO40/AD40 -> 2.5768535 | S40: =AP40/AE40 -> 2.554048 | T40: =AQ40/AF40 -> 2.5712145 | W40: ='OEP RAW Data'!C90+'OEP RAW Data'!D90 -> 12840 | X40: =W40+'OEP RAW Data'!E90 -> 12885 | Y40: =X40+'OEP RAW Data'!F90 -> 12940 | Z40: =Y40+'OEP RAW Data'!G90 -> 13006 | AA40: =Z40+'OEP RAW Data'!H90 -> 13097 | AB40: =AA40+'OEP RAW Data'!I90 -> 13174 | AC40: =AB40+'OEP RAW Data'!J90 -> 13239 | AD40: =AC40+'OEP RAW Data'!K90 -> 13272 | AE40: =AD40+'OEP RAW Data'!L90 -> 13340 | AF40: =AE40+'OEP RAW Data'!M90 -> 13347 | AK40: 18875 | AL40: 29603 | AM40: 34021 | AN40: 34386 | AO40: 34200 | AP40: 34071 | AQ40: 34318 | AT40: =AD40-W40 -> 432 | AU40: =(AD40/W40)^(1/7)-1 -> 0.0047385135 | AW40: =(AD40/AB40)^(1/2)-1 -> 0.0037125559
A41: ='OEP RAW Data'!A91 -> Hudson | B41: 1 | C41: HC | D41: 22 | E41: W | F41: NRPC | G41: 4369 | H41: 6902 | I41: ='OEP RAW Data'!C91 -> 8165 | J41: ='OEP RAW Data'!N91 -> 9212 | K41: =(H41/G41)^(1/(1990-1980))-1 -> 0.046789339 | L41: =(I41/H41)^(1/(2000-1990))-1 -> 0.016946541 | M41: =(J41/I41)^(1/(2010-2000))-1 -> 0.012138102 | N41: =AK41/G41 -> 3.2094301 | O41: =AL41/H41 -> 2.8296146 | P41: =AM41/W41 -> 2.7916717 | Q41: =AN41/AC41 -> 2.7028364 | R41: =AO41/AD41 -> 2.8743032 | S41: =AP41/AE41 -> 2.6778516 | T41: =AQ41/AF41 -> 2.6875476 | W41: ='OEP RAW Data'!C91+'OEP RAW Data'!D91 -> 8213 | X41: =W41+'OEP RAW Data'!E91 -> 8331 | Y41: =X41+'OEP RAW Data'!F91 -> 8545 | Z41: =Y41+'OEP RAW Data'!G91 -> 8722 | AA41: =Z41+'OEP RAW Data'!H91 -> 8862 | AB41: =AA41+'OEP RAW Data'!I91 -> 8988 | AC41: =AB41+'OEP RAW Data'!J91 -> 9096 | AD41: =AC41+'OEP RAW Data'!K91 -> 9149 | AE41: =AD41+'OEP RAW Data'!L91 -> 9179 | AF41: =AE41+'OEP RAW Data'!M91 -> 9195 | AK41: 14022 | AL41: 19530 | AM41: 22928 | AN41: 24585 | AO41: 26297 | AP41: 24580 | AQ41: 24712 | AT41: =AD41-W41 -> 936 | AU41: =(AD41/W41)^(1/7)-1 -> 0.015537517 | AW41: =(AD41/AB41)^(1/2)-1 -> 0.0089166331
A42: ='OEP RAW Data'!A92 -> Litchfield | B42: 1 | C42: HC | D42: 22 | E42: W | F42: NRPC | G42: 1319 | H42: 1845 | I42: ='OEP RAW Data'!C92 -> 2389 | J42: ='OEP RAW Data'!N92 -> 2912 | K42: =(H42/G42)^(1/(1990-1980))-1 -> 0.034130048 | L42: =(I42/H42)^(1/(2000-1990))-1 -> 0.026176295 | M42: =(J42/I42)^(1/(2010-2000))-1 -> 0.019993777 | N42: =AK42/G42 -> 3.146323 | O42: =AL42/H42 -> 2.9897019 | P42: =AM42/W42 -> 2.9918699 | Q42: =AN42/AC42 -> 2.9325132 | R42: =AO42/AD42 -> 2.9063256 | S42: =AP42/AE42 -> 2.9139711 | T42: =AQ42/AF42 -> 2.899694 | W42: ='OEP RAW Data'!C92+'OEP RAW Data'!D92 -> 2460 | X42: =W42+'OEP RAW Data'!E92 -> 2477 | Y42: =X42+'OEP RAW Data'!F92 -> 2541 | Z42: =Y42+'OEP RAW Data'!G92 -> 2607 | AA42: =Z42+'OEP RAW Data'!H92 -> 2673 | AB42: =AA42+'OEP RAW Data'!I92 -> 2798 | AC42: =AB42+'OEP RAW Data'!J92 -> 2845 | AD42: =AC42+'OEP RAW Data'!K92 -> 2893 | AE42: =AD42+'OEP RAW Data'!L92 -> 2906 | AF42: =AE42+'OEP RAW Data'!M92 -> 2941 | AK42: 4150 | AL42: 5516 | AM42: 7360 | AN42: 8343 | AO42: 8408 | AP42: 8468 | AQ42: 8528 | AT42: =AD42-W42 -> 433 | AU42: =(AD42/W42)^(1/7)-1 -> 0.023432129 | AW42: =(AD42/AB42)^(1/2)-1 -> 0.016834708
A43: ='OEP RAW Data'!A93 -> Londonderry | B43: 1 | C43: RC | D43: 22 | E43: W | F43: SNHPC | G43: 4581 | H43: 6739 | I43: ='OEP RAW Data'!C93 -> 7718 | J43: ='OEP RAW Data'!N93 -> 8771 | K43: =(H43/G43)^(1/(1990-1980))-1 -> 0.039354059 | L43: =(I43/H43)^(1/(2000-1990))-1 -> 0.013656785 | M43: =(J43/I43)^(1/(2010-2000))-1 -> 0.012871692 | N43: =AK43/G43 -> 2.9683475 | O43: =AL43/H43 -> 2.935302 | P43: =AM43/W43 -> 2.9547304 | Q43: =AN43/AC43 -> 2.8927731 | R43: =AO43/AD43 -> 2.8780431 | S43: =AP43/AE43 -> 2.8642882 | T43: =AQ43/AF43 -> 2.8757995 | W43: ='OEP RAW Data'!C93+'OEP RAW Data'!D93 -> 7864 | X43: =W43+'OEP RAW Data'!E93 -> 7972 | Y43: =X43+'OEP RAW Data'!F93 -> 8012 | Z43: =Y43+'OEP RAW Data'!G93 -> 8145 | AA43: =Z43+'OEP RAW Data'!H93 -> 8320 | AB43: =AA43+'OEP RAW Data'!I93 -> 8405 | AC43: =AB43+'OEP RAW Data'!J93 -> 8496 | AD43: =AC43+'OEP RAW Data'!K93 -> 8544 | AE43: =AD43+'OEP RAW Data'!L93 -> 8577 | AF43: =AE43+'OEP RAW Data'!M93 -> 8599 | AK43: 13598 | AL43: 19781 | AM43: 23236 | AN43: 24577 | AO43: 24590 | AP43: 24567 | AQ43: 24729 | AT43: =AD43-W43 -> 680 | AU43: =(AD43/W43)^(1/7)-1 -> 0.011918162 | AW43: =(AD43/AB43)^(1/2)-1 -> 0.0082349801
A44: ='OEP RAW Data'!A94 -> Merrimack | B44: 1 | C44: HC | D44: 22 | E44: W | F44: NRPC | G44: 4584 | H44: 7915 | I44: ='OEP RAW Data'!C94 -> 8959 | J44: ='OEP RAW Data'!N94 -> 9818 | K44: =(H44/G44)^(1/(1990-1980))-1 -> 0.056137908 | L44: =(I44/H44)^(1/(2000-1990))-1 -> 0.012466965 | M44: =(J44/I44)^(1/(2010-2000))-1 -> 0.0091979255 | N44: =AK44/G44 -> 3.3608202 | O44: =AL44/H44 -> 2.7992419 | P44: =AM44/W44 -> 2.7470472 | Q44: =AN44/AC44 -> 2.6938484 | R44: =AO44/AD44 -> 2.6825462 | S44: =AP44/AE44 -> 2.6588343 | T44: =AQ44/AF44 -> 2.6634908 | W44: ='OEP RAW Data'!C94+'OEP RAW Data'!D94 -> 9144 | X44: =W44+'OEP RAW Data'!E94 -> 9383 | Y44: =X44+'OEP RAW Data'!F94 -> 9455 | Z44: =Y44+'OEP RAW Data'!G94 -> 9552 | AA44: =Z44+'OEP RAW Data'!H94 -> 9649 | AB44: =AA44+'OEP RAW Data'!I94 -> 9703 | AC44: =AB44+'OEP RAW Data'!J94 -> 9786 | AD44: =AC44+'OEP RAW Data'!K94 -> 9803 | AE44: =AD44+'OEP RAW Data'!L94 -> 9831 | AF44: =AE44+'OEP RAW Data'!M94 -> 9866 | AK44: 15406 | AL44: 22156 | AM44: 25119 | AN44: 26362 | AO44: 26297 | AP44: 26139 | AQ44: 26278 | AT44: =AD44-W44 -> 659 | AU44: =(AD44/W44)^(1/7)-1 -> 0.0099910859 | AW44: =(AD44/AB44)^(1/2)-1 -> 0.0051398365
A45: ='OEP RAW Data'!A95 -> Nashua | B45: 1 | C45: HC | D45: 22 | E45: W | F45: NRPC | G45: 25444 | H45: 33383 | I45: ='OEP RAW Data'!C95 -> 35387 | J45: ='OEP RAW Data'!N95 -> 37168 | K45: =(H45/G45)^(1/(1990-1980))-1 -> 0.027528786 | L45: =(I45/H45)^(1/(2000-1990))-1 -> 0.0058467995 | M45: =(J45/I45)^(1/(2010-2000))-1 -> 0.0049224411 | N45: =AK45/G45 -> 2.66723 | O45: =AL45/H45 -> 2.3863044 | P45: =AM45/W45 -> 2.4339554 | Q45: =AN45/AC45 -> 2.3847829 | R45: =AO45/AD45 -> 2.3543237 | S45: =AP45/AE45 -> 2.3409384 | T45: =AQ45/AF45 -> 2.3412117 | W45: ='OEP RAW Data'!C95+'OEP RAW Data'!D95 -> 35582 | X45: =W45+'OEP RAW Data'!E95 -> 35737 | Y45: =X45+'OEP RAW Data'!F95 -> 35851 | Z45: =Y45+'OEP RAW Data'!G95 -> 36189 | AA45: =Z45+'OEP RAW Data'!H95 -> 36362 | AB45: =AA45+'OEP RAW Data'!I95 -> 36587 | AC45: =AB45+'OEP RAW Data'!J95 -> 36735 | AD45: =AC45+'OEP RAW Data'!K95 -> 37017 | AE45: =AD45+'OEP RAW Data'!L95 -> 37212 | AF45: =AE45+'OEP RAW Data'!M95 -> 37402 | AK45: 67865 | AL45: 79662 | AM45: 86605 | AN45: 87605 | AO45: 87150 | AP45: 87111 | AQ45: 87566 | AT45: =AD45-W45 -> 1435 | AU45: =(AD45/W45)^(1/7)-1 -> 0.0056641775 | AW45: =(AD45/AB45)^(1/2)-1 -> 0.0058592388
A46: ='OEP RAW Data'!A96 -> Pelham | B46: 1 | C46: HC | D46: 26 | E46: W | F46: NRPC | G46: 2408 | H46: 3118 | I46: ='OEP RAW Data'!C96 -> 3740 | J46: ='OEP RAW Data'!N96 -> 4598 | K46: =(H46/G46)^(1/(1990-1980))-1 -> 0.026176259 | L46: =(I46/H46)^(1/(2000-1990))-1 -> 0.018355819 | M46: =(J46/I46)^(1/(2010-2000))-1 -> 0.020868343 | N46: =AK46/G46 -> 3.3596346 | O46: =AL46/H46 -> 3.0173188 | P46: =AM46/W46 -> 2.8333333 | Q46: =AN46/AC46 -> 2.8220358 | R46: =AO46/AD46 -> 2.8011709 | S46: =AP46/AE46 -> 2.7842611 | T46: =AQ46/AF46 -> 2.7951002 | W46: ='OEP RAW Data'!C96+'OEP RAW Data'!D96 -> 3852 | X46: =W46+'OEP RAW Data'!E96 -> 3967 | Y46: =X46+'OEP RAW Data'!F96 -> 4125 | Z46: =Y46+'OEP RAW Data'!G96 -> 4244 | AA46: =Z46+'OEP RAW Data'!H96 -> 4327 | AB46: =AA46+'OEP RAW Data'!I96 -> 4371 | AC46: =AB46+'OEP RAW Data'!J96 -> 4411 | AD46: =AC46+'OEP RAW Data'!K96 -> 4441 | AE46: =AD46+'OEP RAW Data'!L96 -> 4473 | AF46: =AE46+'OEP RAW Data'!M96 -> 4490 | AK46: 8090 | AL46: 9408 | AM46: 10914 | AN46: 12448 | AO46: 12440 | AP46: 12454 | AQ46: 12550 | AT46: =AD46-W46 -> 589 | AU46: =(AD46/W46)^(1/7)-1 -> 0.020534721 | AW46: =(AD46/AB46)^(1/2)-1 -> 0.0079755165
A47: ='OEP RAW Data'!A97 -> Salem | B47: 1 | C47: RC | D47: 27 | E47: W | F47: RPC | G47: 8425 | H47: 9897 | I47: ='OEP RAW Data'!C97 -> 10866 | J47: ='OEP RAW Data'!N97 -> 11810 | K47: =(H47/G47)^(1/(1990-1980))-1 -> 0.01623317 | L47: =(I47/H47)^(1/(2000-1990))-1 -> 0.0093844572 | M47: =(J47/I47)^(1/(2010-2000))-1 -> 0.0083655959 | N47: =AK47/G47 -> 2.8633828 | O47: =AL47/H47 -> 2.6013944 | P47: =AM47/W47 -> 2.5593591 | Q47: =AN47/AC47 -> 2.4763838 | R47: =AO47/AD47 -> 2.4560112 | S47: =AP47/AE47 -> 2.4400495 | T47: =AQ47/AF47 -> 2.4405105 | W47: ='OEP RAW Data'!C97+'OEP RAW Data'!D97 -> 10984 | X47: =W47+'OEP RAW Data'!E97 -> 11120 | Y47: =X47+'OEP RAW Data'!F97 -> 11213 | Z47: =Y47+'OEP RAW Data'!G97 -> 11637 | AA47: =Z47+'OEP RAW Data'!H97 -> 11889 | AB47: =AA47+'OEP RAW Data'!I97 -> 12010 | AC47: =AB47+'OEP RAW Data'!J97 -> 12068 | AD47: =AC47+'OEP RAW Data'!K97 -> 12094 | AE47: =AD47+'OEP RAW Data'!L97 -> 12110 | AF47: =AE47+'OEP RAW Data'!M97 -> 12145 | AK47: 24124 | AL47: 25746 | AM47: 28112 | AN47: 29885 | AO47: 29703 | AP47: 29549 | AQ47: 29640 | AT47: =AD47-W47 -> 1110 | AU47: =(AD47/W47)^(1/7)-1 -> 0.013847833 | AW47: =(AD47/AB47)^(1/2)-1 -> 0.0034909922
A48: ='OEP RAW Data'!A98 -> Windham | B48: 1 | C48: RC | D48: 22 | E48: W | F48: RPC | G48: 1726 | H48: 3327 | I48: ='OEP RAW Data'!C98 -> 3906 | J48: ='OEP RAW Data'!N98 -> 5164 | K48: =(H48/G48)^(1/(1990-1980))-1 -> 0.067827745 | L48: =(I48/H48)^(1/(2000-1990))-1 -> 0.016173684 | M48: =(J48/I48)^(1/(2010-2000))-1 -> 0.028313173 | N48: =AK48/G48 -> 3.2815759 | O48: =AL48/H48 -> 2.7051398 | P48: =AM48/W48 -> 2.5711885 | Q48: =AN48/AC48 -> 2.6116988 | R48: =AO48/AD48 -> 2.5802645 | S48: =AP48/AE48 -> 2.5826788 | T48: =AQ48/AF48 -> 2.5986 | W48: ='OEP RAW Data'!C98+'OEP RAW Data'!D98 -> 4165 | X48: =W48+'OEP RAW Data'!E98 -> 4331 | Y48: =X48+'OEP RAW Data'!F98 -> 4434 | Z48: =Y48+'OEP RAW Data'!G98 -> 4548 | AA48: =Z48+'OEP RAW Data'!H98 -> 4665 | AB48: =AA48+'OEP RAW Data'!I98 -> 4737 | AC48: =AB48+'OEP RAW Data'!J98 -> 4821 | AD48: =AC48+'OEP RAW Data'!K98 -> 4915 | AE48: =AD48+'OEP RAW Data'!L98 -> 4965 | AF48: =AE48+'OEP RAW Data'!M98 -> 5000 | AK48: 5664 | AL48: 9000 | AM48: 10709 | AN48: 12591 | AO48: 12682 | AP48: 12823 | AQ48: 12993 | AT48: =AD48-W48 -> 750 | AU48: =(AD48/W48)^(1/7)-1 -> 0.023935606 | AW48: =(AD48/AB48)^(1/2)-1 -> 0.018615003
A49: ='OEP RAW Data'!A99 -> CEDS Western Towns Totals: | B49: 0 | C49: RC | E49: WT | G49: =SUM(G40:G48) -> 59924 | H49: =SUM(H40:H48) -> 84995 | I49: ='OEP RAW Data'!C99 -> 93865 | J49: ='OEP RAW Data'!N99 -> 102730 | K49: =(H49/G49)^(1/(1990-1980))-1 -> 0.035569518 | L49: =(I49/H49)^(1/(2000-1990))-1 -> 0.0099759461 | M49: =(J49/I49)^(1/(2010-2000))-1 -> 0.0090655058 | N49: =AK49/G49 -> 2.8668647 | O49: =AL49/H49 -> 2.5931172 | P49: =AM49/W49 -> 2.6182285 | Q49: =AM49/AC49 -> 2.4533139 | R49: =AO49/AD49 -> 2.5631267 | S49: =AP49/AE49 -> 2.5319661 | T49: =AQ49/AF49 -> 2.5373987 | W49: ='OEP RAW Data'!C99+'OEP RAW Data'!D99 -> 95104 | X49: =W49+'OEP RAW Data'!E99 -> 96203 | Y49: =X49+'OEP RAW Data'!F99 -> 97116 | Z49: =Y49+'OEP RAW Data'!G99 -> 98650 | AA49: =Z49+'OEP RAW Data'!H99 -> 99844 | AB49: =AA49+'OEP RAW Data'!I99 -> 100773 | AC49: =AB49+'OEP RAW Data'!J99 -> 101497 | AD49: =AC49+'OEP RAW Data'!K99 -> 102128 | AE49: =AD49+'OEP RAW Data'!L99 -> 102593 | AF49: =AE49+'OEP RAW Data'!M99 -> 102985 | AK49: =SUM(AK40:AK48) -> 171794 | AL49: =SUM(AL40:AL48) -> 220402 | AM49: =SUM(AM40:AM48) -> 249004 | AN49: 101439 | AO49: =SUM(AO40:AO48) -> 261767 | AP49: =SUM(AP40:AP48) -> 259762 | AQ49: 261314 | AT49: =AD49-W49 -> 7024 | AU49: =(AD49/W49)^(1/7)-1 -> 0.010231401 | AW49: =(AD49/AB49)^(1/2)-1 -> 0.0067005821
A50: REDC CEDS Region Totals: | G50: =SUM(G49,G39,G21) -> 106256 | H50: =SUM(H49,H39,H21) -> 154936 | I50: =SUM(I49,I39,I21) -> 171663 | J50: =SUM(J49,J39,J21) -> 190417 | K50: =(H50/G50)^(1/(1990-1980))-1 -> 0.038436364 | L50: =(I50/H50)^(1/(2000-1990))-1 -> 0.010304845 | M50: =(J50/I50)^(1/(2010-2000))-1 -> 0.010422252 | N50: =AK50/G50 -> 0 | O50: =AL50/H50 -> 0 | P50: =AM50/W50 -> 2.4681079 | Q50: =AM50/AC50 -> 2.2920173 | R50: =AO50/AD50 -> 2.4166936 | S50: =AP50/AE50 -> 2.3977343 | T50: =AQ50/AF50 -> 2.3995845 | W50: ='OEP RAW Data'!C100+'OEP RAW Data'!D100 -> 174338 | X50: =W50+'OEP RAW Data'!E100 -> 176558 | Y50: =X50+'OEP RAW Data'!F100 -> 178759 | Z50: =Y50+'OEP RAW Data'!G100 -> 181627 | AA50: =Z50+'OEP RAW Data'!H100 -> 184205 | AB50: =AA50+'OEP RAW Data'!I100 -> 186362 | AC50: =AB50+'OEP RAW Data'!J100 -> 187732 | AD50: =AC50+'OEP RAW Data'!K100 -> 188911 | AE50: =AD50+'OEP RAW Data'!L100 -> 189878 | AF50: =AE50+'OEP RAW Data'!M100 -> 190603 | AM50: =SUM(AM21,AM39,AM49) -> 430285 | AO50: =SUM(AO49,AO39,AO21) -> 456540 | AP50: =SUM(AP49,AP39,AP21) -> 455277 | AQ50: 457368
A51: ='OEP RAW Data'!A101 -> Hillsborough County Totals: | B51: 0 | C51: HC | E51: HC | G51: 101208 | H51: 135622 | I51: ='OEP RAW Data'!C101 -> 149961 | J51: ='OEP RAW Data'!N101 -> 166053 | K51: =(H51/G51)^(1/(1990-1980))-1 -> 0.029701938 | L51: =(I51/H51)^(1/(2000-1990))-1 -> 0.01010104 | M51: =(J51/I51)^(1/(2010-2000))-1 -> 0.010245303 | N51: =AK51/G51 -> 0 | O51: =AL51/H51 -> 0 | P51: =AM51/W51 -> 2.5083548 | Q51: =AM51/AC51 -> 2.3289894 | R51: =AO51/AD51 -> 2.4390654 | S51: =AP51/AE51 -> 2.4261898 | T51: =AQ51/AF51 -> 2.4332422 | W51: ='OEP RAW Data'!C101+'OEP RAW Data'!D101 -> 151829 | X51: =W51+'OEP RAW Data'!E101 -> 153597 | Y51: =X51+'OEP RAW Data'!F101 -> 156026 | Z51: =Y51+'OEP RAW Data'!G101 -> 158232 | AA51: =Z51+'OEP RAW Data'!H101 -> 160374 | AB51: =AA51+'OEP RAW Data'!I101 -> 162164 | AC51: =AB51+'OEP RAW Data'!J101 -> 163522 | AD51: =AC51+'OEP RAW Data'!K101 -> 164570 | AE51: =AD51+'OEP RAW Data'!L101 -> 165255 | AF51: =AE51+'OEP RAW Data'!M101 -> 165741 | AM51: 380841 | AO51: 401397 | AP51: 400940 | AQ51: 403288
A52: ='OEP RAW Data'!A102 -> Rockingham County Totals: | B52: 0 | E52: RC | G52: 69375 | H52: 101773 | I52: ='OEP RAW Data'!C102 -> 113023 | J52: ='OEP RAW Data'!N102 -> 126709 | K52: =(H52/G52)^(1/(1990-1980))-1 -> 0.039065579 | L52: =(I52/H52)^(1/(2000-1990))-1 -> 0.010539806 | M52: =(J52/I52)^(1/(2010-2000))-1 -> 0.011495752 | N52: =AK52/G52 -> 2.7437117 | O52: 2.4 | P52: =AM52/W52 -> 2.4099942 | Q52: =AM52/AC52 -> 2.2213777 | R52: =AO52/AD52 -> 2.356424 | S52: =AP52/AE52 -> 2.3405881 | T52: =AQ52/AF52 -> 2.350043 | W52: ='OEP RAW Data'!C102+'OEP RAW Data'!D102 -> 115087 | X52: =W52+'OEP RAW Data'!E102 -> 116663 | Y52: =X52+'OEP RAW Data'!F102 -> 118242 | Z52: =Y52+'OEP RAW Data'!G102 -> 120313 | AA52: =Z52+'OEP RAW Data'!H102 -> 122332 | AB52: =AA52+'OEP RAW Data'!I102 -> 123915 | AC52: =AB52+'OEP RAW Data'!J102 -> 124859 | AD52: =AC52+'OEP RAW Data'!K102 -> 125592 | AE52: =AD52+'OEP RAW Data'!L102 -> 126261 | AF52: =AE52+'OEP RAW Data'!M102 -> 126693 | AK52: 190345 | AL52: 245845 | AM52: 277359 | AN52: 296565 | AO52: 295948 | AP52: 295525 | AQ52: 297734 | AT52: =AD52-W52 -> 10505 | AU52: =(AD52/W52)^(1/7)-1 -> 0.012556782 | AW52: =(AD52/AB52)^(1/2)-1 -> 0.0067439945
A53: ='OEP RAW Data'!A103 -> State of NH Totals: | B53: 0 | E53: NH | G53: 349001 | H53: 503541 | I53: ='OEP RAW Data'!C103 -> 546524 | J53: ='OEP RAW Data'!N103 -> 614754 | K53: =(H53/G53)^(1/(1990-1980))-1 -> 0.037339264 | L53: =(I53/H53)^(1/(2000-1990))-1 -> 0.0082249489 | M53: =(J53/I53)^(1/(2010-2000))-1 -> 0.011833869 | N53: =AK53/G53 -> 2.6374566 | O53: =AL53/H53 -> 2.202903 | P53: =AM53/W53 -> 2.2299609 | Q53: =AM53/AC53 -> 2.0530634 | R53: =AO53/AD53 -> 2.1693191 | S53: =AP53/AE53 -> 2.1583596 | T53: =AQ53/AF53 -> 2.1663949 | W53: ='OEP RAW Data'!C103+'OEP RAW Data'!D103 -> 554068 | X53: =W53+'OEP RAW Data'!E103 -> 561147 | Y53: =X53+'OEP RAW Data'!F103 -> 570045 | Z53: =Y53+'OEP RAW Data'!G103 -> 579308 | AA53: =Z53+'OEP RAW Data'!H103 -> 588378 | AB53: =AA53+'OEP RAW Data'!I103 -> 596080 | AC53: =AB53+'OEP RAW Data'!J103 -> 601808 | AD53: =AC53+'OEP RAW Data'!K103 -> 606181 | AE53: =AD53+'OEP RAW Data'!L103 -> 609259 | AF53: =AE53+'OEP RAW Data'!M103 -> 611419 | AK53: 920475 | AL53: 1109252 | AM53: 1235550 | AN53: 1315000 | AO53: 1315000 | AP53: 1315000 | AQ53: 1324575 | AT53: =AD53-W53 -> 52113 | AU53: =(AD53/W53)^(1/7)-1 -> 0.012924407 | AW53: =(AD53/AB53)^(1/2)-1 -> 0.0084372623
A55: NOTE 1: Decline in units in Portsmouth and Newington is attributed to the closure of Pease AFB
A56: Source: U.S. Census, and Current Estimates and Trends in New Hampshire's Housing Supply: NH OEP

Sheet B5_NHA data 2010
A1: 2010 Data
A2: ** CEDS SUBREGION averages are weighted averages.
B4: All Homes | D4: Existing Homes | F4: New Homes
A5: Town/Area | B5: Median Purchase Price | C5: Sample Size | D5: Median Purchase Price | E5: Sample Size | F5: Median Purchase Price | G5: Sample Size
A6: East Kingston | B6: 303500 | C6: 33 | D6: 303500 | E6: 25 | F6: 302000 | G6: 8
A7: Exeter | B7: 262500 | C7: 142 | D7: 247000 | E7: 125 | F7: 305000 | G7: 17
A8: Greenland | B8: 375000 | C8: 35 | D8: 375000 | E8: 25 | F8: 365750 | G8: 10
A9: Hampton | B9: 284900 | C9: 140 | D9: 284900 | E9: 131 | F9: 304900 | G9: 9
A10: Hampton Falls | B10: 380000 | C10: 34 | D10: 380000 | E10: 32 | F10: 285000 | G10: 2
A11: Kensington | B11: 300000 | C11: 11 | D11: 300000 | E11: 11 | F11: n/a | G11: n/a
A12: New Castle | B12: 825000 | C12: 11 | D12: 825000 | E12: 11 | F12: n/a | G12: n/a
A13: Newfields | B13: 395700 | C13: 10 | D13: 395700 | E13: 10 | F13: n/a | G13: n/a
A14: Newington | B14: 459000 | C14: 7 | D14: 459000 | E14: 7 | F14: n/a | G14: n/a
A15: Newmarket | B15: 205000 | C15: 68 | D15: 201000 | E15: 66 | F15: 250000 | G15: 2
A16: North Hampton | B16: 506000 | C16: 39 | D16: 520000 | E16: 37 | F16: 369200 | G16: 2
A17: Portsmouth | B17: 319533 | C17: 201 | D17: 319900 | E17: 180 | F17: 289900 | G17: 21
A18: Rye | B18: 555000 | C18: 53 | D18: 555000 | E18: 53 | F18: n/a | G18: n/a
A19: Seabrook | B19: 339480 | C19: 35 | D19: 253000 | E19: 19 | F19: 364775 | G19: 16
A20: South Hampton | B20: 269000 | C20: 3 | D20: 200000 | E20: 2 | F20: 0 | G20: 1
A21: Stratham | B21: 300000 | C21: 96 | D21: 299900 | E21: 90 | F21: 342500 | G21: 6
A22: CEDS Eastern Towns | B22: =(B6*C6+B7*C7+B8*C8+B9*C9+B10*C10+B11*C11+B12*C12+B13*C13+B14*C14+B15*C15+B16*C16+B17*C17+B18*C18+B19*C19+B20*C20+B21*C21)/C22 -> 328508.1 | C22: =SUM(C6:C21) -> 918 | D22: =(D6*E6+D7*E7+D8*E8+D9*E9+D10*E10+D11*E11+D12*E12+D13*E13+D14*E14+D15*E15+D16*E16+D17*E17+D18*E18+D19*E19+D20*E20+D21*E21)/E22 -> 325928.88 | E22: =SUM(E6:E21) -> 824 | F22: =(F6*G6+F7*G7+F8*G8+F9*G9+F15*G15+F16*G16+F17*G17+F19*G19+F20*G20+F21*G21)/G22 -> 310854.26 | G22: =SUM(G6:G21) -> 94
A23: Atkinson | B23: 250000 | C23: 74 | D23: 249900 | E23: 70 | F23: 255000 | G23: 4
A24: Auburn | B24: 288000 | C24: 30 | D24: 262000 | E24: 24 | F24: 395000 | G24: 6
A25: Brentwood | B25: 299730 | C25: 39 | D25: 299900 | E25: 29 | F25: 269900 | G25: 10
A26: Candia | B26: 246000 | C26: 31 | D26: 238500 | E26: 30 | F26: 0 | G26: 1
A27: Chester | B27: 279900 | C27: 36 | D27: 290000 | E27: 31 | F27: 255400 | G27: 5
A28: Danville | B28: 230000 | C28: 38 | D28: 209000 | E28: 31 | F28: 270900 | G28: 7
A29: Deerfield | B29: 235000 | C29: 42 | D29: 324900 | E29: 35 | F29: 275000 | G29: 7
A30: Epping | B30: 245200 | C30: 60 | D30: 195000 | E30: 32 | F30: 248900 | G30: 28
A31: Fremont | B31: 230000 | C31: 45 | D31: 225000 | E31: 37 | F31: 259933 | G31: 8
A32: Hampstead | B32: 260000 | C32: 67 | D32: 257500 | E32: 57 | F32: 289559 | G32: 10
A33: Kingston | B33: 230000 | C33: 43 | D33: 220000 | E33: 39 | F33: 289900 | G33: 4
A34: Newton | B34: 230000 | C34: 33 | D34: 220000 | E34: 29 | F34: 315000 | G34: 4
... A36: Nottingham | B36: 240000 | C36: 59 | D36: 210000 | E36: 49 | F36: 263400 | G36: 10
A37: Plaistow | B37: 188000 | C37: 39 | D37: 188000 | E37: 39 | F37: n/a | G37: n/a
A38: Raymond | B38: 200000 | C38: 118 | D38: 192500 | E38: 99 | F38: 249000 | G38: 19
A39: Sandown | B39: 233500 | C39: 80 | D39: 218900 | E39: 52 | F39: 265000 | G39: 28
A40: CEDS Central Towns | B40: =(B23*C23+B24*C24+B25*C25+B26*C26+B27*C27+B28*C28+B29*C29+B30*C30+B31*C31+B32*C32+B33*C33+B34*C34+B35*C35+B36*C36+B37*C37+B38*C38+B39*C39)/C40 -> 237126.71 | C40: =SUM(C23:C39) -> 875 | D40: =(D23*E23+D24*E24+D25*E25+D26*E26+D27*E27+D28*E28+D29*E29+D30*E30+D31*E31+D32*E32+D33*E33+D34*E34+D35*E35+D36*E36+D37*E37+D38*E38+D39*E39)/E40 -> 231004.72 | E40: =SUM(E23:E39) -> 720 | F40: =(F23*G23+F24*G24+F25*G25+F26*G26+F27*G27+F28*G28+F29*G29+F30*G30+F31*G31+F32*G32+F33*G33+F34*G34+F35*G35+F36*G36+F38*G38+F39*G39)/G40 -> 265830.67 | G40: =SUM(G23:G39) -> 155
A41: Derry | B41: 190000 | C41: 255 | D41: 189900 | E41: 240 | F41: 239900 | G41: 15
A42: Hudson | B42: 245000 | C42: 205 | D42: 235700 | E42: 175 | F42: 300933 | G42: 30
A43: Litchfield | B43: 255000 | C43: 67 | D43: 253500 | E43: 55 | F43: 289075 | G43: 12
A44: Londonderry | B44: 238000 | C44: 187 | D44: 220000 | E44: 170 | F44: 359900 | G44: 17
A45: Merrimack | B45: 220000 | C45: 268 | D45: 219000 | E45: 259 | F45: 282533 | G45: 9
A46: Nashua | B46: 219900 | C46: 617 | D46: 210000 | E46: 572 | F46: 320000 | G46: 45
A47: Pelham | B47: 265000 | C47: 94 | D47: 273000 | E47: 63 | F47: 259900 | G47: 31
A48: Salem | B48: 250000 | C48: 175 | D48: 249900 | E48: 164 | F48: 320000 | G48: 11
A49: Windham | B49: 382000 | C49: 179 | D49: 371933 | E49: 142 | F49: 393485 | G49: 37
A50: CEDS Western Towns | B50: =(B41*C41+B42*C42+B43*C43+B44*C44+B45*C45+B46*C46+B47*C47+B48*C48+B49*C49)/C50 -> 240323.55 | C50: =SUM(C41:C49) -> 2047 | D50: =(D41*E41+D42*E42+D43*E43+D44*E44+D45*E45+D46*E46+D47*E47+D48*E48+D49*E49)/E50 -> 231523.96 | E50: =SUM(E41:E49) -> 1840 | F50: =(F41*G41+F42*G42+F43*G43+F44*G44+F45*G45+F46*G46+F47*G47+F48*G48+F49*G49)/G50 -> 315421.89 | G50: =SUM(G41:G49) -> 207
A51: REDC REGION | B51: =(B50*C50+B40*C40+B22*C22)/C51 -> 260676.72 | C51: =SUM(C50,C40,C22) -> 3840 | D51: =(D50*E50+D40*E40+D22*E22)/E51 -> 254400.97 | E51: =SUM(E50,E40,E22) -> 3384 | F51: =(F50*G50+F40*G40+F22*G22)/G51 -> 297623.65 | G51: =SUM(G50,G40,G22) -> 456
A52: Hillsborough County | B52: 224900 | C52: 3160 | D52: 217500 | E52: 2855 | F52: 285000 | G52: 305
A53: Rockingham County | B53: 259000 | C53: 2589 | D53: 250000 | E53: 2260 | F53: 294561 | G53: 329
A54: New Hamsphire | B54: 215000 | C54: 10215 | D54: 205000 | E54: 9260 | F54: 270900 | G54: 955

Sheet B7 Forclosure Data FOR PRiNT
A1: Table B-7: Foreclosure Data | R1: 2012 CEDS Update
K2: Year-to-Year Change
A3: Town/Area | B3: 2005 | C3: 2006 | D3: 2007 | E3: 2008 | F3: 2009 | G3: 2010 | H3: 2011 | I3: 2012 | J3: 2013 | K3: 2005-2006 | L3: 2006-2007 | M3: 2007-2008 | N3: 2008-2009 | O3: 2009-2010 | P3: 2008 | Q3: 2009 | R3: 2010 *
A4: East Kingston | B4: 0 | C4: 4 | D4: 2 | E4: 9 | F4: 7 | G4: 8 | K4: =C4-B4 -> 4 | L4: =D4-C4 -> -2 | M4: =E4-D4 -> 7 | N4: =F4-E4 -> -2 | O4: =G4-F4 -> 1 | P4: =E4/'B1 Housing Units'!AE5 -> 0.010250569 | Q4: =F4/'B1 Housing Units'!AF5 -> 0.0079275198 | R4: =G4/'B1 Housing Units'!J5 -> 0.0088202867
A5: Exeter | B5: 3 | C5: 8 | D5: 14 | E5: 38 | F5: 21 | G5: 25 | K5: =C5-B5 -> 5 | L5: =D5-C5 -> 6 | M5: =E5-D5 -> 24 | N5: =F5-E5 -> -17 | O5: =G5-F5 -> 4 | P5: =E5/'B1 Housing Units'!AE6 -> 0.0056346382 | Q5: =F5/'B1 Housing Units'!AF6 -> 0.0031106503 | R5: =G5/'B1 Housing Units'!J6 -> 0.0038485222
A6: Greenland | B6: 1 | C6: 1 | D6: 1 | E6: 4 | F6: 6 | G6: 6 | K6: =C6-B6 -> 0 | L6: =D6-C6 -> 0 | M6: =E6-D6 -> 3 | N6: =F6-E6 -> 2 | O6: =G6-F6 -> 0 | P6: =E6/'B1 Housing Units'!AE7 -> 0.0028715004 | Q6: =F6/'B1 Housing Units'!AF7 -> 0.0042613636 | R6: =G6/'B1 Housing Units'!J7 -> 0.0041580042
A7: Hampton | B7: 3 | C7: 12 | D7: 22 | E7: 35 | F7: 32 | G7: 46 | K7: =C7-B7 -> 9 | L7: =D7-C7 -> 10 | M7: =E7-D7 -> 13 | N7: =F7-E7 -> -3 | O7: =G7-F7 -> 14 | P7: =E7/'B1 Housing Units'!AE8 -> 0.00353714 | Q7: =F7/'B1 Housing Units'!AF8 -> 0.0032287357 | R7: =G7/'B1 Housing Units'!J8 -> 0.0046366294
A8: Hampton Falls | B8: 1 | C8: 0 | D8: 5 | E8: 4 | F8: 3 | G8: 3 | K8: =C8-B8 -> -1 | L8: =D8-C8 -> 5 | M8: =E8-D8 -> -1 | N8: =F8-E8 -> -1 | O8: =G8-F8 -> 0 | P8: =E8/'B1 Housing Units'!AE9 -> 0.0046948357 | Q8: =F8/'B1 Housing Units'!AF9 -> 0.0035087719 | R8: =G8/'B1 Housing Units'!J9 -> 0.0033333333
A9: Kensington | B9: 1 | C9: 0 | D9: 4 | E9: 4 | F9: 3 | G9: 8 | K9: =C9-B9 -> -1 | L9: =D9-C9 -> 4 | M9: =E9-D9 -> 0 | N9: =F9-E9 -> -1 | O9: =G9-F9 -> 5 | P9: =E9/'B1 Housing Units'!AE10 -> 0.0051282051 | Q9: =F9/'B1 Housing Units'!AF10 -> 0.0038461538 | R9: =G9/'B1 Housing Units'!J10 -> 0.0099255583
A10: New Castle | B10: 0 | C10: 0 | D10: 1 | E10: 0 | F10: 0 | G10: 0 | K10: =C10-B10 -> 0 | L10: =D10-C10 -> 1 | M10: =E10-D10 -> -1 | N10: =F10-E10 -> 0 | O10: =G10-F10 -> 0 | P10: =E10/'B1 Housing Units'!AE11 -> 0 | Q10: =F10/'B1 Housing Units'!AF11 -> 0 | R10: =G10/'B1 Housing Units'!J11 -> 0
A11: Newfields | B11: 0 | C11: 1 | D11: 1 | E11: 2 | F11: 1 | G11: 0 | K11: =C11-B11 -> 1 | L11: =D11-C11 -> 0 | M11: =E11-D11 -> 1 | N11: =F11-E11 -> -1 | O11: =G11-F11 -> -1 | P11: =E11/'B1 Housing Units'!AE12 -> 0.0033500838 | Q11: =F11/'B1 Housing Units'!AF12 -> 0.0016666667 | R11: =G11/'B1 Housing Units'!J12 -> 0
A12: Newington | B12: 0 | C12: 2 | D12: 0 | E12: 1 | F12: 1 | G12: 2 | K12: =C12-B12 -> 2 | L12: =D12-C12 -> -2 | M12: =E12-D12 -> 1 | N12: =F12-E12 -> 0 | O12: =G12-F12 -> 1 | P12: =E12/'B1 Housing Units'!AE13 -> 0.0030864198 | Q12: =F12/'B1 Housing Units'!AF13 -> 0.0030959752 | R12: =G12/'B1 Housing Units'!J13 -> 0.0062111801
A13: Newmarket | B13: 2 | C13: 2 | D13: 12 | E13: 16 | F13: 15 | G13: 27 | K13: =C13-B13 -> 0 | L13: =D13-C13 -> 10 | M13: =E13-D13 -> 4 | N13: =F13-E13 -> -1 | O13: =G13-F13 -> 12 | P13: =E13/'B1 Housing Units'!AE14 -> 0.0038213518 | Q13: =F13/'B1 Housing Units'!AF14 -> 0.0035808069 | R13: =G13/'B1 Housing Units'!J14 -> 0.0065233148
A14: North Hampton | B14: 0 | C14: 2 | D14: 3 | E14: 5 | F14: 10 | G14: 8 | K14: =C14-B14 -> 2 | L14: =D14-C14 -> 1 | M14: =E14-D14 -> 2 | N14: =F14-E14 -> 5 | O14: =G14-F14 -> -2 | P14: =E14/'B1 Housing Units'!AE15 -> 0.0025759918 | Q14: =F14/'B1 Housing Units'!AF15 -> 0.0051203277 | R14: =G14/'B1 Housing Units'!J15 -> 0.0041797283
A15: Portsmouth | B15: 0 | C15: 10 | D15: 15 | E15: 13 | F15: 18 | G15: 17 | K15: =C15-B15 -> 10 | L15: =D15-C15 -> 5 | M15: =E15-D15 -> -2 | N15: =F15-E15 -> 5 | O15: =G15-F15 -> -1 | P15: =E15/'B1 Housing Units'!AE16 -> 0.0012268781 | Q15: =F15/'B1 Housing Units'!AF16 -> 0.0016981132 | R15: =G15/'B1 Housing Units'!J16 -> 0.0016
... A19: Stratham | B19: 1 | C19: 2 | D19: 1 | E19: 15 | F19: 12 | G19: 8 | K19: =C19-B19 -> 1 | L19: =D19-C19 -> -1 | M19: =E19-D19 -> 14 | N19: =F19-E19 -> -3 | O19: =G19-F19 -> -4 | P19: =E19/'B1 Housing Units'!AE20 -> 0.0053285968 | Q19: =F19/'B1 Housing Units'!AF20 -> 0.0042598509 | R19: =G19/'B1 Housing Units'!J20 -> 0.0027932961
A20: CEDS Eastern Towns | B20: =SUM(B4:B19) -> 15 | C20: =SUM(C4:C19) -> 54 | D20: =SUM(D4:D19) -> 96 | E20: =SUM(E4:E19) -> 172 | F20: =SUM(F4:F19) -> 156 | G20: =SUM(G4:G19) -> 181 | H20: =SUM(H4:H19) -> 0 | I20: =SUM(I4:I19) -> 0 | J20: =SUM(J4:J19) -> 0 | K20: =C20-B20 -> 39 | L20: =D20-C20 -> 42 | M20: =E20-D20 -> 76 | N20: =F20-E20 -> -16 | O20: =G20-F20 -> 25 | P20: =E20/'B1 Housing Units'!AE21 -> 0.0035062685 | Q20: =F20/'B1 Housing Units'!AF21 -> 0.0031740864 | R20: =G20/'B1 Housing Units'!J21 -> 0.0036665654
A21: Atkinson | B21: 0 | C21: 3 | D21: 12 | E21: 11 | F21: 11 | G21: 14 | K21: =C21-B21 -> 3 | L21: =D21-C21 -> 9 | M21: =E21-D21 -> -1 | N21: =F21-E21 -> 0 | O21: =G21-F21 -> 3 | P21: =E21/'B1 Housing Units'!AE22 -> 0.0040968343 | Q21: =F21/'B1 Housing Units'!AF22 -> 0.0040922619 | R21: =G21/'B1 Housing Units'!J22 -> 0.0050215208
A22: Auburn | B22: 0 | C22: 3 | D22: 8 | E22: 11 | F22: 7 | G22: 10 | K22: =C22-B22 -> 3 | L22: =D22-C22 -> 5 | M22: =E22-D22 -> 3 | N22: =F22-E22 -> -4 | O22: =G22-F22 -> 3 | P22: =E22/'B1 Housing Units'!AE23 -> 0.0059782609 | Q22: =F22/'B1 Housing Units'!AF23 -> 0.0037940379 | R22: =G22/'B1 Housing Units'!J23 -> 0.0055126792
A23: Brentwood | B23: 0 | C23: 2 | D23: 4 | E23: 6 | F23: 11 | G23: 12 | K23: =C23-B23 -> 2 | L23: =D23-C23 -> 2 | M23: =E23-D23 -> 2 | N23: =F23-E23 -> 5 | O23: =G23-F23 -> 1 | P23: =E23/'B1 Housing Units'!AE24 -> 0.0046367852 | Q23: =F23/'B1 Housing Units'!AF24 -> 0.0083841463 | R23: =G23/'B1 Housing Units'!J24 -> 0.0088888889
A24: Candia | B24: 2 | C24: 1 | D24: 3 | E24: 11 | F24: 10 | G24: 10 | K24: =C24-B24 -> -1 | L24: =D24-C24 -> 2 | M24: =E24-D24 -> 8 | N24: =F24-E24 -> -1 | O24: =G24-F24 -> 0 | P24: =E24/'B1 Housing Units'!AE25 -> 0.0072416063 | Q24: =F24/'B1 Housing Units'!AF25 -> 0.0065876153 | R24: =G24/'B1 Housing Units'!J25 -> 0.0066934404
A25: Chester | B25: 2 | C25: 2 | D25: 10 | E25: 14 | F25: 9 | G25: 14 | K25: =C25-B25 -> 0 | L25: =D25-C25 -> 8 | M25: =E25-D25 -> 4 | N25: =F25-E25 -> -5 | O25: =G25-F25 -> 5 | P25: =E25/'B1 Housing Units'!AE26 -> 0.0089285714 | Q25: =F25/'B1 Housing Units'!AF26 -> 0.0057215512 | R25: =G25/'B1 Housing Units'!J26 -> 0.0087719298
A26: Danville | B26: 1 | C26: 8 | D26: 9 | E26: 19 | F26: 11 | G26: 13 | K26: =C26-B26 -> 7 | L26: =D26-C26 -> 1 | M26: =E26-D26 -> 10 | N26: =F26-E26 -> -8 | O26: =G26-F26 -> 2 | P26: =E26/'B1 Housing Units'!AE27 -> 0.011262596 | Q26: =F26/'B1 Housing Units'!AF27 -> 0.0064858491 | R26: =G26/'B1 Housing Units'!J27 -> 0.007719715
A27: Deerfield | B27: 3 | C27: 8 | D27: 12 | E27: 12 | F27: 16 | G27: 21 | K27: =C27-B27 -> 5 | L27: =D27-C27 -> 4 | M27: =E27-D27 -> 0 | N27: =F27-E27 -> 4 | O27: =G27-F27 -> 5 | P27: =E27/'B1 Housing Units'!AE28 -> 0.0068767908 | Q27: =F27/'B1 Housing Units'!AF28 -> 0.0091220068 | R27: =G27/'B1 Housing Units'!J28 -> 0.012048193
A28: Epping | B28: 1 | C28: 5 | D28: 18 | E28: 27 | F28: 16 | G28: 29 | K28: =C28-B28 -> 4 | L28: =D28-C28 -> 13 | M28: =E28-D28 -> 9 | N28: =F28-E28 -> -11 | O28: =G28-F28 -> 13 | P28: =E28/'B1 Housing Units'!AE29 -> 0.010281797 | Q28: =F28/'B1 Housing Units'!AF29 -> 0.0059902658 | R28: =G28/'B1 Housing Units'!J29 -> 0.010650018
A29: Fremont | B29: 1 | C29: 8 | D29: 13 | E29: 12 | F29: 15 | G29: 17 | K29: =C29-B29 -> 7 | L29: =D29-C29 -> 5 | M29: =E29-D29 -> -1 | N29: =F29-E29 -> 3 | O29: =G29-F29 -> 2 | P29: =E29/'B1 Housing Units'!AE30 -> 0.0079051383 | Q29: =F29/'B1 Housing Units'!AF30 -> 0.0098296199 | R29: =G29/'B1 Housing Units'!J30 -> 0.010807374
A30: Hampstead | B30: 1 | C30: 8 | D30: 15 | E30: 26 | F30: 9 | G30: 19 | K30: =C30-B30 -> 7 | L30: =D30-C30 -> 7 | M30: =E30-D30 -> 11 | N30: =F30-E30 -> -17 | O30: =G30-F30 -> 10 | P30: =E30/'B1 Housing Units'!AE31 -> 0.007063298 | Q30: =F30/'B1 Housing Units'!AF31 -> 0.0024206563 | R30: =G30/'B1 Housing Units'!J31 -> 0.005097934
A31: Kingston | B31: 3 | C31: 6 | D31: 13 | E31: 12 | F31: 15 | G31: 17 | K31: =C31-B31 -> 3 | L31: =D31-C31 -> 7 | M31: =E31-D31 -> -1 | N31: =F31-E31 -> 3 | O31: =G31-F31 -> 2 | P31: =E31/'B1 Housing Units'!AE32 -> 0.0048057669 | Q31: =F31/'B1 Housing Units'!AF32 -> 0.0059904153 | R31: =G31/'B1 Housing Units'!J32 -> 0.0068548387
A32: Newton | B32: 0 | C32: 2 | D32: 16 | E32: 14 | F32: 14 | G32: 23 | K32: =C32-B32 -> 2 | L32: =D32-C32 -> 14 | M32: =E32-D32 -> -2 | N32: =F32-E32 -> 0 | O32: =G32-F32 -> 9 | P32: =E32/'B1 Housing Units'!AE33 -> 0.0081348053 | Q32: =F32/'B1 Housing Units'!AF33 -> 0.0080878105 | R32: =G32/'B1 Housing Units'!J33 -> 0.013135351
... A37: Sandown | B37: 5 | C37: 11 | D37: 7 | E37: 19 | F37: 29 | G37: 29 | K37: =C37-B37 -> 6 | L37: =D37-C37 -> -4 | M37: =E37-D37 -> 12 | N37: =F37-E37 -> 10 | O37: =G37-F37 -> 0 | P37: =E37/'B1 Housing Units'!AE38 -> 0.008780037 | Q37: =F37/'B1 Housing Units'!AF38 -> 0.013260174 | R37: =G37/'B1 Housing Units'!J38 -> 0.013098464
A38: CEDS Central Towns | B38: =SUM(B21:B37) -> 40 | C38: =SUM(C21:C37) -> 99 | D38: =SUM(D21:D37) -> 195 | E38: =SUM(E21:E37) -> 300 | F38: =SUM(F21:F37) -> 278 | G38: =SUM(G21:G37) -> 343 | H38: =SUM(H21:H37) -> 0 | I38: =SUM(I21:I37) -> 0 | J38: =SUM(J21:J37) -> 0 | K38: =C38-B38 -> 59 | L38: =D38-C38 -> 96 | M38: =E38-D38 -> 105 | N38: =F38-E38 -> -22 | O38: =G38-F38 -> 65 | P38: =E38/'B1 Housing Units'!AE39 -> 0.0078472404 | Q38: =F38/'B1 Housing Units'!AF39 -> 0.0072264102 | R38: =G38/'B1 Housing Units'!J39 -> 0.0089504723
A39: Derry | B39: 13 | C39: 44 | D39: 88 | E39: 146 | F39: 112 | G39: 122 | K39: =C39-B39 -> 31 | L39: =D39-C39 -> 44 | M39: =E39-D39 -> 58 | N39: =F39-E39 -> -34 | O39: =G39-F39 -> 10 | P39: =E39/'B1 Housing Units'!AE40 -> 0.010944528 | Q39: =F39/'B1 Housing Units'!AF40 -> 0.0083913988 | R39: =G39/'B1 Housing Units'!J40 -> 0.0091888228
A40: Hudson | E40: 64 | F40: 70 | G40: 73 | N40: =F40-E40 -> 6 | O40: =G40-F40 -> 3 | P40: =E40/'B1 Housing Units'!AE41 -> 0.0069724371 | Q40: =F40/'B1 Housing Units'!AF41 -> 0.0076128331 | R40: =G40/'B1 Housing Units'!J41 -> 0.0079244464
A41: Litchfield | E41: 16 | F41: 15 | G41: 14 | N41: =F41-E41 -> -1 | O41: =G41-F41 -> -1 | P41: =E41/'B1 Housing Units'!AE42 -> 0.00550585 | Q41: =F41/'B1 Housing Units'!AF42 -> 0.005100306 | R41: =G41/'B1 Housing Units'!J42 -> 0.0048076923
A42: Londonderry | B42: 5 | C42: 14 | D42: 34 | E42: 54 | F42: 51 | G42: 82 | K42: =C42-B42 -> 9 | L42: =D42-C42 -> 20 | M42: =E42-D42 -> 20 | N42: =F42-E42 -> -3 | O42: =G42-F42 -> 31 | P42: =E42/'B1 Housing Units'!AE43 -> 0.0062959077 | Q42: =F42/'B1 Housing Units'!AF43 -> 0.0059309222 | R42: =G42/'B1 Housing Units'!J43 -> 0.009348991
A43: Merrimack | E43: 76 | F43: 82 | G43: 79 | N43: =F43-E43 -> 6 | O43: =G43-F43 -> -3 | P43: =E43/'B1 Housing Units'!AE44 -> 0.007730648 | Q43: =F43/'B1 Housing Units'!AF44 -> 0.0083113724 | R43: =G43/'B1 Housing Units'!J44 -> 0.0080464453
A44: Nashua | E44: 248 | F44: 190 | G44: 225 | N44: =F44-E44 -> -58 | O44: =G44-F44 -> 35 | P44: =E44/'B1 Housing Units'!AE45 -> 0.0066645168 | Q44: =F44/'B1 Housing Units'!AF45 -> 0.0050799422 | R44: =G44/'B1 Housing Units'!J45 -> 0.0060535945
A45: Pelham | E45: 32 | F45: 21 | G45: 28 | N45: =F45-E45 -> -11 | O45: =G45-F45 -> 7 | P45: =E45/'B1 Housing Units'!AE46 -> 0.0071540353 | Q45: =F45/'B1 Housing Units'!AF46 -> 0.0046770601 | R45: =G45/'B1 Housing Units'!J46 -> 0.0060896042
A46: Salem | B46: 6 | C46: 17 | D46: 43 | E46: 87 | F46: 65 | G46: 69 | K46: =C46-B46 -> 11 | L46: =D46-C46 -> 26 | M46: =E46-D46 -> 44 | N46: =F46-E46 -> -22 | O46: =G46-F46 -> 4 | P46: =E46/'B1 Housing Units'!AE47 -> 0.0071841453 | Q46: =F46/'B1 Housing Units'!AF47 -> 0.0053519967 | R46: =G46/'B1 Housing Units'!J47 -> 0.0058425064
A47: Windham | B47: 4 | C47: 10 | D47: 10 | E47: 30 | F47: 24 | G47: 23 | K47: =C47-B47 -> 6 | L47: =D47-C47 -> 0 | M47: =E47-D47 -> 20 | N47: =F47-E47 -> -6 | O47: =G47-F47 -> -1 | P47: =E47/'B1 Housing Units'!AE48 -> 0.0060422961 | Q47: =F47/'B1 Housing Units'!AF48 -> 0.0048 | R47: =G47/'B1 Housing Units'!J48 -> 0.0044539117
A48: CEDS Western Towns | B48: =SUM(B39:B47) -> 28 | C48: =SUM(C39:C47) -> 85 | E48: =SUM(E39:E47) -> 753 | F48: =SUM(F39:F47) -> 630 | G48: =SUM(G39:G47) -> 715 | H48: =SUM(H39:H47) -> 0 | I48: =SUM(I39:I47) -> 0 | J48: =SUM(J39:J47) -> 0 | K48: =C48-B48 -> 57 | L48: =D48-C48 -> -85 | N48: =F48-E48 -> -123 | O48: =G48-F48 -> 85 | P48: =E48/'B1 Housing Units'!AE49 -> 0.007339682 | Q48: =F48/'B1 Housing Units'!AF49 -> 0.0061173957 | R48: =G48/'B1 Housing Units'!J49 -> 0.0069599922
A49: REDC CEDS Region | E49: =SUM(E48,E38,E20) -> 1225 | F49: =SUM(F48,F38,F20) -> 1064 | G49: =SUM(G48,G38,G20) -> 1239 | H49: =SUM(H48,H38,H20) -> 0 | I49: =SUM(I48,I38,I20) -> 0 | J49: =SUM(J48,J38,J20) -> 0 | N49: =F49-E49 -> -161 | O49: =G49-F49 -> 175 | P49: =E49/'B1 Housing Units'!AE50 -> 0.006451511 | Q49: =F49/'B1 Housing Units'!AF50 -> 0.0055822836 | R49: =G49/'B1 Housing Units'!J50 -> 0.006506772
A50: Hillsborough County | E50: 1088 | F50: 1044 | G50: 1172 | N50: =F50-E50 -> -44 | O50: =G50-F50 -> 128 | P50: =E50/'B1 Housing Units'!AE51 -> 0.0065837645 | Q50: =F50/'B1 Housing Units'!AF50 -> 0.0054773535 | R50: =G50/'B1 Housing Units'!J51 -> 0.0070579875
A51: Rockingham County | B51: 83 | C51: 238 | D51: 466 | E51: 805 | F51: 686 | G51: 820 | K51: =C51-B51 -> 155 | L51: =D51-C51 -> 228 | M51: =E51-D51 -> 339 | N51: =F51-E51 -> -119 | O51: =G51-F51 -> 134 | P51: =E51/'B1 Housing Units'!AE52 -> 0.0063756821 | Q51: =F51/'B1 Housing Units'!AF51 -> 0.0041389879 | R51: =G51/'B1 Housing Units'!J52 -> 0.0064715214
A52: New Hampshire | B52: 462 | C52: 1057 | D52: 2071 | E52: 3563 | F52: 3467 | G52: 3953 | K52: =C52-B52 -> 595 | L52: =D52-C52 -> 1014 | M52: =E52-D52 -> 1492 | N52: =F52-E52 -> -96 | O52: =G52-F52 -> 486 | P52: ='B7 Forclosure Data FOR PRiNT'!E52/'B1 Housing Units'!AE53 -> 0.0058480876 | Q52: =F52/'B1 Housing Units'!AF53 -> 0.0056704159 | R52: =G52/'B1 Housing Units'!J53 -> 0.0064302144
A53: Source: Real Data (www.real-data.com) / NHHFA (foreclosure update newsletter)
A54: Source: U.S. Census Bureau & NH Office of Energy and Planning
A55: * 2010 Housing Stock data from US Census Bureau

Sheet B5_NHA data for 2026
A1: 2025 Data For 2026 CEDS
A2: ** CEDS SUBREGION averages are weighted averages.
B5: All Homes | D5: Existing Homes | F5: New Homes
A6: Town/Area | B6: Sample Size | C6: Median Purchase Price | D6: Sample Size | E6: Median Purchase Price | F6: Sample Size | G6: Median Purchase Price
A7: East Kingston
A8: Exeter
A9: Greenland
A10: Hampton
A11: Hampton Falls
A12: Kensington
A13: New Castle
A14: Newfields
A15: Newington
A16: Newmarket
A17: North Hampton
A18: Portsmouth
... A22: Stratham
A23: CEDS Eastern Towns | B23: =SUM(B7:B22) -> 0 | C23: =(C7*B7+C8*B8+C9*B9+C10*B10+C11*B11+C12*B12+C13*B13+C14*B14+C15*B15+C16*B16+C17*B17+C18*B18+C19*B19+C20*B20+C21*B21+C22*B22)/B23 -> #DIV/0! | D23: =SUM(D7:D22) -> 0 | E23: =(E7*D7+E8*D8+E9*D9+E10*D10+E11*D11+E12*D12+E13*D13+E14*D14+E15*D15+E16*D16+E17*D17+E18*D18+E19*D19+E20*D20+E21*D21+E22*D22)/D23 -> #DIV/0! | F23: =SUM(F7:F22) -> 0 | G23: =(G7*F7+G8*F8+G9*F9+G10*F10+G11*F11+G12*F12+G13*F13+G14*F14+G15*F15+G16*F16+G17*F17+G18*F18+G19*F19+G20*F20+G21*F21+G22*F22)/F23 -> #DIV/0!
A24: Atkinson
A25: Auburn
A26: Brentwood
A27: Candia
A28: Chester
A29: Danville
A30: Deerfield
A31: Epping
A32: Fremont
A33: Hampstead
A34: Kingston
A35: Newton
... A40: Sandown
A41: CEDS Central Towns | B41: =SUM(B24:B40) -> 0 | C41: =(C24*B24+C25*B25+C26*B26+C27*B27+C28*B28+C29*B29+C30*B30+C31*B31+C32*B32+C33*B33+C34*B34+C35*B35+C36*B36+C37*B37+C38*B38+C39*B39+C40*B40)/B41 -> #DIV/0! | D41: =SUM(D24:D40) -> 0 | E41: =(E24*D24+E25*D25+E26*D26+E27*D27+E28*D28+E29*D29+E30*D30+E31*D31+E32*D32+E33*D33+E34*D34+E35*D35+E36*D36+E37*D37+E38*D38+E39*D39+E40*D40)/D41 -> #DIV/0! | F41: =SUM(F24:F40) -> 0 | G41: =(G24*F24+G25*F25+G26*F26+G27*F27+G28*F28+G29*F29+G30*F30+G31*F31+G32*F32+G33*F33+G34*F34+G35*F35+G36*F36+G37*F37+G38*F38+G39*F39+G40*F40)/F41 -> #DIV/0!
A42: Derry
A43: Hudson
A44: Litchfield
A45: Londonderry
A46: Merrimack
A47: Nashua
A48: Pelham
A49: Salem
A50: Windham
A51: CEDS Western Towns | B51: =SUM(B42:B50) -> 0 | C51: =(C42*B42+C43*B43+C44*B44+C45*B45+C46*B46+C47*B47+C48*B48+C49*B49+C50*B50)/B51 -> #DIV/0! | D51: =SUM(D42:D50) -> 0 | E51: =(E42*D42+E43*D43+E44*D44+E45*D45+E46*D46+E47*D47+E48*D48+E49*D49+E50*D50)/D51 -> #DIV/0! | F51: =SUM(F42:F50) -> 0 | G51: =(G42*F42+G43*F43+G44*F44+G45*F45+G46*F46+G47*F47+G48*F48+G49*F49+G50*F50)/F51 -> #DIV/0!
A52: REDC REGION | B52: =SUM(B51,B41,B23) -> 0 | C52: =(C51*B51+C41*B41+C23*B23)/B52 -> #DIV/0! | D52: =SUM(D51,D41,D23) -> 0 | E52: =(E51*D51+E41*D41+E23*D23)/D52 -> #DIV/0! | F52: =SUM(F51,F41,F23) -> 0 | G52: =(G51*F51+G41*F41+G23*F23)/F52 -> #DIV/0!
A53: Hillsborough County
A54: Rockingham County
A55: New Hamsphire

Sheet B5_NHA data for 2025
A1: 2024 Data For 2025 CEDS
A2: ** CEDS SUBREGION averages are weighted averages.
B5: All Homes | D5: Existing Homes | F5: New Homes
A6: Town/Area | B6: Sample Size | C6: Median Purchase Price | D6: Sample Size | E6: Median Purchase Price | F6: Sample Size | G6: Median Purchase Price
A7: East Kingston
A8: Exeter
A9: Greenland
A10: Hampton
A11: Hampton Falls
A12: Kensington
A13: New Castle
A14: Newfields
A15: Newington
A16: Newmarket
A17: North Hampton
A18: Portsmouth
... A22: Stratham
A23: CEDS Eastern Towns | B23: =SUM(B7:B22) -> 0 | C23: =(C7*B7+C8*B8+C9*B9+C10*B10+C11*B11+C12*B12+C13*B13+C14*B14+C15*B15+C16*B16+C17*B17+C18*B18+C19*B19+C20*B20+C21*B21+C22*B22)/B23 -> #DIV/0! | D23: =SUM(D7:D22) -> 0 | E23: =(E7*D7+E8*D8+E9*D9+E10*D10+E11*D11+E12*D12+E13*D13+E14*D14+E15*D15+E16*D16+E17*D17+E18*D18+E19*D19+E20*D20+E21*D21+E22*D22)/D23 -> #DIV/0! | F23: =SUM(F7:F22) -> 0 | G23: =(G7*F7+G8*F8+G9*F9+G10*F10+G11*F11+G12*F12+G13*F13+G14*F14+G15*F15+G16*F16+G17*F17+G18*F18+G19*F19+G20*F20+G21*F21+G22*F22)/F23 -> #DIV/0!
A24: Atkinson
A25: Auburn
A26: Brentwood
A27: Candia
A28: Chester
A29: Danville
A30: Deerfield
A31: Epping
A32: Fremont
A33: Hampstead
A34: Kingston
A35: Newton
... A40: Sandown
A41: CEDS Central Towns | B41: =SUM(B24:B40) -> 0 | C41: =(C24*B24+C25*B25+C26*B26+C27*B27+C28*B28+C29*B29+C30*B30+C31*B31+C32*B32+C33*B33+C34*B34+C35*B35+C36*B36+C37*B37+C38*B38+C39*B39+C40*B40)/B41 -> #DIV/0! | D41: =SUM(D24:D40) -> 0 | E41: =(E24*D24+E25*D25+E26*D26+E27*D27+E28*D28+E29*D29+E30*D30+E31*D31+E32*D32+E33*D33+E34*D34+E35*D35+E36*D36+E37*D37+E38*D38+E39*D39+E40*D40)/D41 -> #DIV/0! | F41: =SUM(F24:F40) -> 0 | G41: =(G24*F24+G25*F25+G26*F26+G27*F27+G28*F28+G29*F29+G30*F30+G31*F31+G32*F32+G33*F33+G34*F34+G35*F35+G36*F36+G37*F37+G38*F38+G39*F39+G40*F40)/F41 -> #DIV/0!
A42: Derry
A43: Hudson
A44: Litchfield
A45: Londonderry
A46: Merrimack
A47: Nashua
A48: Pelham
A49: Salem
A50: Windham
A51: CEDS Western Towns | B51: =SUM(B42:B50) -> 0 | C51: =(C42*B42+C43*B43+C44*B44+C45*B45+C46*B46+C47*B47+C48*B48+C49*B49+C50*B50)/B51 -> #DIV/0! | D51: =SUM(D42:D50) -> 0 | E51: =(E42*D42+E43*D43+E44*D44+E45*D45+E46*D46+E47*D47+E48*D48+E49*D49+E50*D50)/D51 -> #DIV/0! | F51: =SUM(F42:F50) -> 0 | G51: =(G42*F42+G43*F43+G44*F44+G45*F45+G46*F46+G47*F47+G48*F48+G49*F49+G50*F50)/F51 -> #DIV/0!
A52: REDC REGION | B52: =SUM(B51,B41,B23) -> 0 | C52: =(C51*B51+C41*B41+C23*B23)/B52 -> #DIV/0! | D52: =SUM(D51,D41,D23) -> 0 | E52: =(E51*D51+E41*D41+E23*D23)/D52 -> #DIV/0! | F52: =SUM(F51,F41,F23) -> 0 | G52: =(G51*F51+G41*F41+G23*F23)/F52 -> #DIV/0!
A53: Hillsborough County
A54: Rockingham County
A55: New Hamsphire

Sheet B5_NHA data for 2024
A1: 2024 Data For 2025 CEDS
A2: ** CEDS SUBREGION averages are weighted averages.
B5: All Homes | D5: Existing Homes | F5: New Homes
A6: Town/Area | B6: Sample Size | C6: Median Purchase Price | D6: Sample Size | E6: Median Purchase Price | F6: Sample Size | G6: Median Purchase Price
A7: East Kingston
A8: Exeter
A9: Greenland
A10: Hampton
A11: Hampton Falls
A12: Kensington
A13: New Castle
A14: Newfields
A15: Newington
A16: Newmarket
A17: North Hampton
A18: Portsmouth
... A22: Stratham
A23: CEDS Eastern Towns | B23: =SUM(B7:B22) -> 0 | C23: =(C7*B7+C8*B8+C9*B9+C10*B10+C11*B11+C12*B12+C13*B13+C14*B14+C15*B15+C16*B16+C17*B17+C18*B18+C19*B19+C20*B20+C21*B21+C22*B22)/B23 -> #DIV/0! | D23: =SUM(D7:D22) -> 0 | E23: =(E7*D7+E8*D8+E9*D9+E10*D10+E11*D11+E12*D12+E13*D13+E14*D14+E15*D15+E16*D16+E17*D17+E18*D18+E19*D19+E20*D20+E21*D21+E22*D22)/D23 -> #DIV/0! | F23: =SUM(F7:F22) -> 0 | G23: =(G7*F7+G8*F8+G9*F9+G10*F10+G11*F11+G12*F12+G13*F13+G14*F14+G15*F15+G16*F16+G17*F17+G18*F18+G19*F19+G20*F20+G21*F21+G22*F22)/F23 -> #DIV/0!
A24: Atkinson
A25: Auburn
A26: Brentwood
A27: Candia
A28: Chester
A29: Danville
A30: Deerfield
A31: Epping
A32: Fremont
A33: Hampstead
A34: Kingston
A35: Newton
... A40: Sandown
A41: CEDS Central Towns | B41: =SUM(B24:B40) -> 0 | C41: =(C24*B24+C25*B25+C26*B26+C27*B27+C28*B28+C29*B29+C30*B30+C31*B31+C32*B32+C33*B33+C34*B34+C35*B35+C36*B36+C37*B37+C38*B38+C39*B39+C40*B40)/B41 -> #DIV/0! | D41: =SUM(D24:D40) -> 0 | E41: =(E24*D24+E25*D25+E26*D26+E27*D27+E28*D28+E29*D29+E30*D30+E31*D31+E32*D32+E33*D33+E34*D34+E35*D35+E36*D36+E37*D37+E38*D38+E39*D39+E40*D40)/D41 -> #DIV/0! | F41: =SUM(F24:F40) -> 0 | G41: =(G24*F24+G25*F25+G26*F26+G27*F27+G28*F28+G29*F29+G30*F30+G31*F31+G32*F32+G33*F33+G34*F34+G35*F35+G36*F36+G37*F37+G38*F38+G39*F39+G40*F40)/F41 -> #DIV/0!
A42: Derry
A43: Hudson | B43: 400 | C43: 464500 | D43: 351 | E43: 450000 | F43: 49 | G43: 556600
A44: Litchfield
A45: Londonderry
A46: Merrimack
A47: Nashua
A48: Pelham
A49: Salem
A50: Windham
A51: CEDS Western Towns | B51: =SUM(B42:B50) -> 400 | C51: =(C42*B42+C43*B43+C44*B44+C45*B45+C46*B46+C47*B47+C48*B48+C49*B49+C50*B50)/B51 -> 464500 | D51: =SUM(D42:D50) -> 351 | E51: =(E42*D42+E43*D43+E44*D44+E45*D45+E46*D46+E47*D47+E48*D48+E49*D49+E50*D50)/D51 -> 450000 | F51: =SUM(F42:F50) -> 49 | G51: =(G42*F42+G43*F43+G44*F44+G45*F45+G46*F46+G47*F47+G48*F48+G49*F49+G50*F50)/F51 -> 556600
A52: REDC REGION | B52: =SUM(B51,B41,B23) -> 400 | C52: =(C51*B51+C41*B41+C23*B23)/B52 -> #DIV/0! | D52: =SUM(D51,D41,D23) -> 351 | E52: =(E51*D51+E41*D41+E23*D23)/D52 -> #DIV/0! | F52: =SUM(F51,F41,F23) -> 49 | G52: =(G51*F51+G41*F41+G23*F23)/F52 -> #DIV/0!
A53: Hillsborough County
A54: Rockingham County
A55: New Hamsphire

Sheet B5_NHA data 2023
A1: 2023 Data For 2024 CEDS
A2: ** CEDS SUBREGION averages are weighted averages.
B5: All Homes | D5: Existing Homes | F5: New Homes
A6: Town/Area | B6: Sample Size | C6: Median Purchase Price | D6: Sample Size | E6: Median Purchase Price | F6: Sample Size | G6: Median Purchase Price
A7: East Kingston
A8: Exeter
A9: Greenland
A10: Hampton
A11: Hampton Falls
A12: Kensington
A13: New Castle
A14: Newfields
A15: Newington
A16: Newmarket
A17: North Hampton
A18: Portsmouth
... A22: Stratham
A23: CEDS Eastern Towns | B23: =SUM(B7:B22) -> 0 | C23: =(C7*B7+C8*B8+C9*B9+C10*B10+C11*B11+C12*B12+C13*B13+C14*B14+C15*B15+C16*B16+C17*B17+C18*B18+C19*B19+C20*B20+C21*B21+C22*B22)/B23 -> #DIV/0! | D23: =SUM(D7:D22) -> 0 | E23: =(E7*D7+E8*D8+E9*D9+E10*D10+E11*D11+E12*D12+E13*D13+E14*D14+E15*D15+E16*D16+E17*D17+E18*D18+E19*D19+E20*D20+E21*D21+E22*D22)/D23 -> #DIV/0! | F23: =SUM(F7:F22) -> 0 | G23: =(G7*F7+G8*F8+G9*F9+G10*F10+G11*F11+G12*F12+G13*F13+G14*F14+G15*F15+G16*F16+G17*F17+G18*F18+G19*F19+G20*F20+G21*F21+G22*F22)/F23 -> #DIV/0!
A24: Atkinson
A25: Auburn
A26: Brentwood
A27: Candia
A28: Chester
A29: Danville
A30: Deerfield
A31: Epping
A32: Fremont
A33: Hampstead
A34: Kingston
A35: Newton
... A40: Sandown
A41: CEDS Central Towns | B41: =SUM(B24:B40) -> 0 | C41: =(C24*B24+C25*B25+C26*B26+C27*B27+C28*B28+C29*B29+C30*B30+C31*B31+C32*B32+C33*B33+C34*B34+C35*B35+C36*B36+C37*B37+C38*B38+C39*B39+C40*B40)/B41 -> #DIV/0! | D41: =SUM(D24:D40) -> 0 | E41: =(E24*D24+E25*D25+E26*D26+E27*D27+E28*D28+E29*D29+E30*D30+E31*D31+E32*D32+E33*D33+E34*D34+E35*D35+E36*D36+E37*D37+E38*D38+E39*D39+E40*D40)/D41 -> #DIV/0! | F41: =SUM(F24:F40) -> 0 | G41: =(G24*F24+G25*F25+G26*F26+G27*F27+G28*F28+G29*F29+G30*F30+G31*F31+G32*F32+G33*F33+G34*F34+G35*F35+G36*F36+G37*F37+G38*F38+G39*F39+G40*F40)/F41 -> #DIV/0!
A42: Derry
A43: Hudson
A44: Litchfield
A45: Londonderry
A46: Merrimack
A47: Nashua
A48: Pelham
A49: Salem
A50: Windham
A51: CEDS Western Towns | B51: =SUM(B42:B50) -> 0 | C51: =(C42*B42+C43*B43+C44*B44+C45*B45+C46*B46+C47*B47+C48*B48+C49*B49+C50*B50)/B51 -> #DIV/0! | D51: =SUM(D42:D50) -> 0 | E51: =(E42*D42+E43*D43+E44*D44+E45*D45+E46*D46+E47*D47+E48*D48+E49*D49+E50*D50)/D51 -> #DIV/0! | F51: =SUM(F42:F50) -> 0 | G51: =(G42*F42+G43*F43+G44*F44+G45*F45+G46*F46+G47*F47+G48*F48+G49*F49+G50*F50)/F51 -> #DIV/0!
A52: REDC REGION | B52: =SUM(B51,B41,B23) -> 0 | C52: =(C51*B51+C41*B41+C23*B23)/B52 -> #DIV/0! | D52: =SUM(D51,D41,D23) -> 0 | E52: =(E51*D51+E41*D41+E23*D23)/D52 -> #DIV/0! | F52: =SUM(F51,F41,F23) -> 0 | G52: =(G51*F51+G41*F41+G23*F23)/F52 -> #DIV/0!
A53: Hillsborough County
A54: Rockingham County
A55: New Hamsphire

Sheet B5_NHA data 2022
A1: 2022 Data For 2023 CEDS
A2: ** CEDS SUBREGION averages are weighted averages.
B5: All Homes | D5: Existing Homes | F5: New Homes
A6: Town/Area | B6: Sample Size | C6: Median Purchase Price | D6: Sample Size | E6: Median Purchase Price | F6: Sample Size | G6: Median Purchase Price
A7: East Kingston | B7: 15 | C7: 665000 | D7: 15 | E7: 665000
A8: Exeter | B8: 258 | C8: 499966 | D8: 253 | E8: 499000 | F8: 5 | G8: 549933
A9: Greenland | B9: 62 | C9: 700000 | D9: 61 | E9: 700000 | F9: 1 | G9: 550000
A10: Hampton | B10: 329 | C10: 584000 | D10: 298 | E10: 570000 | F10: 31 | G10: 774933
A11: Hampton Falls | B11: 24 | C11: 802500 | D11: 24 | E11: 802500
A12: Kensington | B12: 25 | C12: 587000 | D12: 25 | E12: 587000
A13: New Castle | B13: 16 | C13: 2050000 | D13: 16 | E13: 2050000
A14: Newfields | B14: 19 | C14: 625000 | D14: 19 | E14: 625000
A15: Newington | B15: 7 | C15: 600000 | D15: 6 | E15: 584266 | F15: 1 | G15: 1250000
A16: Newmarket | B16: 119 | C16: 494933 | D16: 118 | E16: 492466 | F16: 1 | G16: 714933
A17: North Hampton | B17: 62 | C17: 980000 | D17: 62 | E17: 980000
A18: Portsmouth | B18: 332 | C18: 575000 | D18: 331 | E18: 575000 | F18: 1 | G18: 639933
A19: Rye | B19: 78 | C19: 905766 | D19: 74 | E19: 905766 | F19: 4 | G19: 1499966
A20: Seabrook | B20: 83 | C20: 479000 | D20: 82 | E20: 477000 | F20: 1 | G20: 554933
A21: South Hampton | B21: 6 | C21: 783000 | D21: 6 | E21: 783000
A22: Stratham | B22: 136 | C22: 592000 | D22: 132 | E22: 588000 | F22: 4 | G22: 1024466
A23: CEDS Eastern Towns | B23: =SUM(B7:B22) -> 1571 | C23: =(C7*B7+C8*B8+C9*B9+C10*B10+C11*B11+C12*B12+C13*B13+C14*B14+C15*B15+C16*B16+C17*B17+C18*B18+C19*B19+C20*B20+C21*B21+C22*B22)/B23 -> 613294.72 | D23: =SUM(D7:D22) -> 1522 | E23: =(E7*D7+E8*D8+E9*D9+E10*D10+E11*D11+E12*D12+E13*D13+E14*D14+E15*D15+E16*D16+E17*D17+E18*D18+E19*D19+E20*D20+E21*D21+E22*D22)/D23 -> 610084.28 | F23: =SUM(F7:F22) -> 49 | G23: =(G7*F7+G8*F8+G9*F9+G10*F10+G11*F11+G12*F12+G13*F13+G14*F14+G15*F15+G16*F16+G17*F17+G18*F18+G19*F19+G20*F20+G21*F21+G22*F22)/F23 -> 828165.61
A24: Atkinson | B24: 151 | C24: 532133 | D24: 131 | E24: 530000 | F24: 20 | G24: 537966
A25: Auburn | B25: 83 | C25: 550000 | D25: 80 | E25: 527500 | F25: 3 | G25: 1050000
A26: Brentwood | B26: 91 | C26: 550000 | D26: 84 | E26: 576200 | F26: 7 | G26: 525000
A27: Candia | B27: 44 | C27: 500000 | D27: 44 | E27: 500000
A28: Chester | B28: 81 | C28: 550000 | D28: 80 | E28: 550000 | F28: 1 | G28: 659000
A29: Danville | B29: 46 | C29: 465266 | D29: 43 | E29: 465000 | F29: 3 | G29: 659000
A30: Deerfield | B30: 87 | C30: 515400 | D30: 81 | E30: 512533 | F30: 6 | G30: 560466
A31: Epping | B31: 136 | C31: 489166 | D31: 129 | E31: 488400 | F31: 7 | G31: 625400
A32: Fremont | B32: 71 | C32: 415000 | D32: 69 | E32: 415000 | F32: 2 | G32: 642466
A33: Hampstead | B33: 170 | C33: 497900 | D33: 169 | E33: 495800 | F33: 1 | G33: 550000
A34: Kingston | B34: 25 | C34: 587000 | D34: 25 | E34: 587000
A35: Newton | B35: 79 | C35: 480000 | D35: 79 | E35: 480000
A36: Northwood | B36: 61 | C36: 375000 | D36: 61 | E36: 375000
A37: Nottingham | B37: 85 | C37: 499933 | D37: 75 | E37: 490000 | F37: 10 | G37: 577666
A38: Plaistow | B38: 153 | C38: 442000 | D38: 151 | E38: 442000 | F38: 2 | G38: 752500
A39: Raymond | B39: 150 | C39: 395000 | D39: 143 | E39: 390000 | F39: 7 | G39: 555000
A40: Sandown | B40: 82 | C40: 510000 | D40: 75 | E40: 500000 | F40: 7 | G40: 730733
A41: CEDS Central Towns | B41: =SUM(B24:B40) -> 1595 | C41: =(C24*B24+C25*B25+C26*B26+C27*B27+C28*B28+C29*B29+C30*B30+C31*B31+C32*B32+C33*B33+C34*B34+C35*B35+C36*B36+C37*B37+C38*B38+C39*B39+C40*B40)/B41 -> 486607.52 | D41: =SUM(D24:D40) -> 1519 | E41: =(E24*D24+E25*D25+E26*D26+E27*D27+E28*D28+E29*D29+E30*D30+E31*D31+E32*D32+E33*D33+E34*D34+E35*D35+E36*D36+E37*D37+E38*D38+E39*D39+E40*D40)/D41 -> 484003.8 | F41: =SUM(F24:F40) -> 76 | G41: =(G24*F24+G25*F25+G26*F26+G27*F27+G28*F28+G29*F29+G30*F30+G31*F31+G32*F32+G33*F33+G34*F34+G35*F35+G36*F36+G37*F37+G38*F38+G39*F39+G40*F40)/F41 -> 606284.72
A42: Derry | B42: 533 | C42: 390000 | D42: 533 | E42: 390000
A43: Hudson | B43: 352 | C43: 433066 | D43: 347 | E43: 430000 | F43: 347 | G43: 430000
A44: Litchfield | B44: 89 | C44: 500000 | D44: 89 | E44: 500000 | F44: 0 | G44: 0
A45: Londonderry | B45: 451 | C45: 500000 | D45: 439 | E45: 495000 | F45: 12 | G45: 662500
A46: Merrimack | B46: 432 | C46: 415000 | D46: 430 | E46: 415000 | F46: 2 | G46: 522000
A47: Nashua | B47: 1107 | C47: 400000 | D47: 1096 | E47: 400000 | F47: 11 | G47: 452533
A48: Pelham | B48: 183 | C48: 550000 | D48: 181 | E48: 549000 | F48: 2 | G48: 837966
A49: Salem | B49: 436 | C49: 510000 | D49: 412 | E49: 500000 | F49: 24 | G49: 860933
A50: Windham | B50: 254 | C50: 680000 | D50: 250 | E50: 680000 | F50: 4 | G50: 1700000
A51: CEDS Western Towns | B51: =SUM(B42:B50) -> 3837 | C51: =(C42*B42+C43*B43+C44*B44+C45*B45+C46*B46+C47*B47+C48*B48+C49*B49+C50*B50)/B51 -> 455595.32 | D51: =SUM(D42:D50) -> 3777 | E51: =(E42*D42+E43*D43+E44*D44+E45*D45+E46*D46+E47*D47+E48*D48+E49*D49+E50*D50)/D51 -> 453032.57 | F51: =SUM(F42:F50) -> 402 | G51: =(G42*F42+G43*F43+G44*F44+G45*F45+G46*F46+G47*F47+G48*F48+G49*F49+G50*F50)/F51 -> 478408.43
A52: REDC REGION | B52: =SUM(B51,B41,B23) -> 7003 | C52: =(C51*B51+C41*B41+C23*B23)/B52 -> 498035.73 | D52: =SUM(D51,D41,D23) -> 6818 | E52: =(E51*D51+E41*D41+E23*D23)/D52 -> 494991.79 | F52: =SUM(F51,F41,F23) -> 527 | G52: =(G51*F51+G41*F41+G23*F23)/F52 -> 529369.91
A53: Hillsborough County | B53: 5382 | C53: 415000 | D53: 5320 | E53: 410000 | F53: 62 | G53: 612000
A54: Rockingham County | B54: 4920 | C54: 501266 | D54: 4754 | E54: 500000 | F54: 166 | G54: 665000
A55: New Hamsphire | B55: 20374 | C55: 400000 | D55: 20025 | E55: 396000 | F55: 349 | G55: 620000

Sheet B5_NHA data 2021
A1: 2021 Data For 2022 CEDS
A2: ** CEDS SUBREGION averages are weighted averages.
B5: All Homes | D5: Existing Homes | F5: New Homes
A6: Town/Area | B6: Sample Size | C6: Median Purchase Price | D6: Sample Size | E6: Median Purchase Price | F6: Sample Size | G6: Median Purchase Price
A7: East Kingston | B7: 38 | C7: 468375 | D7: 38 | E7: 468375 | F7: 0
A8: Exeter | B8: 284 | C8: 422533 | D8: 258 | E8: 409400 | F8: 29 | G8: 458333
A9: Greenland | B9: 66 | C9: 495000 | D9: 64 | E9: 490000 | F9: 2 | G9: 644933
A10: Hampton | B10: 326 | C10: 450000 | D10: 319 | E10: 450000 | F10: 7 | G10: 449933
A11: Hampton Falls | B11: 25 | C11: 540000 | D11: 25 | E11: 540000 | F11: 0
A12: Kensington | B12: 23 | C12: 600000 | D12: 22 | E12: 600000 | F12: 1 | G12: 880000
A13: New Castle | B13: 15 | C13: 1253000 | D13: 15 | E13: 1253000 | F13: 0
A14: Newfields | B14: 31 | C14: 685000 | D14: 30 | E14: 677000 | F14: 1 | G14: 703000
A15: Newington | B15: 11 | C15: 925000 | D15: 11 | E15: 925000
A16: Newmarket | B16: 163 | C16: 375000 | D16: 162 | E16: 375000 | F16: 1 | G16: 768000
A17: North Hampton | B17: 61 | C17: 600000 | D17: 61 | E17: 600000 | F17: 0
A18: Portsmouth | B18: 381 | C18: 550000 | D18: 357 | E18: 544933 | F18: 24 | G18: 570066
A19: Rye | B19: 52 | C19: 855000 | D19: 51 | E19: 860000 | F19: 1 | G19: 423000
A20: Seabrook | B20: 75 | C20: 560000 | D20: 73 | E20: 560000 | F20: 2 | G20: 514000
A21: South Hampton | B21: 14 | C21: 548000 | D21: 14 | E21: 548000 | F21: 0
A22: Stratham | B22: 148 | C22: 550000 | D22: 144 | E22: 550000 | F22: 4 | G22: 733166
A23: CEDS Eastern Towns | B23: =SUM(B7:B22) -> 1713 | C23: =(C7*B7+C8*B8+C9*B9+C10*B10+C11*B11+C12*B12+C13*B13+C14*B14+C15*B15+C16*B16+C17*B17+C18*B18+C19*B19+C20*B20+C21*B21+C22*B22)/B23 -> 512247.3 | D23: =SUM(D7:D22) -> 1644 | E23: =(E7*D7+E8*D8+E9*D9+E10*D10+E11*D11+E12*D12+E13*D13+E14*D14+E15*D15+E16*D16+E17*D17+E18*D18+E19*D19+E20*D20+E21*D21+E22*D22)/D23 -> 509620.76 | F23: =SUM(F7:F22) -> 72 | G23: =(G7*F7+G8*F8+G9*F9+G10*F10+G11*F11+G12*F12+G13*F13+G14*F14+G15*F15+G16*F16+G17*F17+G18*F18+G19*F19+G20*F20+G21*F21+G22*F22)/F23 -> 529823.64
A24: Atkinson | B24: 119 | C24: 475000 | D24: 117 | E24: 470000 | F24: 2 | G24: 647466
A25: Auburn | B25: 82 | C25: 503766 | D25: 77 | E25: 496000 | F25: 5 | G25: 689933
A26: Brentwood | B26: 57 | C26: 550000 | D26: 54 | E26: 544966 | F26: 3 | G26: 622533
A27: Candia | B27: 59 | C27: 440000 | D27: 59 | E27: 440000 | F27: 0
A28: Chester | B28: 74 | C28: 466766 | D28: 74 | E28: 466766 | F28: 0
A29: Danville | B29: 57 | C29: 460000 | D29: 53 | E29: 450000 | F29: 4 | G29: 523133
A30: Deerfield | B30: 87 | C30: 435000 | D30: 87 | E30: 435000 | F30: 0
A31: Epping | B31: 125 | C31: 401000 | D31: 105 | E31: 380000 | F31: 20 | G31: 524000
A32: Fremont | B32: 86 | C32: 389466 | D32: 79 | E32: 389933 | F32: 7 | G32: 374933
A33: Hampstead | B33: 141 | C33: 480000 | D33: 141 | E33: 480000 | F33: 0
A34: Kingston | B34: 102 | C34: 413833 | D34: 102 | E34: 413833 | F34: 0
A35: Newton | B35: 11 | C35: 925000 | D35: 11 | E35: 925000 | F35: 0
A36: Northwood | B36: 75 | C36: 360000 | D36: 75 | E36: 360000 | F36: 0
A37: Nottingham | B37: 71 | C37: 455000 | D37: 64 | E37: 450000 | F37: 7 | G37: 513333
A38: Plaistow | B38: 123 | C38: 378000 | D38: 123 | E38: 378000 | F38: 0
A39: Raymond | B39: 125 | C39: 350000 | D39: 123 | E39: 350000 | F39: 2 | G39: 407466
A40: Sandown | B40: 93 | C40: 415000 | D40: 91 | E40: 414933 | F40: 2 | G40: 479500
A41: CEDS Central Towns | B41: =SUM(B24:B40) -> 1487 | C41: =(C24*B24+C25*B25+C26*B26+C27*B27+C28*B28+C29*B29+C30*B30+C31*B31+C32*B32+C33*B33+C34*B34+C35*B35+C36*B36+C37*B37+C38*B38+C39*B39+C40*B40)/B41 -> 434148.31 | D41: =SUM(D24:D40) -> 1435 | E41: =(E24*D24+E25*D25+E26*D26+E27*D27+E28*D28+E29*D29+E30*D30+E31*D31+E32*D32+E33*D33+E34*D34+E35*D35+E36*D36+E37*D37+E38*D38+E39*D39+E40*D40)/D41 -> 431135.49 | F41: =SUM(F24:F40) -> 52 | G41: =(G24*F24+G25*F25+G26*F26+G27*F27+G28*F28+G29*F29+G30*F30+G31*F31+G32*F32+G33*F33+G34*F34+G35*F35+G36*F36+G37*F37+G38*F38+G39*F39+G40*F40)/F41 -> 522625.42
A42: Derry | B42: 616 | C42: 352800 | D42: 598 | E42: 349966 | F42: 18 | G42: 521133
A43: Hudson | B43: 332 | C43: 380000 | D43: 326 | E43: 379000 | F43: 6 | G43: 603666
A44: Litchfield | B44: 76 | C44: 432500 | D44: 75 | E44: 430000 | F44: 1 | G44: 659933
A45: Londonderry | B45: 406 | C45: 450000 | D45: 381 | E45: 430000 | F45: 25 | G45: 631333
A46: Merrimack | B46: 357 | C46: 370000 | D46: 349 | E46: 361000 | F46: 8 | G46: 489233
A47: Nashua | B47: 1012 | C47: 363533 | D47: 997 | E47: 362000 | F47: 15 | G47: 370933
A48: Pelham | B48: 214 | C48: 525000 | D48: 201 | E48: 524000 | F48: 13 | G48: 620000
A49: Salem | B49: 455 | C49: 446000 | D49: 436 | E49: 440000 | F49: 19 | G49: 728733
A50: Windham | B50: 293 | C50: 600000 | D50: 287 | E50: 594000 | F50: 6 | G50: 624966
A51: CEDS Western Towns | B51: =SUM(B42:B50) -> 3761 | C51: =(C42*B42+C43*B43+C44*B44+C45*B45+C46*B46+C47*B47+C48*B48+C49*B49+C50*B50)/B51 -> 412156.39 | D51: =SUM(D42:D50) -> 3650 | E51: =(E42*D42+E43*D43+E44*D44+E45*D45+E46*D46+E47*D47+E48*D48+E49*D49+E50*D50)/D51 -> 406427.03 | F51: =SUM(F42:F50) -> 111 | G51: =(G42*F42+G43*F43+G44*F44+G45*F45+G46*F46+G47*F47+G48*F48+G49*F49+G50*F50)/F51 -> 581794.86
A52: REDC REGION | B52: =SUM(B51,B41,B23) -> 6961 | C52: =(C51*B51+C41*B41+C23*B23)/B52 -> 441485.18 | D52: =SUM(D51,D41,D23) -> 6729 | E52: =(E51*D51+E41*D41+E23*D23)/D52 -> 436908.1 | F52: =SUM(F51,F41,F23) -> 235 | G52: =(G51*F51+G41*F41+G23*F23)/F52 -> 552778.95
A53: Hillsborough County | B53: 4800 | C53: 372266 | D53: 4704 | E53: 370000 | F53: 96 | G53: 462500
A54: Rockingham County | B54: 5044 | C54: 449933 | D54: 4851 | E54: 440000 | F54: 193 | G54: 560000
A55: New Hamsphire | B55: 20014 | C55: 350000 | D55: 19604 | E55: 350000 | F55: 410 | G55: 500000

Sheet B5_NHA data 2020
A1: 2020 Data For 2021 CEDS
A2: ** CEDS SUBREGION averages are weighted averages.
B5: All Homes | D5: Existing Homes | F5: New Homes
A6: Town/Area | B6: Sample Size | C6: Median Purchase Price | D6: Sample Size | E6: Median Purchase Price | F6: Sample Size | G6: Median Purchase Price
A7: East Kingston | B7: 31 | C7: 495000 | D7: 30 | E7: 477500 | F7: 1 | G7: 527400
A8: Exeter | B8: 276 | C8: 389466 | D8: 260 | E8: 390000 | F8: 16 | G8: 352000
A9: Greenland | B9: 50 | C9: 547500 | D9: 49 | E9: 525000 | F9: 1 | G9: 718600
A10: Hampton | B10: 399 | C10: 397000 | D10: 378 | E10: 380000 | F10: 21 | G10: 510000
A11: Hampton Falls | B11: 27 | C11: 520000 | D11: 27 | E11: 520000 | F11: 0 | G11: n/a
A12: Kensington | B12: 37 | C12: 540000 | D12: 37 | E12: 540000 | F12: 0 | G12: n/a
A13: New Castle | B13: 18 | C13: 1299500 | D13: 18 | E13: 1299500 | F13: 0 | G13: n/a
A14: Newfields | B14: 18 | C14: 512500 | D14: 17 | E14: 510000 | F14: 1 | G14: 655000
A15: Newington | B15: 8 | C15: 792466 | D15: 7 | E15: 785000 | F15: 1 | G15: 799933
A16: Newmarket | B16: 116 | C16: 345000 | D16: 115 | E16: 345000 | F16: 1 | G16: 465000
A17: North Hampton | B17: 59 | C17: 610000 | D17: 59 | E17: 610000 | F17: 0 | G17: n/a
A18: Portsmouth | B18: 396 | C18: 547000 | D18: 395 | E18: 545000 | F18: 1 | G18: 789000
A19: Rye | B19: 72 | C19: 747500 | D19: 72 | E19: 747500 | F19: 0 | G19: n/a
A20: Seabrook | B20: 70 | C20: 394766 | D20: 70 | E20: 394766 | F20: 0 | G20: n/a
A21: South Hampton | B21: 11 | C21: 542000 | D21: 11 | E21: 542000 | F21: 0 | G21: n/a
A22: Stratham | B22: 120 | C22: 439966 | D22: 116 | E22: 438733 | F22: 4 | G22: 618800
A23: CEDS Eastern Towns | B23: =SUM(B7:B22) -> 1708 | C23: =(C7*B7+C8*B8+C9*B9+C10*B10+C11*B11+C12*B12+C13*B13+C14*B14+C15*B15+C16*B16+C17*B17+C18*B18+C19*B19+C20*B20+C21*B21+C22*B22)/B23 -> 476829.56 | D23: =SUM(D7:D22) -> 1661 | E23: =(E7*D7+E8*D8+E9*D9+E10*D10+E11*D11+E12*D12+E13*D13+E14*D14+E15*D15+E16*D16+E17*D17+E18*D18+E19*D19+E20*D20+E21*D21+E22*D22)/D23 -> 473157.52 | F23: =SUM(F7:F22) -> 47 | G23: =(G7*F7+G8*F8+G9*F9+G10*F10+G14*F14+G15*F15+G16*F16+G18*F18+G22*F22)/F23 -> 484513.47
A24: Atkinson | B24: 118 | C24: 432500 | D24: 114 | E24: 429166 | F24: 4 | G24: 542466
A25: Auburn | B25: 68 | C25: 419966 | D25: 65 | E25: 416000 | F25: 3 | G25: 699933
A26: Brentwood | B26: 58 | C26: 438366 | D26: 58 | E26: 438366 | F26: 0 | G26: n/a
A27: Candia | B27: 56 | C27: 385000 | D27: 55 | E27: 385000 | F27: 1 | G27: 520000
A28: Chester | B28: 82 | C28: 430000 | D28: 78 | E28: 431266 | F28: 4 | G28: 401433
A29: Danville | B29: 60 | C29: 378466 | D29: 52 | E29: 355766 | F29: 8 | G29: 486333
A30: Deerfield | B30: 62 | C30: 355000 | D30: 58 | E30: 347966 | F30: 4 | G30: 394966
A31: Epping | B31: 98 | C31: 325000 | D31: 95 | E31: 324933 | F31: 3 | G31: 539933
A32: Fremont | B32: 62 | C32: 346266 | D32: 61 | E32: 342533 | F32: 1 | G32: 497000
A33: Hampstead | B33: 126 | C33: 432500 | D33: 123 | E33: 430000 | F33: 3 | G33: 575000
A34: Kingston | B34: 83 | C34: 380000 | D34: 82 | E34: 377500 | F34: 1 | G34: 425000
A35: Newton | B35: 59 | C35: 374933 | D35: 59 | E35: 374933 | F35: 0 | G35: n/a
A36: Northwood | B36: 54 | C36: 302500 | D36: 52 | E36: 297500 | F36: 2 | G36: 462700
A37: Nottingham | B37: 66 | C37: 364466 | D37: 65 | E37: 364000 | F37: 1 | G37: 364933
A38: Plaistow | B38: 101 | C38: 295000 | D38: 99 | E38: 295000 | F38: 2 | G38: 510000
A39: Raymond | B39: 139 | C39: 283933 | D39: 129 | E39: 279933 | F39: 10 | G39: 337466
A40: Sandown | B40: 89 | C40: 370000 | D40: 88 | E40: 370000 | F40: 1 | G40: 534933
A41: CEDS Central Towns | B41: =SUM(B24:B40) -> 1381 | C41: =(C24*B24+C25*B25+C26*B26+C27*B27+C28*B28+C29*B29+C30*B30+C31*B31+C32*B32+C33*B33+C34*B34+C35*B35+C36*B36+C37*B37+C38*B38+C39*B39+C40*B40)/B41 -> 369740.66 | D41: =SUM(D24:D40) -> 1333 | E41: =(E24*D24+E25*D25+E26*D26+E27*D27+E28*D28+E29*D29+E30*D30+E31*D31+E32*D32+E33*D33+E34*D34+E35*D35+E36*D36+E37*D37+E38*D38+E39*D39+E40*D40)/D41 -> 367307.81 | F41: =SUM(F24:F40) -> 48 | G41: =(G24*F24+G25*F25+G27*F27+G28*F28+G29*F29+G30*F30+G31*F31+G32*F32+G33*F33+G34*F34+G36*F36+G37*F37+G38*F38+G39*F39+G40*F40)/F41 -> 465680.17
A42: Derry | B42: 516 | C42: 305500 | D42: 491 | E42: 311000 | F42: 25 | G42: 262533
A43: Hudson | B43: 346 | C43: 330000 | D43: 339 | E43: 330000 | F43: 7 | G43: 398000
A44: Litchfield | B44: 103 | C44: 375000 | D44: 101 | E44: 372533 | F44: 2 | G44: 571966
A45: Londonderry | B45: 446 | C45: 390500 | D45: 431 | E45: 389933 | F45: 15 | G45: 575000
A46: Merrimack | B46: 448 | C46: 320000 | D46: 444 | E46: 320000 | F46: 4 | G46: 512500
A47: Nashua | B47: 1133 | C47: 316000 | D47: 1124 | E47: 315266 | F47: 9 | G47: 340000
A48: Pelham | B48: 164 | C48: 431266 | D48: 158 | E48: 431266 | F48: 6 | G48: 425000
A49: Salem | B49: 402 | C49: 393266 | D49: 392 | E49: 385500 | F49: 10 | G49: 486266
A50: Windham | B50: 251 | C50: 545000 | D50: 241 | E50: 530000 | F50: 10 | G50: 764400
A51: CEDS Western Towns | B51: =SUM(B42:B50) -> 3809 | C51: =(C42*B42+C43*B43+C44*B44+C45*B45+C46*B46+C47*B47+C48*B48+C49*B49+C50*B50)/B51 -> 354846.3 | D51: =SUM(D42:D50) -> 3721 | E51: =(E42*D42+E43*D43+E44*D44+E45*D45+E46*D46+E47*D47+E48*D48+E49*D49+E50*D50)/D51 -> 353045.68 | F51: =SUM(F42:F50) -> 88 | G51: =(G42*F42+G43*F43+G44*F44+G45*F45+G46*F46+G47*F47+G48*F48+G49*F49+G50*F50)/F51 -> 446419.51
A52: REDC REGION | B52: =SUM(B51,B41,B23) -> 6898 | C52: =(C51*B51+C41*B41+C23*B23)/B52 -> 388032.23 | D52: =SUM(D51,D41,D23) -> 6715 | E52: =(E51*D51+E41*D41+E23*D23)/D52 -> 385587.33 | F52: =SUM(F51,F41,F23) -> 183 | G52: =(G51*F51+G41*F41+G23*F23)/F52 -> 461255.18
A53: Hillsborough County | B53: 5408 | C53: 317000 | D53: 5322 | E53: 315000 | F53: 86 | G53: 396500
A54: Rockingham County | B54: 4704 | C54: 395000 | D54: 4549 | E54: 390000 | F54: 155 | G54: 478533
A55: New Hamsphire | B55: 20201 | C55: 302333 | D55: 19830 | E55: 300000 | F55: 371 | G55: 424933

Sheet B5_NHA data 2019
A1: 2019 Data For 2020 CEDS
A2: ** CEDS SUBREGION averages are weighted averages.
B5: All Homes | D5: Existing Homes | F5: New Homes
A6: Town/Area | B6: Median Purchase Price | C6: Sample Size | D6: Median Purchase Price | E6: Sample Size | F6: Median Purchase Price | G6: Sample Size
A7: East Kingston | B7: 347000 | C7: 19 | D7: 347000 | E7: 19 | H7: =C7-(E7+G7) -> 0
A8: Exeter | B8: 361500 | C8: 262 | D8: 361500 | E8: 262 | H8: =C8-(E8+G8) -> 0
A9: Greenland | B9: 405000 | C9: 63 | D9: 405000 | E9: 63 | H9: =C9-(E9+G9) -> 0
A10: Hampton | B10: 345000 | C10: 451 | D10: 345000 | E10: 451 | H10: =C10-(E10+G10) -> 0
A11: Hampton Falls | B11: 566966 | C11: 32 | D11: 566966 | E11: 32 | H11: =C11-(E11+G11) -> 0
A12: Kensington | B12: 435000 | C12: 28 | D12: 420000 | E12: 27 | F12: 769933 | G12: 1 | H12: =C12-(E12+G12) -> 0
A13: New Castle | B13: 987500 | C13: 12 | D13: 987500 | E13: 12 | H13: =C13-(E13+G13) -> 0
A14: Newfields | B14: 492500 | C14: 28 | D14: 492500 | E14: 28 | H14: =C14-(E14+G14) -> 0
A15: Newington | B15: 647500 | C15: 6 | D15: 520000 | E15: 5 | F15: 775000 | G15: 1 | H15: =C15-(E15+G15) -> 0
A16: Newmarket | B16: 320000 | C16: 137 | D16: 320000 | E16: 136 | F16: 710000 | G16: 1 | H16: =C16-(E16+G16) -> 0
A17: North Hampton | B17: 574933 | C17: 55 | D17: 574933 | E17: 53 | F17: 1012000 | G17: 2 | H17: =C17-(E17+G17) -> 0
A18: Portsmouth | B18: 465000 | C18: 375 | D18: 465000 | E18: 374 | F18: 502000 | G18: 1 | H18: =C18-(E18+G18) -> 0
A19: Rye | B19: 772533 | C19: 85 | D19: 775000 | E19: 83 | F19: 612500 | G19: 2 | H19: =C19-(E19+G19) -> 0
A20: Seabrook | B20: 355000 | C20: 88 | D20: 855000 | E20: 88 | H20: =C20-(E20+G20) -> 0
A21: South Hampton | B21: 368750 | C21: 12 | D21: 368750 | E21: 12 | H21: =C21-(E21+G21) -> 0
A22: Stratham | B22: 440500 | C22: 156 | D22: 431500 | E22: 152 | F22: 694766 | G22: 4 | H22: =C22-(E22+G22) -> 0
A23: CEDS Eastern Towns | B23: =(B7*C7+B8*C8+B9*C9+B10*C10+B11*C11+B12*C12+B13*C13+B14*C14+B15*C15+B16*C16+B17*C17+B18*C18+B19*C19+B20*C20+B21*C21+B22*C22)/C23 -> 421309.3 | C23: =SUM(C7:C22) -> 1809 | D23: =(D7*E7+D8*E8+D9*E9+D10*E10+D11*E11+D12*E12+D13*E13+D14*E14+D15*E15+D16*E16+D17*E17+D18*E18+D19*E19+D20*E20+D21*E21+D22*E22)/E23 -> 443861.08 | E23: =SUM(E7:E22) -> 1797 | F23: =(F7*G7+F8*G8+F9*G9+F10*G10+F11*G11+F12*G12+F13*G13+F14*G14+F15*G15+F16*G16+F17*G17+F18*G18+F19*G19+F20*G20+F21*G21+F22*G22)/G23 -> 732083.08 | G23: =SUM(G7:G22) -> 12 | H23: =C23-(E23+G23) -> 0
A24: Atkinson | B24: 390000 | C24: 128 | D24: 390000 | E24: 128 | H24: =C24-(E24+G24) -> 0
A25: Auburn | B25: 362466 | C25: 82 | D25: 368500 | E25: 78 | F25: 298666 | G25: 4 | H25: =C25-(E25+G25) -> 0
A26: Brentwood | B26: 455000 | C26: 54 | D26: 455000 | E26: 53 | F26: 616000 | G26: 1 | H26: =C26-(E26+G26) -> 0
A27: Candia | B27: 329766 | C27: 42 | D27: 329766 | E27: 42 | H27: =C27-(E27+G27) -> 0
A28: Chester | B28: 393766 | C28: 74 | D28: 393766 | E28: 74 | H28: =C28-(E28+G28) -> 0
A29: Danville | B29: 340000 | C29: 65 | D29: 340000 | E29: 65 | H29: =C29-(E29+G29) -> 0
A30: Deerfield | B30: 342000 | C30: 57 | D30: 336000 | E30: 56 | F30: 349000 | G30: 1 | H30: =C30-(E30+G30) -> 0
A31: Epping | B31: 319000 | C31: 125 | D31: 319000 | E31: 118 | F31: 427800 | G31: 7 | H31: =C31-(E31+G31) -> 0
A32: Fremont | B32: 315000 | C32: 67 | D32: 315000 | E32: 67 | H32: =C32-(E32+G32) -> 0
A33: Hampstead | B33: 364933 | C33: 154 | D33: 364933 | E33: 154 | H33: =C33-(E33+G33) -> 0
A34: Kingston | B34: 326000 | C34: 111 | D34: 326000 | E34: 111 | H34: =C34-(E34+G34) -> 0
A35: Newton | B35: 355000 | C35: 84 | D35: 355000 | E35: 83 | F35: 419933 | G35: 1 | H35: =C35-(E35+G35) -> 0
A36: Northwood | B36: 299933 | C36: 87 | D36: 295966 | E36: 86 | F36: 545000 | G36: 1 | H36: =C36-(E36+G36) -> 0
A37: Nottingham | B37: 343500 | C37: 92 | D37: 341000 | E37: 90 | F37: 446466 | G37: 2 | H37: =C37-(E37+G37) -> 0
A38: Plaistow | B38: 275000 | C38: 147 | D38: 273000 | E38: 145 | F38: 532500 | G38: 2 | H38: =C38-(E38+G38) -> 0
A39: Raymond | B39: 290000 | C39: 171 | D39: 292500 | E39: 164 | F39: 272533 | G39: 7 | H39: =C39-(E39+G39) -> 0
A40: Sandown | B40: 324000 | C40: 117 | D40: 324000 | E40: 117 | H40: =C40-(E40+G40) -> 0
A41: CEDS Central Towns | B41: =(B24*C24+B25*C25+B26*C26+B27*C27+B28*C28+B29*C29+B30*C30+B31*C31+B32*C32+B33*C33+B34*C34+B35*C35+B36*C36+B37*C37+B38*C38+B39*C39+B40*C40)/C41 -> 336511.72 | C41: =SUM(C24:C40) -> 1657 | D41: =(D24*E24+D25*E25+D26*E26+D27*E27+D28*E28+D29*E29+D30*E30+D31*E31+D32*E32+D33*E33+D34*E34+D35*E35+D36*E36+D37*E37+D38*E38+D39*E39+D40*E40)/E41 -> 336533.79 | E41: =SUM(E24:E40) -> 1631 | F41: =(F24*G24+F25*G25+F26*G26+F27*G27+F28*G28+F29*G29+F30*G30+F31*G31+F32*G32+F33*G33+F34*G34+F35*G35+F36*G36+F37*G37+F38*G38+F39*G39+F40*G40)/G41 -> 384033.08 | G41: =SUM(G24:G40) -> 26 | H41: =C41-(E41+G41) -> 0
A42: Derry | B42: 276933 | C42: 611 | D42: 275500 | E42: 606 | F42: 482200 | G42: 5 | H42: =C42-(E42+G42) -> 0
A43: Hudson | B43: 305000 | C43: 371 | D43: 305000 | E43: 371 | H43: =C43-(E43+G43) -> 0
A44: Litchfield | B44: 340000 | C44: 102 | D44: 340000 | E44: 102 | H44: =C44-(E44+G44) -> 0
A45: Londonderry | B45: 300000 | C45: 439 | D45: 300000 | E45: 436 | F45: 499933 | G45: 3 | H45: =C45-(E45+G45) -> 0
A46: Merrimack | B46: 266000 | C46: 507 | D46: 266000 | E46: 505 | F46: 460966 | G46: 2 | H46: =C46-(E46+G46) -> 0
A47: Nashua | B47: 280000 | C47: 1401 | D47: 280000 | E47: 1398 | F47: 420000 | G47: 3 | H47: =C47-(E47+G47) -> 0
A48: Pelham | B48: 415000 | C48: 186 | D48: 405500 | E48: 174 | F48: 508466 | G48: 12 | H48: =C48-(E48+G48) -> 0
A49: Salem | B49: 359933 | C49: 529 | D49: 355000 | E49: 514 | F49: 475000 | G49: 15 | H49: =C49-(E49+G49) -> 0
A50: Windham | B50: 461000 | C50: 249 | D50: 455000 | E50: 246 | F50: 729000 | G50: 3 | H50: =C50-(E50+G50) -> 0
A51: CEDS Western Towns | B51: =(B42*C42+B43*C43+B44*C44+B45*C45+B46*C46+B47*C47+B48*C48+B49*C49+B50*C50)/C51 -> 309048.15 | C51: =SUM(C42:C50) -> 4395 | D51: =(D42*E42+D43*E43+D44*E44+D45*E45+D46*E46+D47*E47+D48*E48+D49*E49+D50*E50)/E51 -> 307057.67 | E51: =SUM(E42:E50) -> 4352 | F51: =(F42*G42+F43*G43+F44*G44+F45*G45+F46*G46+F47*G47+F48*G48+F49*G49+F50*G50)/G51 -> 500147.05 | G51: =SUM(G42:G50) -> 43 | H51: =C51-(E51+G51) -> 0
A52: REDC REGION | B52: =(B51*C51+B41*C41+B23*C23)/C52 -> 340671.04 | C52: =SUM(C51,C41,C23) -> 7861 | D52: =(D51*E51+D41*E41+D23*E23)/E52 -> 344835.47 | E52: =SUM(E51,E41,E23) -> 7780 | F52: =(F51*G51+F41*G41+F23*G23)/G52 -> 497236.79 | G52: =SUM(G51,G41,G23) -> 81 | H52: =C52-(E52+G52) -> 0
A53: Hillsborough County | B53: 282000 | C53: 6385 | D53: 280000 | E53: 6336 | F53: 420000 | G53: 49 | H53: =C53-(E53+G53) -> 0
A54: Rockingham County | B54: 349000 | C54: 5294 | D54: 347000 | E54: 5230 | F54: 481100 | G54: 64 | H54: =C54-(E54+G54) -> 0
A55: New Hamsphire | B55: 270000 | C55: 22476 | D55: 269933 | E55: 22293 | F55: 410000 | G55: 183 | H55: =C55-(E55+G55) -> 0

Sheet B5_NHA data 2018
A1: 2018 Data for 2019 CEDS
A2: ** CEDS SUBREGION averages are weighted averages.
B5: All Homes | D5: Existing Homes | F5: New Homes
A6: Town/Area | B6: Median Purchase Price | C6: Sample Size | D6: Median Purchase Price | E6: Sample Size | F6: Median Purchase Price | G6: Sample Size
A7: East Kingston | B7: 393000 | C7: 30 | D7: 387000 | E7: 29 | F7: 465000 | G7: 1
A8: Exeter | B8: 339000 | C8: 252 | D8: 325000 | E8: 235 | F8: 422000 | G8: 17
A9: Greenland | B9: 475000 | C9: 81 | D9: 400000 | E9: 69 | F9: 591766 | G9: 12
A10: Hampton | B10: 341500 | C10: 368 | D10: 335000 | E10: 337 | F10: 385000 | G10: 31
A11: Hampton Falls | B11: 555000 | C11: 31 | D11: 540700 | E11: 30 | F11: 1145000 | G11: 1
A12: Kensington | B12: 382000 | C12: 21 | D12: 382000 | E12: 21 | F12: n/a | G12: 0
A13: New Castle | B13: 765000 | C13: 16 | D13: 730000 | E13: 15 | F13: 1100000 | G13: 1
A14: Newfields | B14: 406000 | C14: 18 | D14: 406000 | E14: 18 | F14: n/a | G14: 0
A15: Newington | B15: 613766 | C15: 4 | D15: 613766 | E15: 4 | F15: n/a | G15: 0
A16: Newmarket | B16: 288933 | C16: 155 | D16: 283533 | E16: 146 | F16: 505200 | G16: 9
A17: North Hampton | B17: 584000 | C17: 68 | D17: 584000 | E17: 66 | F17: 655000 | G17: 2
A18: Portsmouth | B18: 449500 | C18: 338 | D18: 439000 | E18: 327 | F18: 785000 | G18: 11
A19: Rye | B19: 650466 | C19: 82 | D19: 650466 | E19: 82 | F19: n/a | G19: 0
A20: Seabrook | B20: 336500 | C20: 94 | D20: 333000 | E20: 90 | F20: 356000 | G20: 4
A21: South Hampton | B21: 468900 | C21: 11 | D21: 468900 | E21: 11 | F21: n/a | G21: 0
A22: Stratham | B22: 386533 | C22: 171 | D22: 384933 | E22: 165 | F22: 525000 | G22: 6
A23: CEDS Eastern Towns | B23: =(B7*C7+B8*C8+B9*C9+B10*C10+B11*C11+B12*C12+B13*C13+B14*C14+B15*C15+B16*C16+B17*C17+B18*C18+B19*C19+B20*C20+B21*C21+B22*C22)/C23 -> 403015.48 | C23: =SUM(C7:C22) -> 1740 | D23: =(D7*E7+D8*E8+D9*E9+D10*E10+D11*E11+D12*E12+D13*E13+D14*E14+D15*E15+D16*E16+D17*E17+D18*E18+D19*E19+D20*E20+D21*E21+D22*E22)/E23 -> 394238.26 | E23: =SUM(E7:E22) -> 1645 | F23: =(F7*G7+F8*G8+F9*G9+F10*G10+F11*G11+F13*G13+F16*G16+F17*G17+F18*G18+F20*G20+F22*G22)/G23 -> 505115.71 | G23: =SUM(G7:G22) -> 95
A24: Atkinson | B24: 361600 | C24: 129 | D24: 360000 | E24: 127 | F24: 572966 | G24: 2
A25: Auburn | B25: 365000 | C25: 74 | D25: 349933 | E25: 63 | F25: 498000 | G25: 11
A26: Brentwood | B26: 378866 | C26: 70 | D26: 376500 | E26: 67 | F26: 524933 | G26: 3
A27: Candia | B27: 312000 | C27: 39 | D27: 312000 | E27: 39 | F27: n/a | G27: 0
A28: Chester | B28: 350000 | C28: 63 | D28: 347266 | E28: 56 | F28: 355000 | G28: 7
A29: Danville | B29: 307000 | C29: 55 | D29: 306975 | E29: 52 | F29: 386000 | G29: 3
A30: Deerfield | B30: 329000 | C30: 69 | D30: 328533 | E30: 67 | F30: 405000 | G30: 2
A31: Epping | B31: 302500 | C31: 114 | D31: 299000 | E31: 105 | F31: 365000 | G31: 9
A32: Fremont | B32: 279000 | C32: 81 | D32: 271466 | E32: 74 | F32: 311000 | G32: 7
A33: Hampstead | B33: 365533 | C33: 163 | D33: 365266 | E33: 162 | F33: 382000 | G33: 1
A34: Kingston | B34: 305533 | C34: 83 | D34: 300000 | E34: 75 | F34: 351966 | G34: 8
A35: Newton | B35: 341500 | C35: 84 | D35: 341500 | E35: 77 | F35: 363000 | G35: 7
A36: Northwood | B36: 246733 | C36: 72 | D36: 246733 | E36: 72 | F36: n/a | G36: 0
A37: Nottingham | B37: 299774 | C37: 76 | D37: 299308 | E37: 72 | F37: 368000 | G37: 4
A38: Plaistow | B38: 245000 | C38: 137 | D38: 237500 | E38: 134 | F38: 499933 | G38: 3
A39: Raymond | B39: 269000 | C39: 159 | D39: 270000 | E39: 153 | F39: 264500 | G39: 6
A40: Sandown | B40: 315000 | C40: 111 | D40: 312000 | E40: 105 | F40: 422133 | G40: 6
A41: CEDS Central Towns | B41: =(B24*C24+B25*C25+B26*C26+B27*C27+B28*C28+B29*C29+B30*C30+B31*C31+B32*C32+B33*C33+B34*C34+B35*C35+B36*C36+B37*C37+B38*C38+B39*C39+B40*C40)/C41 -> 314465.32 | C41: =SUM(C24:C40) -> 1579 | D41: =(D24*E24+D25*E25+D26*E26+D27*E27+D28*E28+D29*E29+D30*E30+D31*E31+D32*E32+D33*E33+D34*E34+D35*E35+D36*E36+D37*E37+D38*E38+D39*E39+D40*E40)/E41 -> 311495.08 | E41: =SUM(E24:E40) -> 1500 | F41: =(F24*G24+F25*G25+F26*G26+F28*G28+F29*G29+F30*G30+F31*G31+F32*G32+F33*G33+F34*G34+F35*G35+F37*G37+F38*G38+F39*G39+F40*G40)/G41 -> 391696.91 | G41: =SUM(G24:G40) -> 79
A42: Derry | B42: 260000 | C42: 577 | D42: 259966 | E42: 568 | F42: 430000 | G42: 9
A43: Hudson | B43: 289000 | C43: 397 | D43: 285000 | E43: 383 | F43: 364966 | G43: 14
A44: Litchfield | B44: 315000 | C44: 104 | D44: 315000 | E44: 101 | F44: 450000 | G44: 3
A45: Londonderry | B45: 319466 | C45: 418 | D45: 315000 | E45: 397 | F45: 405000 | G45: 21
A46: Merrimack | B46: 261000 | C46: 551 | D46: 260333 | E46: 547 | F46: 382466 | G46: 4
A47: Nashua | B47: 262000 | C47: 1338 | D47: 260000 | E47: 1302 | F47: 285000 | G47: 36
A48: Pelham | B48: 365000 | C48: 186 | D48: 355000 | E48: 170 | F48: 418200 | G48: 16
A49: Salem | B49: 330000 | C49: 435 | D49: 325100 | E49: 418 | F49: 470000 | G49: 17
A50: Windham | B50: 440000 | C50: 256 | D50: 429000 | E50: 239 | F50: 647000 | G50: 17
A51: CEDS Western Towns | B51: =(B42*C42+B43*C43+B44*C44+B45*C45+B46*C46+B47*C47+B48*C48+B49*C49+B50*C50)/C51 -> 293171.47 | C51: =SUM(C42:C50) -> 4262 | D51: =(D42*E42+D43*E43+D44*E44+D45*E45+D46*E46+D47*E47+D48*E48+D49*E49+D50*E50)/E51 -> 289304.4 | E51: =SUM(E42:E50) -> 4125 | F51: =(F42*G42+F43*G43+F44*G44+F45*G45+F46*G46+F47*G47+F48*G48+F49*G49+F50*G50)/G51 -> 410982.39 | G51: =SUM(G42:G50) -> 137
A52: REDC REGION | B52: =(B51*C51+B41*C41+B23*C23)/C52 -> 322818.16 | C52: =SUM(C51,C41,C23) -> 7581 | D52: =(D51*E51+D41*E41+D23*E23)/E52 -> 317626.57 | E52: =SUM(E51,E41,E23) -> 7270 | F52: =(F51*G51+F41*G41+F23*G23)/G52 -> 434838.06 | G52: =SUM(G51,G41,G23) -> 311
A53: Hillsborough County | B53: 265000 | C53: 6368 | D53: 262000 | E53: 6197 | F53: 359933 | G53: 171
A54: Rockingham County | B54: 330000 | C54: 5005 | D54: 325000 | E54: 4767 | F54: 427000 | G54: 238
A55: New Hamsphire | B55: 254000 | C55: 22483 | D55: 250000 | E55: 21833 | F55: 374266 | G55: 650
B56: REDC | C56: =C52/C55 -> 0.3371881 | E56: =E52/E55 -> 0.33298218 | G56: =G52/G55 -> 0.47846154
B57: Hills/Rock | C57: =(C53+C54)/C55 -> 0.50584886 | E57: =(E53+E54)/E55 -> 0.50217561 | G57: =(G53+G54)/G55 -> 0.62923077

Sheet B5_NHA data 2017
A1: 2017 Data
A2: ** CEDS SUBREGION averages are weighted averages.
B5: All Homes | D5: Existing Homes | F5: New Homes
A6: Town/Area | B6: Median Purchase Price | C6: Sample Size | D6: Median Purchase Price | E6: Sample Size | F6: Median Purchase Price | G6: Sample Size
A7: East Kingston | B7: 364133 | C7: 48 | D7: 363266 | E7: 47 | F7: 387000 | G7: 1
A8: Exeter | B8: 320000 | C8: 291 | D8: 300000 | E8: 251 | F8: 370000 | G8: 40
A9: Greenland | B9: 472500 | C9: 56 | D9: 392500 | E9: 46 | F9: 579133 | G9: 10
A10: Hampton | B10: 335000 | C10: 503 | D10: 324533 | E10: 451 | F10: 399166 | G10: 52
A11: Hampton Falls | B11: 389966 | C11: 36 | D11: 389966 | E11: 36 | F11: 395000 | G11: 35
A12: Kensington | B12: 389500 | C12: 32 | D12: 380000 | E12: 31 | F12: 504933 | G12: 1
A13: New Castle | B13: 1250000 | C13: 17 | D13: 1250000 | E13: 17 | F13: 0 | G13: 0
A14: Newfields | B14: 391266 | C14: 32 | D14: 375000 | E14: 31 | F14: 449933 | G14: 1
A15: Newington | B15: 485000 | C15: 13 | D15: 485000 | E15: 13 | F15: 0 | G15: 0
A16: Newmarket | B16: 285000 | C16: 142 | D16: 283000 | E16: 138 | F16: 441566 | G16: 4
A17: North Hampton | B17: 542466 | C17: 84 | D17: 539933 | E17: 83 | F17: 735000 | G17: 1
A18: Portsmouth | B18: 409500 | C18: 374 | D18: 397666 | E18: 357 | F18: 850000 | G18: 17
... A22: Stratham | B22: 400000 | C22: 165 | D22: 397000 | E22: 161 | F22: 562500 | G22: 4
A23: CEDS Eastern Towns | B23: =(B7*C7+B8*C8+B9*C9+B10*C10+B11*C11+B12*C12+B13*C13+B14*C14+B15*C15+B16*C16+B17*C17+B18*C18+B19*C19+B20*C20+B21*C21+B22*C22)/C23 -> 391552.52 | C23: =SUM(C7:C22) -> 2017 | D23: =(D7*E7+D8*E8+D9*E9+D10*E10+D11*E11+D12*E12+D13*E13+D14*E14+D15*E15+D16*E16+D17*E17+D18*E18+D19*E19+D20*E20+D21*E21+D22*E22)/E23 -> 382854.01 | E23: =SUM(E7:E22) -> 1881 | F23: =(F7*G7+F8*G8+F9*G9+F10*G10+F11*G11+F12*G12+F13*G13+F14*G14+F15*G15+F16*G16+F17*G17+F18*G18+F19*G19+F20*G20+F21*G21+F22*G22)/G23 -> 465813.4 | G23: =SUM(G7:G22) -> 171
A24: Atkinson | B24: 357666 | C24: 128 | D24: 355000 | E24: 125 | F24: 390933 | G24: 3
A25: Auburn | B25: 335450 | C25: 110 | D25: 327000 | E25: 97 | F25: 449933 | G25: 13
A26: Brentwood | B26: 390000 | C26: 67 | D26: 370000 | E26: 61 | F26: 490766 | G26: 6
A27: Candia | B27: 287700 | C27: 72 | D27: 287700 | E27: 72 | F27: 0 | G27: 0
A28: Chester | B28: 363733 | C28: 98 | D28: 361933 | E28: 93 | F28: 388533 | G28: 5
A29: Danville | B29: 302500 | C29: 6 | D29: 302500 | E29: 74 | F29: 301266 | G29: 2
A30: Deerfield | B30: 293500 | C30: 90 | D30: 287833 | E30: 82 | F30: 329466 | G30: 8
A31: Epping | B31: 268966 | C31: 110 | D31: 252250 | E31: 92 | F31: 355700 | G31: 18
A32: Fremont | B32: 265000 | C32: 75 | D32: 261500 | E32: 68 | F32: 283000 | G32: 7
A33: Hampstead | B33: 307000 | C33: 156 | D33: 306000 | E33: 154 | F33: 347500 | G33: 2
A34: Kingston | B34: 286000 | C34: 129 | D34: 284500 | E34: 126 | F34: 380000 | G34: 3
A35: Newton | B35: 287533 | C35: 89 | D35: 283000 | E35: 84 | F35: 314933 | G35: 5
... A40: Sandown | B40: 279000 | C40: 119 | D40: 268500 | E40: 108 | F40: 395066 | G40: 11
A41: CEDS Central Towns | B41: =(B24*C24+B25*C25+B26*C26+B27*C27+B28*C28+B29*C29+B30*C30+B31*C31+B32*C32+B33*C33+B34*C34+B35*C35+B36*C36+B37*C37+B38*C38+B39*C39+B40*C40)/C41 -> 294985.69 | C41: =SUM(C24:C40) -> 1790 | D41: =(D24*E24+D25*E25+D26*E26+D27*E27+D28*E28+D29*E29+D30*E30+D31*E31+D32*E32+D33*E33+D34*E34+D35*E35+D36*E36+D37*E37+D38*E38+D39*E39+D40*E40)/E41 -> 289813.63 | E41: =SUM(E24:E40) -> 1762 | F41: =(F24*G24+F25*G25+F26*G26+F27*G27+F28*G28+F29*G29+F30*G30+F31*G31+F32*G32+F33*G33+F34*G34+F35*G35+F36*G36+F37*G37+F38*G38+F39*G39+F40*G40)/G41 -> 371902.45 | G41: =SUM(G24:G40) -> 98
A42: Derry | B42: 235533 | C42: 580 | D42: 235000 | E42: 563 | F42: 329933 | G42: 17
A43: Hudson | B43: 272000 | C43: 441 | D43: 269466 | E43: 418 | F43: 379000 | G43: 23
A44: Litchfield | B44: 323333 | C44: 127 | D44: 319966 | E44: 122 | F44: 392000 | G44: 5
A45: Londonderry | B45: 287533 | C45: 457 | D45: 281100 | E45: 440 | F45: 450000 | G45: 17
A46: Merrimack | B46: 255000 | C46: 518 | D46: 254933 | E46: 511 | F46: 380000 | G46: 7
A47: Nashua | B47: 245000 | C47: 1323 | D47: 244000 | E47: 1299 | F47: 349000 | G47: 24
A48: Pelham | B48: 350933 | C48: 237 | D48: 242500 | E48: 176 | F48: 365600 | G48: 61
A49: Salem | B49: 319933 | C49: 496 | D49: 313766 | E49: 464 | F49: 422466 | G49: 31
A50: Windham | B50: 430000 | C50: 260 | D50: 425000 | E50: 247 | F50: 615000 | G50: 13
A51: CEDS Western Towns | B51: =(B42*C42+B43*C43+B44*C44+B45*C45+B46*C46+B47*C47+B48*C48+B49*C49+B50*C50)/C51 -> 279096.62 | C51: =SUM(C42:C50) -> 4439 | D51: =(D42*E42+D43*E43+D44*E44+D45*E45+D46*E46+D47*E47+D48*E48+D49*E49+D50*E50)/E51 -> 270785.57 | E51: =SUM(E42:E50) -> 4240 | F51: =(F42*G42+F43*G43+F44*G44+F45*G45+F46*G46+F47*G47+F48*G48+F49*G49+F50*G50)/G51 -> 395782.36 | G51: =SUM(G42:G50) -> 198
A52: REDC REGION | B52: =(B51*C51+B41*C41+B23*C23)/C52 -> 310052.84 | C52: =SUM(C51,C41,C23) -> 8246 | D52: =(D51*E51+D41*E41+D23*E23)/E52 -> 301779.89 | E52: =SUM(E51,E41,E23) -> 7883 | F52: =(F51*G51+F41*G41+F23*G23)/G52 -> 416414.22 | G52: =SUM(G51,G41,G23) -> 467
A53: Hillsborough County | B53: 250000 | C53: 6890 | D53: 247000 | E53: 6651 | F53: 359933 | G53: 239
A54: Rockingham County | B54: 314000 | C54: 5670 | D54: 306533 | E54: 5357 | F54: 405000 | G54: 313
A55: New Hamsphire | B55: 240000 | C55: 24029 | D55: 237933 | E55: 23243 | F55: 365000 | G55: 786

Sheet B5_NHA data 2016
A1: 2016 Data
A2: ** CEDS SUBREGION averages are weighted averages.
B5: All Homes | D5: Existing Homes | F5: New Homes
A6: Area | B6: Median Purchase Price | C6: Sample Size | D6: Median Purchase Price | E6: Sample Size | F6: Median Purchase Price | G6: Sample Size
A7: East Kingston | B7: 350000 | C7: 51 | D7: 350000 | E7: 49 | F7: 354966 | G7: 2
A8: Exeter | B8: 309000 | C8: 303 | D8: 290000 | E8: 269 | F8: 365466 | G8: 34
A9: Greenland | B9: 365000 | C9: 71 | D9: 338500 | E9: 62 | F9: 475000 | G9: 9
A10: Hampton | B10: 315066 | C10: 465 | D10: 306266 | E10: 396 | F10: 370000 | G10: 69
A11: Hampton Falls | B11: 377500 | C11: 44 | D11: 377500 | E11: 44
A12: Kensington | B12: 339966 | C12: 28 | D12: 339933 | E12: 27 | F12: 425000 | G12: 1
A13: New Castle | B13: 840000 | C13: 29 | D13: 840000 | E13: 29
A14: Newfields | B14: 370000 | C14: 37 | D14: 370000 | E14: 37
A15: Newington | B15: 659000 | C15: 11 | D15: 692100 | E15: 10 | F15: 659000 | G15: 1
A16: Newmarket | B16: 249966 | C16: 164 | D16: 245266 | E16: 158 | F16: 438266 | G16: 6
A17: North Hampton | B17: 480000 | C17: 76 | D17: 460200 | E17: 73 | F17: 820000 | G17: 3
A18: Portsmouth | B18: 375000 | C18: 410 | D18: 367533 | E18: 397 | F18: 770000 | G18: 13
A19: Rye | B19: 650000 | C19: 103 | D19: 675000 | E19: 98 | F19: 475000 | G19: 5
A20: Seabrook | B20: 339966 | C20: 102 | D20: 333100 | E20: 96 | F20: 400733 | G20: 6
A21: South Hampton | B21: 320000 | C21: 15 | D21: 320000 | E21: 15
A22: Stratham | B22: 369000 | C22: 191 | D22: 364000 | E22: 183 | F22: 442500 | G22: 8
A23: CEDS Eastern Towns | B23: =(B7*C7+B8*C8+B9*C9+B10*C10+B11*C11+B12*C12+B13*C13+B14*C14+B15*C15+B16*C16+B17*C17+B18*C18+B19*C19+B20*C20+B21*C21+B22*C22)/C23 -> 363550.33 | C23: =SUM(C7:C22) -> 2100 | D23: =(D7*E7+D8*E8+D9*E9+D10*E10+D11*E11+D12*E12+D13*E13+D14*E14+D15*E15+D16*E16+D17*E17+D18*E18+D19*E19+D20*E20+D21*E21+D22*E22)/E23 -> 358200.9 | E23: =SUM(E7:E22) -> 1943 | F23: =(F7*G7+F8*G8+F9*G9+F10*G10+F11*G11+F12*G12+F13*G13+F14*G14+F15*G15+F16*G16+F17*G17+F18*G18+F19*G19+F20*G20+F21*G21+F22*G22)/G23 -> 429578.15 | G23: =SUM(G7:G22) -> 157
A24: Atkinson | B24: 319900 | C24: 139 | D24: 311716 | E24: 134 | F24: 550000 | G24: 5
A25: Auburn | B25: 306500 | C25: 78 | D25: 280000 | E25: 69 | F25: 447933 | G25: 9
A26: Brentwood | B26: 381000 | C26: 52 | D26: 371366 | E26: 50 | F26: 482466 | G26: 2
A27: Candia | B27: 259000 | C27: 40 | D27: 259000 | E27: 40
A28: Chester | B28: 327000 | C28: 82 | D28: 320000 | E28: 71 | F28: 400000 | G28: 11
A29: Danville | B29: 272266 | C29: 76 | D29: 272266 | E29: 76
A30: Deerfield | B30: 280500 | C30: 92 | D30: 277500 | E30: 86 | F30: 299666 | G30: 6
A31: Epping | B31: 250000 | C31: 137 | D31: 243500 | E31: 126 | F31: 339933 | G31: 11
A32: Fremont | B32: 256733 | C32: 92 | D32: 250000 | E32: 83 | F32: 347933 | G32: 9
A33: Hampstead | B33: 300000 | C33: 155 | D33: 300000 | E33: 153 | F33: 419966 | G33: 2
A34: Kingston | B34: 264500 | C34: 130 | D34: 260000 | E34: 121 | F34: 339933 | G34: 9
A35: Newton | B35: 283266 | C35: 78 | D35: 282533 | E35: 71 | F35: 295333 | G35: 7
A36: Northwood | B36: 239066 | C36: 102 | D36: 235100 | E36: 98 | F36: 258966 | G36: 4
A37: Nottingham | B37: 289133 | C37: 75 | D37: 288566 | E37: 70 | F37: 299933 | G37: 5
A38: Plaistow | B38: 225000 | C38: 144 | D38: 212500 | E38: 140 | F38: 377500 | G38: 4
A39: Raymond | B39: 235000 | C39: 165 | D39: 235000 | E39: 163 | F39: 264366 | G39: 2
A40: Sandown | B40: 253160 | C40: 147 | D40: 250000 | E40: 141 | F40: 346000 | G40: 6
A41: CEDS Central Towns | B41: =(B24*C24+B25*C25+B26*C26+B27*C27+B28*C28+B29*C29+B30*C30+B31*C31+B32*C32+B33*C33+B34*C34+B35*C35+B36*C36+B37*C37+B38*C38+B39*C39+B40*C40)/C41 -> 273074.96 | C41: =SUM(C24:C40) -> 1784 | D41: =(D24*E24+D25*E25+D26*E26+D27*E27+D28*E28+D29*E29+D30*E30+D31*E31+D32*E32+D33*E33+D34*E34+D35*E35+D36*E36+D37*E37+D38*E38+D39*E39+D40*E40)/E41 -> 267547.71 | E41: =SUM(E24:E40) -> 1692 | F41: =(F24*G24+F25*G25+F26*G26+F27*G27+F28*G28+F29*G29+F30*G30+F31*G31+F32*G32+F33*G33+F34*G34+F35*G35+F36*G36+F37*G37+F38*G38+F39*G39+F40*G40)/G41 -> 363390.28 | G41: =SUM(G24:G40) -> 92
A42: Derry | B42: 230000 | C42: 563 | D42: 229966 | E42: 554 | F42: 360533 | G42: 9
A43: Hudson | B43: 266866 | C43: 417 | D43: 264716 | E43: 402 | F43: 368266 | G43: 15
A44: Litchfield | B44: 282000 | C44: 104 | D44: 277500 | E44: 102 | F44: 298766 | G44: 2
A45: Londonderry | B45: 279500 | C45: 514 | D45: 273500 | E45: 484 | F45: 451466 | G45: 30
A46: Merrimack | B46: 230000 | C46: 570 | D46: 228333 | E46: 565 | F46: 397000 | G46: 5
A47: Nashua | B47: 233000 | C47: 1252 | D47: 231733 | E47: 1231 | F47: 425000 | G47: 21
A48: Pelham | B48: 342866 | C48: 196 | D48: 332266 | E48: 154 | F48: 364800 | G48: 42
A49: Salem | B49: 280000 | C49: 506 | D49: 275000 | E49: 462 | F49: 306933 | G49: 44
A50: Windham | B50: 394500 | C50: 294 | D50: 390000 | E50: 284 | F50: 635000 | G50: 10
A51: CEDS Western Towns | B51: =(B42*C42+B43*C43+B44*C44+B45*C45+B46*C46+B47*C47+B48*C48+B49*C49+B50*C50)/C51 -> 263008.35 | C51: =SUM(C42:C50) -> 4416 | D51: =(D42*E42+D43*E43+D44*E44+D45*E45+D46*E46+D47*E47+D48*E48+D49*E49+D50*E50)/E51 -> 259024.64 | E51: =SUM(E42:E50) -> 4238 | F51: =(F42*G42+F43*G43+F44*G44+F45*G45+F46*G46+F47*G47+F48*G48+F49*G49+F50*G50)/G51 -> 387623.32 | G51: =SUM(G42:G50) -> 178
A52: REDC REGION | B52: =(B51*C51+B41*C41+B23*C23)/C52 -> 290610.4 | C52: =SUM(C51,C41,C23) -> 8300 | D52: =(D51*E51+D41*E41+D23*E23)/E52 -> 285332.34 | E52: =SUM(E51,E41,E23) -> 7873 | F52: =(F51*G51+F41*G41+F23*G23)/G52 -> 397828.17 | G52: =SUM(G51,G41,G23) -> 427
A53: Hillsborough County | B53: 235000 | C53: 6725 | D53: 232533 | E53: 6532 | F53: 355933 | G53: 193
A54: Rockingham County | B54: 294000 | C54: 5761 | D54: 286000 | E54: 5419 | F54: 380000 | G54: 342
A55: New Hamsphire | B55: 230000 | C55: 22864 | D55: 225000 | E55: 22156 | F55: 361466 | G55: 708

Sheet B5_NHA data 2015
A1: 2015 Data
A2: ** CEDS SUBREGION averages are weighted averages.
B4: All Homes | D4: Existing Homes | F4: New Homes
A5: Town/Area | B5: Median Purchase Price | C5: Sample Size | D5: Median Purchase Price | E5: Sample Size | F5: Median Purchase Price | G5: Sample Size
A6: East Kingston | B6: 257166 | C6: 42 | D6: 257166 | E6: 42 | F6: n/a | G6: 0
A7: Exeter | B7: 290000 | C7: 278 | D7: 275000 | E7: 251 | F7: 354933 | G7: 27 | H7: 1
A8: Greenland | B8: 343333 | C8: 71 | D8: 334500 | E8: 68 | F8: 529933 | G8: 3 | H8: 1
A9: Hampton | B9: 287000 | C9: 445 | D9: 287766 | E9: 396 | F9: 279933 | G9: 49 | H9: 1
A10: Hampton Falls | B10: 414500 | C10: 16 | D10: 414500 | E10: 16 | F10: n/a | G10: 0
A11: Kensington | B11: 357000 | C11: 25 | D11: 357000 | E11: 25 | F11: n/a | G11: 0
A12: New Castle | B12: 1175000 | C12: 23 | D12: 1175000 | E12: 23 | F12: n/a | G12: 0
A13: Newfields | B13: 358866 | C13: 25 | D13: 358866 | E13: 25 | F13: n/a | G13: 0
A14: Newington | B14: 707000 | C14: 8 | D14: 707000 | E14: 8 | F14: n/a | G14: 0
A15: Newmarket | B15: 227533 | C15: 157 | D15: 226000 | E15: 155 | F15: 444933 | G15: 2 | H15: 1
A16: North Hampton | B16: 437500 | C16: 68 | D16: 422000 | E16: 65 | F16: 692533 | G16: 3 | H16: 1
A17: Portsmouth | B17: 340000 | C17: 399 | D17: 340000 | E17: 397 | F17: 536366 | G17: 2 | H17: 1
A18: Rye | B18: 575000 | C18: 109 | D18: 573333 | E18: 103 | F18: 602466 | G18: 6 | H18: 1
A19: Seabrook | B19: 345000 | C19: 99 | D19: 325500 | E19: 94 | F19: 418600 | G19: 5 | H19: 1
A20: South Hampton | B20: 330266 | C20: 10 | D20: 330266 | E20: 10 | F20: n/a | G20: 0
A21: Stratham | B21: 361000 | C21: 157 | D21: 361000 | E21: 153 | F21: 452766 | G21: 4 | H21: 1
A22: CEDS Eastern Towns | B22: =(B6*C6+B7*C7+B8*C8+B9*C9+B10*C10+B11*C11+B12*C12+B13*C13+B14*C14+B15*C15+B16*C16+B17*C17+B18*C18+B19*C19+B20*C20+B21*C21)/C22 -> 340923.71 | C22: =SUM(C6:C21) -> 1932 | D22: =(D6*E6+D7*E7+D8*E8+D9*E9+D10*E10+D11*E11+D12*E12+D13*E13+D14*E14+D15*E15+D16*E16+D17*E17+D18*E18+D19*E19+D20*E20+D21*E21)/E22 -> 338264.84 | E22: =SUM(E6:E21) -> 1831 | F22: =(F7*G7+F8*G8+F9*G9+F15*G15+F16*G16+F17*G17+F18*G18+F19*G19+F21*G21)/G22 -> 360878.85 | G22: =SUM(G6:G21) -> 101
A23: Atkinson | B23: 292833 | C23: 134 | D23: 292833 | E23: 134 | F23: n/a | G23: 0 | H23: 1
A24: Auburn | B24: 300000 | C24: 86 | D24: 286666 | E24: 79 | F24: 445000 | G24: 7 | H24: 1
A25: Brentwood | B25: 388300 | C25: 54 | D25: 399000 | E25: 49 | F25: 275000 | G25: 5 | H25: 1
A26: Candia | B26: 242000 | C26: 47 | D26: 242000 | E26: 47 | F26: n/a | G26: 0
A27: Chester | B27: 315000 | C27: 77 | D27: 315000 | E27: 68 | F27: 366000 | G27: 9 | H27: 1
A28: Danville | B28: 258000 | C28: 55 | D28: 258000 | E28: 55 | F28: n/a | G28: 0 | H28: 1
A29: Deerfield | B29: 269233 | C29: 84 | D29: 266000 | E29: 79 | F29: 269933 | G29: 5 | H29: 1
A30: Epping | B30: 245000 | C30: 125 | D30: 240500 | E30: 114 | F30: 287400 | G30: 11 | H30: 1
A31: Fremont | B31: 234000 | C31: 77 | D31: 233500 | E31: 72 | F31: 235100 | G31: 5 | H31: 1
A32: Hampstead | B32: 307000 | C32: 152 | D32: 307000 | E32: 151 | F32: 327400 | G32: 1 | H32: 1
A33: Kingston | B33: 241000 | C33: 86 | D33: 239966 | E33: 84 | F33: 303766 | G33: 2 | H33: 1
A34: Newton | B34: 262866 | C34: 76 | D34: 260800 | E34: 75 | F34: 297000 | G34: 1 | H34: 1
A35: Northwood | B35: 231333 | C35: 65 | D35: 225000 | E35: 63 | F35: 257733 | G35: 2 | H35: 1
A36: Nottingham | B36: 270000 | C36: 79 | D36: 269966 | E36: 78 | F36: 279933 | G36: 1 | H36: 1
A37: Plaistow | B37: 205000 | C37: 133 | D37: 199933 | E37: 131 | F37: 327433 | G37: 2 | H37: 1
A38: Raymond | B38: 208000 | C38: 174 | D38: 208000 | E38: 171 | F38: 258000 | G38: 3 | H38: 1
A39: Sandown | B39: 257000 | C39: 117 | D39: 254000 | E39: 111 | F39: 300000 | G39: 6 | H39: 1
A40: CEDS Central Towns | B40: =(B23*C23+B24*C24+B25*C25+B26*C26+B27*C27+B28*C28+B29*C29+B30*C30+B31*C31+B32*C32+B33*C33+B34*C34+B35*C35+B36*C36+B37*C37+B38*C38+B39*C39)/C40 -> 261780.29 | C40: =SUM(C23:C39) -> 1621 | D40: =(D23*E23+D24*E24+D25*E25+D26*E26+D27*E27+D28*E28+D29*E29+D30*E30+D31*E31+D32*E32+D33*E33+D34*E34+D35*E35+D36*E36+D37*E37+D38*E38+D39*E39)/E40 -> 259400.35 | E40: =SUM(E23:E39) -> 1561 | F40: =(F24*G24+F25*G25+F27*G27+F29*G29+F30*G30+F31*G31+F32*G32+F33*G33+F34*G34+F35*G35+F36*G36+F37*G37+F38*G38+F39*G39)/G40 -> 312112.7 | G40: =SUM(G23:G39) -> 60
A41: Derry | B41: 220000 | C41: 531 | D41: 219933 | E41: 524 | F41: 239933 | G41: 7 | H41: 1
A42: Hudson | B42: 258166 | C42: 352 | D42: 252000 | E42: 327 | F42: 351933 | G42: 25 | H42: 1
A43: Litchfield | B43: 275000 | C43: 102 | D43: 274500 | E43: 100 | F43: 383750 | G43: 2 | H43: 1
A44: Londonderry | B44: 285800 | C44: 437 | D44: 279550 | E44: 406 | F44: 401800 | G44: 31 | H44: 1
A45: Merrimack | B45: 225000 | C45: 499 | D45: 225000 | E45: 496 | F45: 390000 | G45: 3 | H45: 1
A46: Nashua | B46: 221000 | C46: 1159 | D46: 221000 | E46: 1151 | F46: 338500 | G46: 8 | H46: 1
A47: Pelham | B47: 320000 | C47: 189 | D47: 309466 | E47: 170 | F47: 484933 | G47: 19 | H47: 1
A48: Salem | B48: 270500 | C48: 478 | D48: 269933 | E48: 449 | F48: 304400 | G48: 29 | H48: 1
A49: Windham | B49: 357266 | C49: 282 | D49: 359000 | E49: 279 | F49: 226000 | G49: 3 | H49: 1
A50: CEDS Western Towns | B50: =(B41*C41+B42*C42+B43*C43+B44*C44+B45*C45+B46*C46+B47*C47+B48*C48+B49*C49)/C50 -> 253060.57 | C50: =SUM(C41:C49) -> 4029 | D50: =(D41*E41+D42*E42+D43*E43+D44*E44+D45*E45+D46*E46+D47*E47+D48*E48+D49*E49)/E50 -> 250778.4 | E50: =SUM(E41:E49) -> 3902 | F50: =(F41*G41+F42*G42+F43*G43+F44*G44+F45*G45+F46*G46+F47*G47+F48*G48+F49*G49)/G50 -> 364554.98 | G50: =SUM(G41:G49) -> 127
A51: REDC REGION | B51: =(B50*C50+B40*C40+B22*C22)/C51 -> 277313.57 | C51: =SUM(C50,C40,C22) -> 7582 | D51: =(D50*E50+D40*E40+D22*E22)/E51 -> 274585.17 | E51: =SUM(E50,E40,E22) -> 7294 | F51: =(F50*G50+F40*G40+F22*G22)/G51 -> 352340.31 | G51: =SUM(G50,G40,G22) -> 288
A52: Hillsborough County | B52: 225000 | C52: 5828 | D52: 224000 | E52: 5693 | F52: 353866 | G52: 135
A53: Rockingham County | B53: 275000 | C53: 5281 | D53: 272000 | E53: 5050 | F53: 347800 | G53: 231
A54: New Hamsphire | B54: 221000 | C54: 20297 | D54: 219933 | E54: 19811 | F54: 337200 | G54: 486

Sheet B5_NHA data 2014
A1: 2014 Data
A2: ** CEDS SUBREGION averages are weighted averages.
B4: All Homes | D4: Existing Homes | F4: New Homes
A5: Town/Area | B5: Median Purchase Price | C5: Sample Size | D5: Median Purchase Price | E5: Sample Size | F5: Median Purchase Price | G5: Sample Size
A6: East Kingston | B6: 335000 | C6: 10 | D6: 239533 | E6: 7 | F6: 384933 | G6: 3
A7: Exeter | B7: 253000 | C7: 171 | D7: 245000 | E7: 157 | F7: 344533 | G7: 14
A8: Greenland | B8: 386000 | C8: 44 | D8: 350000 | E8: 32 | F8: 423500 | G8: 12
A9: Hampton | B9: 287466 | C9: 218 | D9: 280500 | E9: 196 | F9: 469916 | G9: 22
A10: Hampton Falls | B10: 385000 | C10: 27 | D10: 385000 | E10: 27 | F10: n/a | G10: n/a
A11: Kensington | B11: 290000 | C11: 9 | D11: 297500 | E11: 8 | F11: 250000 | G11: 1
A12: New Castle | B12: 720000 | C12: 3 | D12: 720000 | E12: 3 | F12: n/a | G12: n/a
A13: Newfields | B13: 342666 | C13: 14 | D13: 350533 | E13: 13 | F13: 335000 | G13: 1
A14: Newington | B14: 645000 | C14: 3 | D14: 645000 | E14: 3 | F14: n/a | G14: n/a
A15: Newmarket | B15: 250000 | C15: 92 | D15: 349933 | E15: 88 | F15: 390166 | G15: 4
A16: North Hampton | B16: 405000 | C16: 22 | D16: 375000 | E16: 21 | F16: 815000 | G16: 1
A17: Portsmouth | B17: 340000 | C17: 262 | D17: 330000 | E17: 246 | F17: 422500 | G17: 16
A18: Rye | B18: 575000 | C18: 57 | D18: 577500 | E18: 56 | F18: 500000 | G18: 1
A19: Seabrook | B19: 302500 | C19: 38 | D19: 270000 | E19: 33 | F19: 570000 | G19: 5
A20: South Hampton | B20: 477000 | C20: 3 | D20: 477000 | E20: 3 | F20: n/a | G20: n/a
A21: Stratham | B21: 335000 | C21: 122 | D21: 322533 | E21: 109 | F21: 537400 | G21: 13
A22: CEDS Eastern Towns | B22: =(B6*C6+B7*C7+B8*C8+B9*C9+B10*C10+B11*C11+B12*C12+B13*C13+B14*C14+B15*C15+B16*C16+B17*C17+B18*C18+B19*C19+B20*C20+B21*C21)/C22 -> 324861.11 | C22: =SUM(C6:C21) -> 1095 | D22: =(D6*E6+D7*E7+D8*E8+D9*E9+D10*E10+D11*E11+D12*E12+D13*E13+D14*E14+D15*E15+D16*E16+D17*E17+D18*E18+D19*E19+D20*E20+D21*E21)/E22 -> 324783.29 | E22: =SUM(E6:E21) -> 1002 | F22: =(F6*G6+F7*G7+F8*G8+F9*G9+F11*G11+F13*G13+F15*G15+F16*G16+F17*G17+F18*G18+F19*G19+F21*G21)/G22 -> 445755.67 | G22: =SUM(G6:G21) -> 93
A23: Atkinson | B23: 289933 | C23: 47 | D23: 287466 | E23: 46 | F23: 615000 | G23: 1
A24: Auburn | B24: 349933 | C24: 61 | D24: 291966 | E24: 44 | F24: 480133 | G24: 17
A25: Brentwood | B25: 315000 | C25: 33 | D25: 293500 | E25: 26 | F25: 466000 | G25: 7
A26: Candia | B26: 231966 | C26: 32 | D26: 231966 | E26: 32 | F26: n/a | G26: n/a
A27: Chester | B27: 253450 | C27: 50 | D27: 241966 | E27: 44 | F27: 351466 | G27: 6
A28: Danville | B28: 213750 | C28: 24 | D28: 222500 | E28: 21 | F28: 192000 | G28: 3
A29: Deerfield | B29: 227533 | C29: 45 | D29: 228466 | E29: 42 | F29: 227533 | G29: 3
A30: Epping | B30: 259933 | C30: 91 | D30: 229500 | E30: 58 | F30: 291000 | G30: 33
A31: Fremont | B31: 234266 | C31: 44 | D31: 250533 | E31: 31 | F31: 220400 | G31: 13
A32: Hampstead | B32: 299933 | C32: 73 | D32: 229933 | E32: 71 | F32: 300966 | G32: 2
A33: Kingston | B33: 235533 | C33: 47 | D33: 235533 | E33: 44 | F33: 269900 | G33: 3
A34: Newton | B34: 250000 | C34: 39 | D34: 247600 | E34: 31 | F34: 276234 | G34: 8
A35: Northwood | B35: 193933 | C35: 43 | D35: 193933 | E35: 43 | F35: n/a | G35: n/a
A36: Nottingham | B36: 260000 | C36: 53 | D36: 260000 | E36: 46 | F36: 300000 | G36: 7
A37: Plaistow | B37: 196000 | C37: 53 | D37: 194533 | E37: 49 | F37: 354933 | G37: 4
A38: Raymond | B38: 211933 | C38: 106 | D38: 207500 | E38: 94 | F38: 222466 | G38: 12
A39: Sandown | B39: 249466 | C39: 54 | D39: 230000 | E39: 43 | F39: 330000 | G39: 11
A40: CEDS Central Towns | B40: =(B23*C23+B24*C24+B25*C25+B26*C26+B27*C27+B28*C28+B29*C29+B30*C30+B31*C31+B32*C32+B33*C33+B34*C34+B35*C35+B36*C36+B37*C37+B38*C38+B39*C39)/C40 -> 252460.46 | C40: =SUM(C23:C39) -> 895 | D40: =(D23*E23+D24*E24+D25*E25+D26*E26+D27*E27+D28*E28+D29*E29+D30*E30+D31*E31+D32*E32+D33*E33+D34*E34+D35*E35+D36*E36+D37*E37+D38*E38+D39*E39)/E40 -> 236217.62 | E40: =SUM(E23:E39) -> 765 | F40: =(F23*G23+F24*G24+F25*G25+F27*G27+F28*G28+F29*G29+F30*G30+F31*G31+F32*G32+F33*G33+F34*G34+F36*G36+F37*G37+F38*G38+F39*G39)/G40 -> 317812.95 | G40: =SUM(G23:G39) -> 130
A41: Derry | B41: 191000 | C41: 247 | D41: 189300 | E41: 226 | F41: 268800 | G41: 21
A42: Hudson | B42: 250000 | C42: 201 | D42: 241433 | E42: 176 | F42: 326400 | G42: 25
A43: Litchfield | B43: 259900 | C43: 69 | D43: 245000 | E43: 55 | F43: 302500 | G43: 14
A44: Londonderry | B44: 276500 | C44: 246 | D44: 258533 | E44: 213 | F44: 397600 | G44: 33
A45: Merrimack | B45: 212766 | C45: 268 | D45: 212533 | E45: 257 | F45: 218933 | G45: 11
A46: Nashua | B46: 215000 | C46: 711 | D46: 212000 | E46: 669 | F46: 291933 | G46: 42
A47: Pelham | B47: 308133 | C47: 81 | D47: 295666 | E47: 68 | F47: 415800 | G47: 13
A48: Salem | B48: 269933 | C48: 169 | D48: 262933 | E48: 159 | F48: 466266 | G48: 10
A49: Windham | B49: 362466 | C49: 128 | D49: 357133 | E49: 108 | F49: 545933 | G49: 20
A50: CEDS Western Towns | B50: =(B41*C41+B42*C42+B43*C43+B44*C44+B45*C45+B46*C46+B47*C47+B48*C48+B49*C49)/C50 -> 240678.53 | C50: =SUM(C41:C49) -> 2120 | D50: =(D41*E41+D42*E42+D43*E43+D44*E44+D45*E45+D46*E46+D47*E47+D48*E48+D49*E49)/E50 -> 233426.99 | E50: =SUM(E41:E49) -> 1931 | F50: =(F41*G41+F42*G42+F43*G43+F44*G44+F45*G45+F46*G46+F47*G47+F48*G48+F49*G49)/G50 -> 353527.88 | G50: =SUM(G41:G49) -> 189
A51: REDC REGION | B51: =(B50*C50+B40*C40+B22*C22)/C51 -> 265672.39 | C51: =SUM(C50,C40,C22) -> 4110 | D51: =(D50*E50+D40*E40+D22*E22)/E51 -> 258757.94 | E51: =SUM(E50,E40,E22) -> 3698 | F51: =(F50*G50+F40*G40+F22*G22)/G51 -> 363077.01 | G51: =SUM(G50,G40,G22) -> 412
A52: Hillsborough County | B52: 216766 | C52: 3368 | D52: 211000 | E52: 3171 | F52: 311333 | G52: 197
A53: Rockingham County | B53: 268000 | C53: 2780 | D53: 255000 | E53: 2473 | F53: 358600 | G53: 307
A54: New Hamsphire | B54: 219000 | C54: 10444 | D54: 213533 | E54: 9748 | F54: 315000 | G54: 696

Sheet B5_NHA data 2013
A1: 2013 Data
A2: ** CEDS SUBREGION averages are weighted averages. | I2: UPDATED 2013 INFO ON MARCH 31, 2015
B4: All Homes | D4: Existing Homes | F4: New Homes | I4: All Homes | K4: Existing Homes | M4: New Homes
A5: Town/Area | B5: Median Purchase Price | C5: Sample Size | D5: Median Purchase Price | E5: Sample Size | F5: Median Purchase Price | G5: Sample Size | I5: Median Purchase Price | J5: Sample Size | K5: Median Purchase Price | L5: Sample Size | M5: Median Purchase Price | N5: Sample Size
A6: East Kingston | B6: 305000 | C6: 34 | D6: 297533 | E6: 30 | F6: 382175 | G6: 4 | I6: 305000 | J6: 36 | K6: 297533 | L6: 32 | M6: 382175 | N6: 4
A7: Exeter | B7: 265000 | C7: 189 | D7: 255900 | E7: 170 | F7: 335000 | G7: 19 | I7: 265000 | J7: 190 | K7: 255933 | L7: 170 | M7: 334850 | N7: 20
A8: Greenland | B8: 375000 | C8: 61 | D8: 368000 | E8: 44 | F8: 396400 | G8: 17 | I8: 375000 | J8: 61 | K8: 368000 | L8: 44 | M8: 396400 | N8: 17
A9: Hampton | B9: 299900 | C9: 176 | D9: 297600 | E9: 167 | F9: 399900 | G9: 9 | I9: 299000 | J9: 179 | K9: 295000 | L9: 170 | M9: 399900 | N9: 9
A10: Hampton Falls | B10: 385000 | C10: 38 | D10: 385000 | E10: 37 | F10: 410000 | G10: 1 | I10: 385000 | J10: 38 | K10: 385000 | L10: 37 | M10: 410000 | N10: 1
A11: Kensington | B11: 345000 | C11: 27 | D11: 310000 | E11: 24 | F11: 440000 | G11: 3 | I11: 345000 | J11: 29 | K11: 310000 | L11: 26 | M11: 440000 | N11: 3
A12: New Castle | B12: 990000 | C12: 14 | D12: 990000 | E12: 12 | F12: 915000 | G12: 2 | I12: 990000 | J12: 14 | K12: 990000 | L12: 12 | M12: 915000 | N12: 2
A13: Newfields | B13: 398500 | C13: 16 | D13: 398500 | E13: 16 | F13: 0 | G13: 0 | I13: 398500 | J13: 16 | K13: 398500 | L13: 16 | M13: 0 | N13: 0
A14: Newington | B14: 460350 | C14: 8 | D14: 460350 | E14: 8 | F14: 0 | G14: 0 | I14: 460350 | J14: 8 | K14: 460350 | L14: 8 | M14: 0 | N14: 0
A15: Newmarket | B15: 232000 | C15: 108 | D15: 230000 | E15: 104 | F15: 242533 | G15: 4 | I15: 233000 | J15: 109 | K15: 232000 | L15: 105 | M15: 242533 | N15: 4
A16: North Hampton | B16: 420000 | C16: 50 | D16: 420000 | E16: 47 | F16: 380000 | G16: 3 | I16: 420000 | J16: 50 | K16: 420000 | L16: 47 | M16: 380000 | N16: 3
A17: Portsmouth | B17: 355000 | C17: 277 | D17: 339000 | E17: 247 | F17: 449900 | G17: 30 | I17: 355000 | J17: 282 | K17: 339000 | L17: 252 | M17: 449900 | N17: 30
... A21: Stratham | B21: 346000 | C21: 125 | D21: 344000 | E21: 116 | F21: 465000 | G21: 9 | I21: 347000 | J21: 127 | K21: 345000 | L21: 118 | M21: 465000 | N21: 9
A22: CEDS Eastern Towns | B22: =(B6*C6+B7*C7+B8*C8+B9*C9+B10*C10+B11*C11+B12*C12+B13*C13+B14*C14+B15*C15+B16*C16+B17*C17+B18*C18+B19*C19+B20*C20+B21*C21)/C22 -> 343245.34 | C22: =SUM(C6:C21) -> 1244 | D22: =(D6*E6+D7*E7+D8*E8+D9*E9+D10*E10+D11*E11+D12*E12+D13*E13+D14*E14+D15*E15+D16*E16+D17*E17+D18*E18+D19*E19+D20*E20+D21*E21)/E22 -> 336052.69 | E22: =SUM(E6:E21) -> 1129 | F22: =(F6*G6+F7*G7+F8*G8+F9*G9+F10*G10+F11*G11+F12*G12+F13*G13+F14*G14+F15*G15+F16*G16+F17*G17+F18*G18+F19*G19+F20*G20+F21*G21)/G22 -> 418855.93 | G22: =SUM(G6:G21) -> 115 | I22: =(I6*J6+I7*J7+I8*J8+I9*J9+I10*J10+I11*J11+I12*J12+I13*J13+I14*J14+I15*J15+I16*J16+I17*J17+I18*J18+I19*J19+I20*J20+I21*J21)/J22 -> 342927.21 | J22: =SUM(J6:J21) -> 1264 | K22: =(K6*L6+K7*L7+K8*L8+K9*L9+K10*L10+K11*L11+K12*L12+K13*L13+K14*L14+K15*L15+K16*L16+K17*L17+K18*L18+K19*L19+K20*L20+K21*L21)/L22 -> 334227.02 | L22: =SUM(L6:L21) -> 1146 | M22: =(M6*N6+M7*N7+M8*N8+M9*N9+M10*N10+M11*N11+M12*N12+M13*N13+M14*N14+M15*N15+M16*N16+M17*N17+M18*N18+M19*N19+M20*N20+M21*N21)/N22 -> 388490.74 | N22: =SUM(N6:N21) -> 118
A23: Atkinson | B23: 261533 | C23: 79 | D23: 261533 | E23: 76 | F23: 240000 | G23: 3 | I23: 261533 | J23: 81 | K23: 261533 | L23: 78 | M23: 240000 | N23: 3
A24: Auburn | B24: 340000 | C24: 79 | D24: 275000 | E24: 54 | F24: 385000 | G24: 25 | I24: 340000 | J24: 80 | K24: 276500 | L24: 55 | M24: 385000 | N24: 25
A25: Brentwood | B25: 306829 | C25: 61 | D25: 325000 | E25: 46 | F25: 249900 | G25: 15 | I25: 306829 | J25: 61 | K25: 325000 | L25: 46 | M25: 249900 | N25: 15
A26: Candia | B26: 225000 | C26: 38 | D26: 225000 | E26: 38 | F26: 0 | G26: 0 | I26: 225000 | J26: 38 | K26: 225000 | L26: 38 | M26: 0 | N26: 0
A27: Chester | B27: 305000 | C27: 62 | D27: 274900 | E27: 53 | F27: 363000 | G27: 9 | I27: 305000 | J27: 63 | K27: 267000 | L27: 54 | M27: 363000 | N27: 9
A28: Danville | B28: 234900 | C28: 49 | D28: 230000 | E28: 42 | F28: 255000 | G28: 7 | I28: 234900 | J28: 51 | K28: 231000 | L28: 44 | M28: 255000 | N28: 7
A29: Deerfield | B29: 234900 | C29: 57 | D29: 232500 | E29: 51 | F29: 234900 | G29: 6 | I29: 232500 | J29: 57 | K29: 229000 | L29: 51 | M29: 234900 | N29: 6
A30: Epping | B30: 263000 | C30: 119 | D30: 230000 | E30: 82 | F30: 279900 | G30: 37 | I30: 260000 | J30: 120 | K30: 230000 | L30: 83 | M30: 279900 | N30: 37
A31: Fremont | B31: 230000 | C31: 88 | D31: 230000 | E31: 65 | F31: 245000 | G31: 23 | I31: 230000 | J31: 90 | K31: 230000 | L31: 67 | M31: 245000 | N31: 23
A32: Hampstead | B32: 259300 | C32: 93 | D32: 255000 | E32: 88 | F32: 288000 | G32: 5 | I32: 259300 | J32: 93 | K32: 255000 | L32: 88 | M32: 288000 | N32: 5
A33: Kingston | B33: 230000 | C33: 59 | D33: 212500 | E33: 52 | F33: 299719 | G33: 7 | I33: 221000 | J33: 61 | K33: 212500 | L33: 53 | M33: 281000 | N33: 8
A34: Newton | B34: 253000 | C34: 64 | D34: 245000 | E34: 44 | F34: 264710 | G34: 20 | I34: 253000 | J34: 64 | K34: 245000 | L34: 44 | M34: 264710 | N34: 20
... A39: Sandown | B39: 235000 | C39: 80 | D39: 229900 | E39: 69 | F39: 287500 | G39: 11 | I39: 235000 | J39: 82 | K39: 227900 | L39: 70 | M39: 287500 | N39: 12
A40: CEDS Central Towns | B40: =(B23*C23+B24*C24+B25*C25+B26*C26+B27*C27+B28*C28+B29*C29+B30*C30+B31*C31+B32*C32+B33*C33+B34*C34+B35*C35+B36*C36+B37*C37+B38*C38+B39*C39)/C40 -> 245238.5 | C40: =SUM(C23:C39) -> 1220 | D40: =(D23*E23+D24*E24+D25*E25+D26*E26+D27*E27+D28*E28+D29*E29+D30*E30+D31*E31+D32*E32+D33*E33+D34*E34+D35*E35+D36*E36+D37*E37+D38*E38+D39*E39)/E40 -> 232410.63 | E40: =SUM(E23:E39) -> 1026 | F40: =(F23*G23+F24*G24+F25*G25+F26*G26+F27*G27+F28*G28+F29*G29+F30*G30+F31*G31+F32*G32+F33*G33+F34*G34+F35*G35+F36*G36+F37*G37+F38*G38+F39*G39)/G40 -> 281334.13 | G40: =SUM(G23:G39) -> 192 | I40: =(I23*J23+I24*J24+I25*J25+I26*J26+I27*J27+I28*J28+I29*J29+I30*J30+I31*J31+I32*J32+I33*J33+I34*J34+I35*J35+I36*J36+I37*J37+I38*J38+I39*J39)/J40 -> 244325.28 | J40: =SUM(J23:J39) -> 1236 | K40: =(K23*L23+K24*L24+K25*L25+K26*L26+K27*L27+K28*L28+K29*L29+K30*L30+K31*L31+K32*L32+K33*L33+K34*L34+K35*L35+K36*L36+K37*L37+K38*L38+K39*L39)/L40 -> 231976.06 | L40: =SUM(L23:L39) -> 1041 | M40: =(M23*N23+M24*N24+M25*N25+M26*N26+M27*N27+M28*N28+M29*N29+M30*N30+M31*N31+M32*N32+M33*N33+M34*N34+M35*N35+M36*N36+M37*N37+M38*N38+M39*N39)/N40 -> 281208.31 | N40: =SUM(N23:N39) -> 195
A41: Derry | B41: 200000 | C41: 304 | D41: 199900 | E41: 274 | F41: 230000 | G41: 30 | I41: 200500 | J41: 310 | K41: 200000 | L41: 278 | M41: 210000 | N41: 32
A42: Hudson | B42: 247000 | C42: 287 | D42: 235000 | E42: 242 | F42: 315000 | G42: 45 | I42: 250000 | J42: 293 | K42: 235000 | L42: 246 | M42: 315000 | N42: 47
A43: Litchfield | B43: 255000 | C43: 83 | D43: 252200 | E43: 67 | F43: 265400 | G43: 16 | I43: 255400 | J43: 85 | K43: 254000 | L43: 69 | M43: 265400 | N43: 16
A44: Londonderry | B44: 260500 | C44: 278 | D44: 247500 | E44: 238 | F44: 358775 | G44: 40 | I44: 260000 | J44: 283 | K44: 247000 | L44: 243 | M44: 358775 | N44: 40
A45: Merrimack | B45: 217500 | C45: 341 | D45: 214000 | E45: 327 | F45: 319900 | G45: 14 | I45: 217500 | J45: 247 | K45: 214000 | L45: 333 | M45: 319900 | N45: 14
A46: Nashua | B46: 224900 | C46: 748 | D46: 128921 | E46: 687 | F46: 326900 | G46: 61 | I46: 225000 | J46: 756 | K46: 219000 | L46: 694 | M46: 326900 | N46: 62
A47: Pelham | B47: 305560 | C47: 124 | D47: 290000 | E47: 96 | F47: 359900 | G47: 28 | I47: 306000 | J47: 130 | K47: 280000 | L47: 11 | M47: 364900 | N47: 29
A48: Salem | B48: 255000 | C48: 253 | D48: 250000 | E48: 222 | F48: 325500 | G48: 31 | I48: 255000 | J48: 263 | K48: 250000 | L48: 235 | M48: 339933 | N48: 28
A49: Windham | B49: 366900 | C49: 208 | D49: 350000 | E49: 171 | F49: 477000 | G49: 37 | I49: 366900 | J49: 210 | K49: 350000 | L49: 172 | M49: 470000 | N49: 28
A50: CEDS Western Towns | B50: =(B41*C41+B42*C42+B43*C43+B44*C44+B45*C45+B46*C46+B47*C47+B48*C48+B49*C49)/C50 -> 246148.26 | C50: =SUM(C41:C49) -> 2626 | D50: =(D41*E41+D42*E42+D43*E43+D44*E44+D45*E45+D46*E46+D47*E47+D48*E48+D49*E49)/E50 -> 210491.28 | E50: =SUM(E41:E49) -> 2324 | F50: =(F41*G41+F42*G42+F43*G43+F44*G44+F45*G45+F46*G46+F47*G47+F48*G48+F49*G49)/G50 -> 337445.7 | G50: =SUM(G41:G49) -> 302 | I50: =(I41*J41+I42*J42+I43*J43+I44*J44+I45*J45+I46*J46+I47*J47+I48*J48+I49*J49)/J50 -> 247733.99 | J50: =SUM(J41:J49) -> 2577 | K50: =(K41*L41+K42*L42+K43*L43+K44*L44+K45*L45+K46*L46+K47*L47+K48*L48+K49*L49)/L50 -> 235087.68 | L50: =SUM(L41:L49) -> 2281 | M50: =(M41*N41+M42*N42+M43*N43+M44*N44+M45*N45+M46*N46+M47*N47+M48*N48+M49*N49)/N50 -> 331516.97 | N50: =SUM(N41:N49) -> 296
A51: REDC REGION | B51: =(B50*C50+B40*C40+B22*C22)/C51 -> 269660.81 | C51: =SUM(C50,C40,C22) -> 5090 | D51: =(D50*E50+D40*E40+D22*E22)/E51 -> 247161.98 | E51: =SUM(E50,E40,E22) -> 4479 | F51: =(F50*G50+F40*G40+F22*G22)/G51 -> 335128.38 | G51: =SUM(G50,G40,G22) -> 609 | I51: =(I50*J50+I40*J40+I22*J22)/J51 -> 270604.01 | J51: =SUM(J50,J40,J22) -> 5077 | K51: =(K50*L50+K40*L40+K22*L22)/L51 -> 259791.01 | L51: =SUM(L50,L40,L22) -> 4468 | M51: =(M50*N50+M40*N40+M22*N22)/N51 -> 326447.54 | N51: =SUM(N50,N40,N22) -> 609
A52: Hillsborough County | B52: 225000 | C52: 3997 | D52: 220000 | E52: 367300 | F52: 307918 | G52: 324 | I52: 225000 | J52: 4043 | K52: 220000 | L52: 3712 | M52: 307000 | N52: 331
A53: Rockingham County | B53: 269653 | C53: 3507 | D53: 230000 | E53: 3062 | F53: 320000 | G53: 445 | I53: 269000 | J53: 3566 | K53: 260000 | L53: 3115 | M53: 320000 | N53: 451
A54: New Hamsphire | B54: 220000 | C54: 13055 | D54: 214000 | E54: 12008 | F54: 299719 | G54: 1047 | I54: 220000 | J54: 13254 | K54: 215000 | L54: 12173 | M54: 298900 | N54: 1081

Sheet B5_NHA data 2012
A1: 2012 Data | B1: SAMPLE SIZE 0
A2: ** CEDS SUBREGION averages are weighted averages.
B4: All Homes | D4: Existing Homes | F4: New Homes
A5: Town/Area | B5: Median Purchase Price | C5: Sample Size | D5: Median Purchase Price | E5: Sample Size | F5: Median Purchase Price | G5: Sample Size
A6: East Kingston | B6: 275000 | C6: 31 | D6: 239000 | E6: 28 | F6: 279000 | G6: 3
A7: Exeter | B7: 252000 | C7: 191 | D7: 242000 | E7: 152 | F7: 286650 | G7: 39
A8: Greenland | B8: 360000 | C8: 48 | D8: 349000 | E8: 32 | F8: 407000 | G8: 16
A9: Hampton | B9: 284000 | C9: 202 | D9: 275000 | E9: 190 | F9: 358365 | G9: 12
A10: Hampton Falls | B10: 385000 | C10: 29 | D10: 348500 | E10: 26 | F10: 399900 | G10: 3
A11: Kensington | B11: 375000 | C11: 16 | D11: 375000 | E11: 16 | F11: 0 | G11: 0
A12: New Castle | B12: 972500 | C12: 21 | D12: 972500 | E12: 20 | F12: 700000 | G12: 1
A13: Newfields | B13: 395000 | C13: 19 | D13: 395000 | E13: 19 | F13: 0 | G13: 0
A14: Newington | B14: 530000 | C14: 3 | D14: 530000 | E14: 3 | F14: 0 | G14: 0
A15: Newmarket | B15: 239900 | C15: 86 | D15: 235000 | E15: 81 | F15: 256000 | G15: 5
A16: North Hampton | B16: 405000 | C16: 44 | D16: 390000 | E16: 38 | F16: 449000 | G16: 6
A17: Portsmouth | B17: 340000 | C17: 255 | D17: 320550 | E17: 225 | F17: 395660 | G17: 30
... A21: Stratham | B21: 322000 | C21: 118 | D21: 320000 | E21: 106 | F21: 343478 | G21: 12
A22: CEDS Eastern Towns | B22: =(B6*C6+B7*C7+B8*C8+B9*C9+B10*C10+B11*C11+B12*C12+B13*C13+B14*C14+B15*C15+B16*C16+B17*C17+B18*C18+B19*C19+B20*C20+B21*C21)/C22 -> 328957.02 | C22: =SUM(C6:C21) -> 1189 | D22: =(D6*E6+D7*E7+D8*E8+D9*E9+D10*E10+D11*E11+D12*E12+D13*E13+D14*E14+D15*E15+D16*E16+D17*E17+D18*E18+D19*E19+D20*E20+D21*E21)/E22 -> 319317.99 | E22: =SUM(E6:E21) -> 1048 | F22: =(F6*G6+F7*G7+F8*G8+F9*G9+F10*G10+F12*G12+F15*G15+F16*G16+F17*G17+F18*G18+F19*G19+F21*G21)/G22 -> 361107.81 | G22: =SUM(G6:G21) -> 141
A23: Atkinson | B23: 260000 | C23: 58 | D23: 260000 | E23: 54 | F23: 229900 | G23: 4
A24: Auburn | B24: 347750 | C24: 59 | D24: 300000 | E24: 39 | F24: 393990 | G24: 20
A25: Brentwood | B25: 325000 | C25: 68 | D25: 333000 | E25: 41 | F25: 299759 | G25: 27
A26: Candia | B26: 212500 | C26: 35 | D26: 212500 | E26: 34 | F26: 159900 | G26: 1
A27: Chester | B27: 267000 | C27: 63 | D27: 260000 | E27: 50 | F27: 349900 | G27: 13
A28: Danville | B28: 190000 | C28: 27 | D28: 190000 | E28: 23 | F28: 204500 | G28: 4
A29: Deerfield | B29: 222400 | C29: 37 | D29: 220000 | E29: 36 | F29: 238000 | G29: 1
A30: Epping | B30: 230000 | C30: 83 | D30: 199900 | E30: 62 | F30: 245600 | G30: 21
A31: Fremont | B31: 193000 | C31: 48 | D31: 193000 | E31: 39 | F31: 195895 | G31: 9
A32: Hampstead | B32: 249933 | C32: 70 | D32: 249900 | E32: 63 | F32: 270000 | G32: 7
A33: Kingston | B33: 216200 | C33: 67 | D33: 202000 | E33: 58 | F33: 259900 | G33: 9
A34: Newton | B34: 247900 | C34: 56 | D34: 245000 | E34: 42 | F34: 247933 | G34: 14
... A39: Sandown | B39: 229900 | C39: 74 | D39: 215000 | E39: 54 | F39: 279933 | G39: 20
A40: CEDS Central Towns | B40: =(B23*C23+B24*C24+B25*C25+B26*C26+B27*C27+B28*C28+B29*C29+B30*C30+B31*C31+B32*C32+B33*C33+B34*C34+B35*C35+B36*C36+B37*C37+B38*C38+B39*C39)/C40 -> 236549.24 | C40: =SUM(C23:C39) -> 980 | D40: =(D23*E23+D24*E24+D25*E25+D26*E26+D27*E27+D28*E28+D29*E29+D30*E30+D31*E31+D32*E32+D33*E33+D34*E34+D35*E35+D36*E36+D37*E37+D38*E38+D39*E39)/E40 -> 224557.48 | E40: =SUM(E23:E39) -> 809 | F40: =(F23*G23+F24*G24+F25*G25+F26*G26+F27*G27+F28*G28+F29*G29+F30*G30+F31*G31+F32*G32+F33*G33+F34*G34+F35*G35+F36*G36+F37*G37+F38*G38+F39*G39)/G40 -> 277692.81 | G40: =SUM(G23:G39) -> 171
A41: Derry | B41: 197000 | C41: 303 | D41: 195000 | E41: 276 | F41: 250000 | G41: 27
A42: Hudson | B42: 222000 | C42: 214 | D42: 220000 | E42: 195 | F42: 299950 | G42: 19
A43: Litchfield | B43: 235000 | C43: 83 | D43: 215000 | E43: 66 | F43: 283000 | G43: 17
A44: Londonderry | B44: 235000 | C44: 233 | D44: 220000 | E44: 207 | F44: 329900 | G44: 26
A45: Merrimack | B45: 208500 | C45: 347 | D45: 202500 | E45: 337 | F45: 279900 | G45: 10
A46: Nashua | B46: 193333 | C46: 676 | D46: 190000 | E46: 633 | F46: 287000 | G46: 43
A47: Pelham | B47: 285000 | C47: 111 | D47: 274900 | E47: 91 | F47: 330000 | G47: 20
A48: Salem | B48: 238000 | C48: 226 | D48: 229300 | E48: 203 | F48: 305000 | G48: 23
A49: Windham | B49: 360000 | C49: 187 | D49: 359900 | E49: 157 | F49: 382333 | G49: 30
A50: CEDS Western Towns | B50: =(B41*C41+B42*C42+B43*C43+B44*C44+B45*C45+B46*C46+B47*C47+B48*C48+B49*C49)/C50 -> 225733.03 | C50: =SUM(C41:C49) -> 2380 | D50: =(D41*E41+D42*E42+D43*E43+D44*E44+D45*E45+D46*E46+D47*E47+D48*E48+D49*E49)/E50 -> 218489.88 | E50: =SUM(E41:E49) -> 2165 | F50: =(F41*G41+F42*G42+F43*G43+F44*G44+F45*G45+F46*G46+F47*G47+F48*G48+F49*G49)/G50 -> 307267.16 | G50: =SUM(G41:G49) -> 215
A51: REDC REGION | B51: =(B50*C50+B40*C40+B22*C22)/C51 -> 255043.48 | C51: =SUM(C50,C40,C22) -> 4549 | D51: =(D50*E50+D40*E40+D22*E22)/E51 -> 245982.81 | E51: =SUM(E50,E40,E22) -> 4022 | F51: =(F50*G50+F40*G40+F22*G22)/G51 -> 312076.11 | G51: =SUM(G50,G40,G22) -> 527
A52: Hillsborough County | B52: 209900 | C52: 3633 | D52: 203000 | E52: 3374 | F52: 281594 | G52: 259
A53: Rockingham County | B53: 255000 | C53: 3118 | D53: 247900 | E53: 2700 | F53: 299933 | G53: 418
A54: New Hamsphire | B54: 205000 | C54: 11693 | D54: 199000 | E54: 10790 | F54: 280000 | G54: 903

Sheet B5_NHA data 2011
A1: 2011 Data | D1: SAMPLE SIZE OF 0
A2: ** CEDS SUBREGION averages are weighted averages.
B4: All Homes | D4: Existing Homes | F4: New Homes
A5: Town/Area | B5: Median Purchase Price | C5: Sample Size | D5: Median Purchase Price | E5: Sample Size | F5: Median Purchase Price | G5: Sample Size
A6: East Kingston | B6: 292500 | C6: 15 | D6: 290000 | E6: 13 | F6: 340000 | G6: 2
A7: Exeter | B7: 262000 | C7: 135 | D7: 260000 | E7: 121 | F7: 275000 | G7: 14
A8: Greenland | B8: 360000 | C8: 43 | D8: 360000 | E8: 34 | F8: 342500 | G8: 9
A9: Hampton | B9: 279500 | C9: 139 | D9: 275000 | E9: 129 | F9: 363766 | G9: 10
A10: Hampton Falls | B10: 305000 | C10: 16 | D10: 305000 | E10: 16 | F10: n/a | G10: n/a
A11: Kensington | B11: 285000 | C11: 18 | D11: 285000 | E11: 18 | F11: n/a | G11: n/a
A12: New Castle | B12: 1100000 | C12: 15 | D12: 1100000 | E12: 15 | F12: n/a | G12: n/a
A13: Newfields | B13: 254933 | C13: 6 | D13: 254933 | E13: 6 | F13: n/a | G13: n/a
A14: Newington | B14: 400000 | C14: 3 | D14: 400000 | E14: 3 | F14: n/a | G14: n/a
A15: Newmarket | B15: 220000 | C15: 76 | D15: 218225 | E15: 74 | F15: 266500 | G15: 2
A16: North Hampton | B16: 400000 | C16: 38 | D16: 385000 | E16: 34 | F16: 438300 | G16: 4
A17: Portsmouth | B17: 310000 | C17: 201 | D17: 310000 | E17: 187 | F17: 389900 | G17: 14
A18: Rye | B18: 495000 | C18: 68 | D18: 495000 | E18: 67 | F18: 900000 | G18: 1
A19: Seabrook | B19: 250000 | C19: 42 | D19: 238000 | E19: 28 | F19: 379900 | G19: 14
A20: South Hampton | B20: 299900 | C20: 3 | D20: 299900 | E20: 3 | F20: n/a | G20: n/a
A21: Stratham | B21: 292000 | C21: 85 | D21: 257500 | E21: 78 | F21: 385000 | G21: 7
A22: CEDS Eastern Towns | B22: =(B6*C6+B7*C7+B8*C8+B9*C9+B10*C10+B11*C11+B12*C12+B13*C13+B14*C14+B15*C15+B16*C16+B17*C17+B18*C18+B19*C19+B20*C20+B21*C21)/C22 -> 318313.73 | C22: =SUM(C6:C21) -> 903 | D22: =(D6*E6+D7*E7+D8*E8+D9*E9+D10*E10+D11*E11+D12*E12+D13*E13+D14*E14+D15*E15+D16*E16+D17*E17+D18*E18+D19*E19+D20*E20+D21*E21)/E22 -> 315020.52 | E22: =SUM(E6:E21) -> 826 | F22: =(F6*G6+F7*G7+F8*G8+F9*G9+F15*G15+F16*G16+F17*G17+F19*G19+F21*G21)/G22 -> 350760.52 | G22: =SUM(G6:G21) -> 77
A23: Atkinson | B23: 237000 | C23: 67 | D23: 237000 | E23: 62 | F23: 219500 | G23: 5
A24: Auburn | B24: 315000 | C24: 59 | D24: 260000 | E24: 41 | F24: 409800 | G24: 16
A25: Brentwood | B25: 330000 | C25: 49 | D25: 330000 | E25: 37 | F25: 284264 | G25: 12
A26: Candia | B26: 265000 | C26: 34 | D26: 258900 | E26: 32 | F26: 300000 | G26: 2
A27: Chester | B27: 269000 | C27: 48 | D27: 283000 | E27: 37 | F27: 255000 | G27: 11
A28: Danville | B28: 239900 | C28: 25 | D28: 210100 | E28: 16 | F28: 299700 | G28: 9
A29: Deerfield | B29: 224900 | C29: 57 | D29: 211500 | E29: 43 | F29: 234000 | G29: 14
A30: Epping | B30: 230000 | C30: 70 | D30: 189000 | E30: 47 | F30: 256500 | G30: 23
A31: Fremont | B31: 204000 | C31: 53 | D31: 187520 | E31: 41 | F31: 204000 | G31: 12
A32: Hampstead | B32: 250000 | C32: 62 | D32: 250000 | E32: 59 | F32: 287000 | G32: 3
A33: Kingston | B33: 195000 | C33: 54 | D33: 183500 | E33: 48 | F33: 230000 | G33: 6
A34: Newton | B34: 231500 | C34: 43 | D34: 210000 | E34: 31 | F34: 248350 | G34: 12
... A39: Sandown | B39: 239000 | C39: 73 | D39: 199900 | E39: 48 | F39: 273200 | G39: 25
A40: CEDS Central Towns | B40: =(B23*C23+B24*C24+B25*C25+B26*C26+B27*C27+B28*C28+B29*C29+B30*C30+B31*C31+B32*C32+B33*C33+B34*C34+B35*C35+B36*C36+B37*C37+B38*C38+B39*C39)/C40 -> 239175.75 | C40: =SUM(C23:C39) -> 928 | D40: =(D23*E23+D24*E24+D25*E25+D26*E26+D27*E27+D28*E28+D29*E29+D30*E30+D31*E31+D32*E32+D33*E33+D34*E34+D35*E35+D36*E36+D37*E37+D38*E38+D39*E39)/E40 -> 223312.81 | E40: =SUM(E23:E39) -> 743 | F40: =(F23*G23+F24*G24+F25*G25+F26*G26+F27*G27+F28*G28+F29*G29+F30*G30+F31*G31+F32*G32+F33*G33+F34*G34+F35*G35+F36*G36+F37*G37+F38*G38+F39*G39)/G40 -> 264644.63 | G40: =SUM(G23:G39) -> 183
A41: Derry | B41: 183900 | C41: 236 | D41: 180000 | E41: 214 | F41: 265000 | G41: 22
A42: Hudson | B42: 224933 | C42: 188 | D42: 215000 | E42: 170 | F42: 319900 | G42: 18
A43: Litchfield | B43: 243000 | C43: 69 | D43: 229900 | E43: 56 | F43: 252533 | G43: 13
A44: Londonderry | B44: 229999 | C44: 194 | D44: 218000 | E44: 184 | F44: 270000 | G44: 10
A45: Merrimack | B45: 214000 | C45: 250 | D45: 210000 | E45: 233 | F45: 318354 | G45: 17
A46: Nashua | B46: 210000 | C46: 557 | D46: 205000 | E46: 520 | F46: 314000 | G46: 37
A47: Pelham | B47: 262300 | C47: 93 | D47: 270000 | E47: 80 | F47: 250000 | G47: 13
A48: Salem | B48: 239900 | C48: 202 | D48: 238000 | E48: 189 | F48: 325000 | G48: 13
A49: Windham | B49: 360000 | C49: 175 | D49: 335000 | E49: 148 | F49: 438000 | G49: 27
A50: CEDS Western Towns | B50: =(B41*C41+B42*C42+B43*C43+B44*C44+B45*C45+B46*C46+B47*C47+B48*C48+B49*C49)/C50 -> 230854.54 | C50: =SUM(C41:C49) -> 1964 | D50: =(D41*E41+D42*E42+D43*E43+D44*E44+D45*E45+D46*E46+D47*E47+D48*E48+D49*E49)/E50 -> 222825.2 | E50: =SUM(E41:E49) -> 1794 | F50: =(F41*G41+F42*G42+F43*G43+F44*G44+F45*G45+F46*G46+F47*G47+F48*G48+F49*G49)/G50 -> 317071.45 | G50: =SUM(G41:G49) -> 170
A51: REDC REGION | B51: =(B50*C50+B40*C40+B22*C22)/C51 -> 253699.79 | C51: =SUM(C50,C40,C22) -> 3795 | D51: =(D50*E50+D40*E40+D22*E22)/E51 -> 245577.39 | E51: =SUM(E50,E40,E22) -> 3363 | F51: =(F50*G50+F40*G40+F22*G22)/G51 -> 300792.27 | G51: =SUM(G50,G40,G22) -> 430
A52: Hillsborough County | B52: 210533 | C52: 3056 | D52: 206000 | E52: 2831 | F52: 300000 | G52: 225
A53: Rockingham County | B53: 250000 | C53: 2636 | D53: 245000 | E53: 2304 | F53: 284318 | G53: 332
A54: New Hamsphire | B54: 207000 | C54: 9843 | D54: 200000 | E54: 9018 | F54: 267500 | G54: 825

Sheet B5 Purchase Prices - Towns
A1: Table B-5: Home Sales Data - REDC CEDS Region | J1: 2009 CEDS Update, Rockingham County, NH | AN1: 2012 CEDS Update | BD1: 2014 CEDS Update | BM1: 2016 CEDS Update | BY1: 2016 CEDS Update | CK1: 2017 CEDS Update | CW1: 2018 CEDS Update | DI1: 2019 CEDS Update | DU1: 2020 CEDS | EG1: 2021 CEDS Update | FN1: Updated October 2026 | FQ1: 2025 CEDS
B5: 2008 All Home Sales | D5: 2008 Existing Home Sales | F5: 2008 New Home Sales | H5: Med. Sales Price Change 07 to 08 | L5: 2009 All Home Sales | N5: 2009 Existing Home Sales | P5: 2009 New Home Sales | R5: Med. Sales Price Change 08 to 09 | V5: 2010 All Home Sales | X5: 2010 Existing Home Sales | Z5: 2010 New Home Sales | AB5: Med. Sales Price Change 09 to 10 | AF5: 2011 All Home Sales* | AH5: 2011 Existing Home Sales* | AJ5: 2011 New Home Sales* | AL5: Med. Sales Price Change 10 to 11 | AP5: 2012 All Home Sales * | AR5: 2012 Existing Home Sales* | AT5: 2012 New Home Sales * | AV5: 2013 All Home Sales | AX5: 2013 Existing Home Sales | AZ5: 2013 New Home Sales | BB5: Med. Sales Price Change 2012 to 2013 | BE5: 2014 All Home Sales | BG5: 2014 Existing Home Sales | BI5: 2014 New Home Sales | BK5: Med. Sales Price Change 2013-2014 | BN5: 2015 All Home Sales | BP5: 2015 Existing Home Sales | BR5: 2015 New Home Sales | BT5: Med. Sales Price Change 2014-2015 | BW5: Med. Sales Price Change 2010-2015 | BZ5: 2016 All Home Sales | CB5: 2016 Existing Home Sales | CD5: 2016 New Home Sales | CF5: Med. Sales Price Change 2015-2016 | CI5: Med. Sales Price Change 2011-2016 | CL5: 2017 All Home Sales | CN5: 2017 Existing Home Sales | CP5: 2017 New Home Sales | CR5: Med. Sales Price Change 2016-2017 | CU5: Med. Sales Price Change 2012-2017 | CX5: 2018 All Home Sales | CZ5: 2018 Existing Home Sales | DB5: 2018 New Home Sales | DD5: Med. Sales Price Change 2017-2018 | DG5: Med. Sales Price Change 2013-2018 | DJ5: 2019 All Home Sales | DL5: 2019 Existing Home Sales | DN5: 2019 New Home Sales | DP5: Med. Sales Price Change 2018-2019 | DS5: Med. Sales Price Change 2014-2019 | DV5: 2020 All Home Sales | DX5: 2020 Existing Home Sales | DZ5: 2020 New Home Sales | EB5: Med. Sales Price Change 2019-2020 | EE5: Med. Sales Price Change 2015-2020 | EH5: 2021 All Home Sales | EJ5: 2021 Existing Home Sales | EL5: 2021 New Home Sales | EN5: 2022 All Home Sales | EP5: 2022 Existing Home Sales | ER5: 2022 New Home Sales | ET5: 2023 All Home Sales | EV5: 2023 Existing Home Sales | EX5: 2023 New Home Sales | EZ5: 2024 All Home Sales | FB5: 2024 Existing Home Sales | FD5: 2024 New Home Sales | FF5: 2025 All Home Sales | FH5: 2025 Existing Home Sales | FJ5: 2025 New Home Sales | FL5: Median Sales Price Change 2024-2025 | FO5: Med. Sales Price Change 2019-2024
A6: Area | B6: Med Sales Price | C6: Sample Size | D6: Med Sales Price | E6: Sample Size | F6: Med Sales Price | G6: Sample Size | H6: All Sales | I6: Existing | J6: New | L6: Med Sales Price | M6: Sample Size | N6: Med Sales Price | O6: Sample Size | P6: Med Sales Price | Q6: Sample Size | R6: All Sales | S6: Existing | T6: New | V6: Med Sales Price | W6: Sample Size | X6: Med Sales Price | Y6: Sample Size | Z6: Med Sales Price | AA6: Sample Size | AB6: All Sales | AC6: Existing | AD6: New | AF6: Med Sales Price | AG6: Sample Size | AH6: Med Sales Price | AI6: Sample Size | AJ6: Med Sales Price | AK6: Sample Size | AL6: All Sales | AM6: Existing | AN6: New | AP6: Med Sales Price | AQ6: Sample Size | AR6: Med Sales Price | AS6: Sample Size | AT6: Med Sales Price | AU6: Sample Size | AV6: Med Sales Price | AW6: Sample Size | AX6: Med Sales Price | AY6: Sample Size | AZ6: Med Sales Price | BA6: Sample Size | BB6: All Sales | BC6: Existing | BD6: New | BE6: Med Sales Price | BF6: Sample Size | BG6: Med Sales Price | BH6: Sample Size | BI6: Med Sales Price | BJ6: Sample Size | BK6: All Sales | BL6: Existing | BM6: New | BN6: Med Sales Price | BO6: Sample Size | BP6: Med Sales Price | BQ6: Sample Size | BR6: Med Sales Price | BS6: Sample Size | BT6: All Sales | BU6: Existing | BV6: New | BW6: All Sales | BX6: Existing | BY6: New | BZ6: Med Sales Price | CA6: Sample Size | CB6: Med Sales Price | CC6: Sample Size | CD6: Med Sales Price | CE6: Sample Size | CF6: All Sales | CG6: Existing | CH6: New | CI6: All Sales | CJ6: Existing | CK6: New | CL6: Med Sales Price | CM6: Sample Size | CN6: Med Sales Price | CO6: Sample Size | CP6: Med Sales Price | CQ6: Sample Size | CR6: All Sales | CS6: Existing | CT6: New | CU6: All Sales | CV6: Existing | CW6: New | CX6: Med Sales Price | CY6: Sample Size | CZ6: Med Sales Price | DA6: Sample Size | DB6: Med Sales Price | DC6: Sample Size | DD6: All Sales | DE6: Existing | DF6: New | DG6: All Sales | DH6: Existing | DI6: New | DJ6: Med Sales Price | DK6: Sample Size | DL6: Med Sales Price | DM6: Sample Size | DN6: Med Sales Price | DO6: Sample Size | DP6: All Sales | DQ6: Existing | DR6: New | DS6: All Sales | DT6: Existing | DU6: New | DV6: Med Sales Price | DW6: Sample Size | DX6: Med Sales Price | DY6: Sample Size | DZ6: Med Sales Price | EA6: Sample Size | EB6: All Sales | EC6: Existing | ED6: New | EE6: All Sales | EF6: Existing | EG6: New | EH6: Med Sales Price | EI6: Sample Size | EJ6: Med Sales Price | EK6: Sample Size | EL6: Med Sales Price | EM6: Sample Size | EN6: Med Sales Price | EO6: Sample Size | EP6: Med Sales Price | EQ6: Sample Size | ER6: Med Sales Price | ES6: Sample Size | ET6: Med Sales Price | EU6: Sample Size | EV6: Med Sales Price | EW6: Sample Size | EX6: Med Sales Price | EY6: Sample Size | EZ6: Med Sales Price | FA6: Sample Size | FB6: Med Sales Price | FC6: Sample Size | FD6: Med Sales Price | FE6: Sample Size | FF6: Med Sales Price | FG6: Number Closed Sales | FH6: Med Sales Price | FI6: Number Closed Sales | FJ6: Med Sales Price | FK6: Number Closed Sales | FL6: All Sales | FM6: Existing | FN6: New | FO6: All Sales | FP6: Existing | FQ6: New
A7: East Kingston | B7: ='B5_NHA data 2008'!B6 -> 367500 | C7: ='B5_NHA data 2008'!C6 -> 18 | D7: ='B5_NHA data 2008'!D6 -> 368000 | E7: ='B5_NHA data 2008'!E6 -> 13 | F7: ='B5_NHA data 2008'!F6 -> 352500 | G7: ='B5_NHA data 2008'!G6 -> 5 | H7: =(B7-'B5_NHA data 2007'!B6)/'B5_NHA data 2007'!B6 -> -0.069620253 | I7: =(D7-'B5_NHA data 2007'!D6)/'B5_NHA data 2007'!D6 -> 0.13931889 | J7: =(F7-'B5_NHA data 2007'!F6)/'B5_NHA data 2007'!F6 -> -0.11852963 | L7: ='B5_NHA data 2009'!B6 -> 270000 | M7: ='B5_NHA data 2009'!C6 -> 31 | N7: ='B5_NHA data 2009'!D6 -> 269000 | O7: ='B5_NHA data 2009'!E6 -> 25 | P7: ='B5_NHA data 2009'!F6 -> 308800 | Q7: ='B5_NHA data 2009'!G6 -> 6 | R7: =(L7-B7)/B7 -> -0.26530612 | S7: =(N7-D7)/D7 -> -0.26902174 | T7: =(P7-F7)/F7 -> -0.12397163 | V7: ='B5_NHA data 2010'!B6 -> 303500 | W7: ='B5_NHA data 2010'!C6 -> 33 | X7: ='B5_NHA data 2010'!D6 -> 303500 | Y7: ='B5_NHA data 2010'!E6 -> 25 | Z7: ='B5_NHA data 2010'!F6 -> 302000 | AA7: ='B5_NHA data 2010'!G6 -> 8 | AB7: =(V7-L7)/L7 -> 0.12407407 | AC7: =(X7-N7)/N7 -> 0.12825279 | AD7: =(Z7-P7)/P7 -> -0.022020725 | AF7: ='B5_NHA data 2011'!B6 -> 292500 | AG7: ='B5_NHA data 2011'!C6 -> 15 | AH7: ='B5_NHA data 2011'!D6 -> 290000 | AI7: ='B5_NHA data 2011'!E6 -> 13 | AJ7: ='B5_NHA data 2011'!F6 -> 340000 | AK7: ='B5_NHA data 2011'!G6 -> 2 | AL7: =(AF7-V7)/V7 -> -0.036243822 | AM7: =(AH7-X7)/X7 -> -0.044481054 | AN7: =(AJ7-Z7)/Z7 -> 0.12582781 | AP7: ='B5_NHA data 2012'!B6 -> 275000 | AQ7: ='B5_NHA data 2012'!C6 -> 31 | AR7: ='B5_NHA data 2012'!D6 -> 239000 | AS7: ='B5_NHA data 2012'!E6 -> 28 | AT7: ='B5_NHA data 2012'!F6 -> 279000 | AU7: ='B5_NHA data 2012'!G6 -> 3 | AV7: ='B5_NHA data 2013'!B6 -> 305000 | AW7: ='B5_NHA data 2013'!C6 -> 34 | AX7: ='B5_NHA data 2013'!D6 -> 297533 | AY7: ='B5_NHA data 2013'!E6 -> 30 | AZ7: ='B5_NHA data 2013'!F6 -> 382175 | BA7: ='B5_NHA data 2013'!G6 -> 4 | BB7: =(AV7-AP7)/AP7 -> 0.10909091 | BC7: =(AX7-AR7)/AR7 -> 0.24490795 | BD7: =(AZ7-AT7)/AT7 -> 0.36980287 | BE7: ='B5_NHA data 2014'!B6 -> 335000 | BF7: ='B5_NHA data 2014'!C6 -> 10 | BG7: ='B5_NHA data 2014'!D6 -> 239533 | BH7: ='B5_NHA data 2014'!E6 -> 7 | BI7: ='B5_NHA data 2014'!F6 -> 384933 | BJ7: ='B5_NHA data 2014'!G6 -> 3 | BK7: =(BE7-AV7)/AV7 -> 0.098360656 | BL7: =(BG7-AX7)/AX7 -> -0.19493636 | BM7: =(BI7-AZ7)/AZ7 -> 0.0072165893 | BN7: ='B5_NHA data 2015'!B6 -> 257166 | BO7: ='B5_NHA data 2015'!C6 -> 42 | BP7: ='B5_NHA data 2015'!D6 -> 257166 | BQ7: ='B5_NHA data 2015'!E6 -> 42 | BR7: ='B5_NHA data 2015'!F6 -> n/a | BS7: ='B5_NHA data 2015'!G6 -> 0 | BT7: =(BN7-BE7)/BE7 -> -0.2323403 | BU7: =(BP7-BG7)/BG7 -> 0.073614074 | BV7: n/a | BW7: =(BN7-V7)/V7 -> -0.15266557 | BX7: =(BP7-X7)/X7 -> -0.15266557 | BY7: n/a | BZ7: ='B5_NHA data 2016'!B7 -> 350000 | CA7: ='B5_NHA data 2016'!C7 -> 51 | CB7: ='B5_NHA data 2016'!D7 -> 350000 | CC7: ='B5_NHA data 2016'!E7 -> 49 | CD7: ='B5_NHA data 2016'!F7 -> 354966 | CE7: ='B5_NHA data 2016'!G7 -> 2 | CF7: =(BZ7-BN7)/BN7 -> 0.36098862 | CG7: =(CB7-BP7)/BP7 -> 0.36098862 | CH7: n/a | CI7: =(BZ7-AF7)/AF7 -> 0.1965812 | CJ7: =(CB7-AH7)/AH7 -> 0.20689655 | CK7: =(CD7-AJ7)/AJ7 -> 0.044017647 | CL7: ='B5_NHA data 2017'!B7 -> 364133 | CM7: ='B5_NHA data 2017'!C7 -> 48 | CN7: ='B5_NHA data 2017'!D7 -> 363266 | CO7: ='B5_NHA data 2017'!E7 -> 47 | CP7: ='B5_NHA data 2017'!F7 -> 387000 | CQ7: ='B5_NHA data 2017'!G7 -> 1 | CR7: =(CL7-BZ7)/BZ7 -> 0.04038 | CS7: =(CN7-CB7)/CB7 -> 0.037902857 | CT7: =(CP7-CD7)/CD7 -> 0.090245263 | CU7: =(CL7-AP7)/AP7 -> 0.32412 | CV7: =(CN7-AR7)/AR7 -> 0.51994142 | CW7: =(CP7-AT7)/AT7 -> 0.38709677 | CX7: ='B5_NHA data 2018'!B7 -> 393000 | CY7: ='B5_NHA data 2018'!C7 -> 30 | CZ7: ='B5_NHA data 2018'!D7 -> 387000 | DA7: ='B5_NHA data 2018'!E7 -> 29 | DB7: ='B5_NHA data 2018'!F7 -> 465000 | DC7: ='B5_NHA data 2018'!G7 -> 1 | DD7: =(CX7-CL7)/CL7 -> 0.079275979 | DE7: =(CZ7-CN7)/CN7 -> 0.065335044 | DF7: =(DB7-CP7)/CP7 -> 0.20155039 | DG7: =(CX7-AV7)/AV7 -> 0.28852459 | DH7: =(CZ7-AX7)/AX7 -> 0.30069606 | DI7: =(DB7-AZ7)/AZ7 -> 0.21672009 | DJ7: ='B5_NHA data 2019'!B7 -> 347000 | DK7: ='B5_NHA data 2019'!C7 -> 19 | DL7: ='B5_NHA data 2019'!D7 -> 347000 | DM7: ='B5_NHA data 2019'!E7 -> 19 | DN7: n/a | DO7: n/a | DP7: =(DJ7-CX7)/CX7 -> -0.11704835 | DQ7: =(DL7-CZ7)/CZ7 -> -0.10335917 | DR7: n/a | DS7: =(DJ7-BE7)/BE7 -> 0.035820896 | DT7: =(DL7-BG7)/BG7 -> 0.44865217 | DU7: n/a | DV7: ='B5_NHA data 2020'!C7 -> 495000 | DW7: ='B5_NHA data 2020'!B7 -> 31 | DX7: ='B5_NHA data 2020'!E7 -> 477500 | DY7: ='B5_NHA data 2020'!D7 -> 30 | DZ7: ='B5_NHA data 2020'!G7 -> 527400 | EA7: ='B5_NHA data 2020'!F7 -> 1 | EB7: =(DV7-DJ7)/DJ7 -> 0.42651297 | EC7: =(DX7-DL7)/DL7 -> 0.37608069 | ED7: n/a | EE7: =(DV7-BN7)/BN7 -> 0.92482677 | EF7: =(DX7-BP7)/BP7 -> 0.85677733 | EG7: n/a | EH7: ='B5_NHA data 2021'!C7 -> 468375 | EI7: ='B5_NHA data 2021'!B7 -> 38 | EJ7: ='B5_NHA data 2021'!E7 -> 468375 | EK7: ='B5_NHA data 2021'!D7 -> 38 | EL7: n/a | EM7: ='B5_NHA data 2021'!F7 -> 0 | EN7: ='B5_NHA data 2022'!C7 -> 665000 | EO7: ='B5_NHA data 2022'!B7 -> 15 | EP7: ='B5_NHA data 2022'!E7 -> 665000 | EQ7: ='B5_NHA data 2022'!D7 -> 15 | ER7: n/a | ES7: ='B5_NHA data 2022'!F7 -> 0 | ET7: 480000 | EU7: 34 | EV7: 480000 | EW7: 32 | EX7: 500000 | EY7: 2 | EZ7: 563000 | FA7: 25 | FB7: 545000 | FC7: 19 | FD7: 642000 | FE7: 6 | FF7: 722450 | FG7: 22 | FH7: 687500 | FI7: 19 | FJ7: 1110000 | FK7: 3 | FL7: =(FF7-EZ7)/EZ7 -> 0.28321492 | FM7: =(FH7-FB7)/FB7 -> 0.26146789 | FN7: =(FJ7-FD7)/FD7 -> 0.72897196 | FO7: =(EZ7-DJ7)/DJ7 -> 0.62247839 | FP7: =(FB7-DL7)/DL7 -> 0.57060519 | FQ7: n/a
A8: Exeter | B8: ='B5_NHA data 2008'!B7 -> 305000 | C8: ='B5_NHA data 2008'!C7 -> 114 | D8: ='B5_NHA data 2008'!D7 -> 300000 | E8: ='B5_NHA data 2008'!E7 -> 103 | F8: ='B5_NHA data 2008'!F7 -> 369933 | G8: ='B5_NHA data 2008'!G7 -> 11 | H8: =(B8-'B5_NHA data 2007'!B7)/'B5_NHA data 2007'!B7 -> 0.089285714 | I8: =(D8-'B5_NHA data 2007'!D7)/'B5_NHA data 2007'!D7 -> 0.19047619 | J8: =(F8-'B5_NHA data 2007'!F7)/'B5_NHA data 2007'!F7 -> 0.14176852 | L8: ='B5_NHA data 2009'!B7 -> 235000 | M8: ='B5_NHA data 2009'!C7 -> 160 | N8: ='B5_NHA data 2009'!D7 -> 227533 | O8: ='B5_NHA data 2009'!E7 -> 149 | P8: ='B5_NHA data 2009'!F7 -> 348900 | Q8: ='B5_NHA data 2009'!G7 -> 11 | R8: =(L8-B8)/B8 -> -0.2295082 | S8: =(N8-D8)/D8 -> -0.24155667 | T8: =(P8-F8)/F8 -> -0.056856242 | V8: ='B5_NHA data 2010'!B7 -> 262500 | W8: ='B5_NHA data 2010'!C7 -> 142 | X8: ='B5_NHA data 2010'!D7 -> 247000 | Y8: ='B5_NHA data 2010'!E7 -> 125 | Z8: ='B5_NHA data 2010'!F7 -> 305000 | AA8: ='B5_NHA data 2010'!G7 -> 17 | AB8: =(V8-L8)/L8 -> 0.11702128 | AC8: =(X8-N8)/N8 -> 0.08555682 | AD8: =(Z8-P8)/P8 -> -0.12582402 | AF8: ='B5_NHA data 2011'!B7 -> 262000 | AG8: ='B5_NHA data 2011'!C7 -> 135 | AH8: ='B5_NHA data 2011'!D7 -> 260000 | AI8: ='B5_NHA data 2011'!E7 -> 121 | AJ8: ='B5_NHA data 2011'!F7 -> 275000 | AK8: ='B5_NHA data 2011'!G7 -> 14 | AL8: =(AF8-V8)/V8 -> -0.0019047619 | AM8: =(AH8-X8)/X8 -> 0.052631579 | AN8: =(AJ8-Z8)/Z8 -> -0.098360656 | AP8: ='B5_NHA data 2012'!B7 -> 252000 | AQ8: ='B5_NHA data 2012'!C7 -> 191 | AR8: ='B5_NHA data 2012'!D7 -> 242000 | AS8: ='B5_NHA data 2012'!E7 -> 152 | AT8: ='B5_NHA data 2012'!F7 -> 286650 | AU8: ='B5_NHA data 2012'!G7 -> 39 | AV8: ='B5_NHA data 2013'!B7 -> 265000 | AW8: ='B5_NHA data 2013'!C7 -> 189 | AX8: ='B5_NHA data 2013'!D7 -> 255900 | AY8: ='B5_NHA data 2013'!E7 -> 170 | AZ8: ='B5_NHA data 2013'!F7 -> 335000 | BA8: ='B5_NHA data 2013'!G7 -> 19 | BB8: =(AV8-AP8)/AP8 -> 0.051587302 | BC8: =(AX8-AR8)/AR8 -> 0.057438017 | BD8: =(AZ8-AT8)/AT8 -> 0.1686726 | BE8: ='B5_NHA data 2014'!B7 -> 253000 | BF8: ='B5_NHA data 2014'!C7 -> 171 | BG8: ='B5_NHA data 2014'!D7 -> 245000 | BH8: ='B5_NHA data 2014'!E7 -> 157 | BI8: ='B5_NHA data 2014'!F7 -> 344533 | BJ8: ='B5_NHA data 2014'!G7 -> 14 | BK8: =(BE8-AV8)/AV8 -> -0.045283019 | BL8: =(BG8-AX8)/AX8 -> -0.042594764 | BM8: =(BI8-AZ8)/AZ8 -> 0.028456716 | BN8: ='B5_NHA data 2015'!B7 -> 290000 | BO8: ='B5_NHA data 2015'!C7 -> 278 | BP8: ='B5_NHA data 2015'!D7 -> 275000 | BQ8: ='B5_NHA data 2015'!E7 -> 251 | BR8: ='B5_NHA data 2015'!F7 -> 354933 | BS8: ='B5_NHA data 2015'!G7 -> 27 | BT8: =(BN8-BE8)/BE8 -> 0.14624506 | BU8: =(BP8-BG8)/BG8 -> 0.12244898 | BV8: =(BR8-BI8)/BI8 -> 0.030185788 | BW8: =(BN8-V8)/V8 -> 0.1047619 | BX8: =(BP8-X8)/X8 -> 0.11336032 | BY8: =(BR8-Z8)/Z8 -> 0.16371475 | BZ8: ='B5_NHA data 2016'!B8 -> 309000 | CA8: ='B5_NHA data 2016'!C8 -> 303 | CB8: ='B5_NHA data 2016'!D8 -> 290000 | CC8: ='B5_NHA data 2016'!E8 -> 269 | CD8: ='B5_NHA data 2016'!F8 -> 365466 | CE8: ='B5_NHA data 2016'!G8 -> 34 | CF8: =(BZ8-BN8)/BN8 -> 0.065517241 | CG8: =(CB8-BP8)/BP8 -> 0.054545455 | CH8: =(CD8-BR8)/BR8 -> 0.029676023 | CI8: =(BZ8-AF8)/AF8 -> 0.17938931 | CJ8: =(CB8-AH8)/AH8 -> 0.11538462 | CK8: =(CD8-AJ8)/AJ8 -> 0.32896727 | CL8: ='B5_NHA data 2017'!B8 -> 320000 | CM8: ='B5_NHA data 2017'!C8 -> 291 | CN8: ='B5_NHA data 2017'!D8 -> 300000 | CO8: ='B5_NHA data 2017'!E8 -> 251 | CP8: ='B5_NHA data 2017'!F8 -> 370000 | CQ8: ='B5_NHA data 2017'!G8 -> 40 | CR8: =(CL8-BZ8)/BZ8 -> 0.035598706 | CS8: =(CN8-CB8)/CB8 -> 0.034482759 | CT8: =(CP8-CD8)/CD8 -> 0.012406079 | CU8: =(CL8-AP8)/AP8 -> 0.26984127 | CV8: =(CN8-AR8)/AR8 -> 0.23966942 | CW8: =(CP8-AT8)/AT8 -> 0.29077272 | CX8: ='B5_NHA data 2018'!B8 -> 339000 | CY8: ='B5_NHA data 2018'!C8 -> 252 | CZ8: ='B5_NHA data 2018'!D8 -> 325000 | DA8: ='B5_NHA data 2018'!E8 -> 235 | DB8: ='B5_NHA data 2018'!F8 -> 422000 | DC8: ='B5_NHA data 2018'!G8 -> 17 | DD8: =(CX8-CL8)/CL8 -> 0.059375 | DE8: =(CZ8-CN8)/CN8 -> 0.083333333 | DF8: =(DB8-CP8)/CP8 -> 0.14054054 | DG8: =(CX8-AV8)/AV8 -> 0.27924528 | DH8: =(CZ8-AX8)/AX8 -> 0.27002735 | DI8: =(DB8-AZ8)/AZ8 -> 0.25970149 | DJ8: ='B5_NHA data 2019'!B8 -> 361500 | DK8: ='B5_NHA data 2019'!C8 -> 262 | DL8: ='B5_NHA data 2019'!D8 -> 361500 | DM8: ='B5_NHA data 2019'!E8 -> 262 | DN8: n/a | DO8: n/a | DP8: =(DJ8-CX8)/CX8 -> 0.066371681 | DQ8: =(DL8-CZ8)/CZ8 -> 0.11230769 | DR8: n/a | DS8: =(DJ8-BE8)/BE8 -> 0.42885375 | DT8: =(DL8-BG8)/BG8 -> 0.4755102 | DU8: n/a | DV8: ='B5_NHA data 2020'!C8 -> 389466 | DW8: ='B5_NHA data 2020'!B8 -> 276 | DX8: ='B5_NHA data 2020'!E8 -> 390000 | DY8: ='B5_NHA data 2020'!D8 -> 260 | DZ8: ='B5_NHA data 2020'!G8 -> 352000 | EA8: ='B5_NHA data 2020'!F8 -> 16 | EB8: =(DV8-DJ8)/DJ8 -> 0.077360996 | EC8: =(DX8-DL8)/DL8 -> 0.078838174 | ED8: n/a | EE8: =(DV8-BN8)/BN8 -> 0.34298621 | EF8: =(DX8-BP8)/BP8 -> 0.41818182 | EG8: =(DZ8-BR8)/BR8 -> -0.0082635314 | EH8: ='B5_NHA data 2021'!C8 -> 422533 | EI8: ='B5_NHA data 2021'!B8 -> 284 | EJ8: ='B5_NHA data 2021'!E8 -> 409400 | EK8: ='B5_NHA data 2021'!D8 -> 258 | EL8: ='B5_NHA data 2021'!G8 -> 458333 | EM8: ='B5_NHA data 2021'!F8 -> 29 | EN8: ='B5_NHA data 2022'!C8 -> 499966 | EO8: ='B5_NHA data 2022'!B8 -> 258 | EP8: ='B5_NHA data 2022'!E8 -> 499000 | EQ8: ='B5_NHA data 2022'!D8 -> 253 | ER8: ='B5_NHA data 2022'!G8 -> 549933 | ES8: ='B5_NHA data 2022'!F8 -> 5 | ET8: 507266 | EU8: 302 | EV8: 499000 | EW8: 267 | EX8: 619933 | EY8: 35 | EZ8: 522500 | FA8: 168 | FB8: 519500 | FC8: 140 | FD8: 537500 | FE8: 28 | FF8: 545000 | FG8: 191 | FH8: 540000 | FI8: 165 | FJ8: 1304785 | FK8: 26 | FL8: =(FF8-EZ8)/EZ8 -> 0.043062201 | FM8: =(FH8-FB8)/FB8 -> 0.03946102 | FN8: =(FJ8-FD8)/FD8 -> 1.427507 | FO8: =(EZ8-DJ8)/DJ8 -> 0.44536653 | FP8: =(FB8-DL8)/DL8 -> 0.43706777 | FQ8: n/a
